Workbook

Sheet Input
A1: Streamflow | H1: Current (2010) Consumptive Use M&I | Z1: Consumptive Use (2010) Agriculture | AE1: Consumptive Use (2030) M&I | AJ1: Consumptive Use (2030) Agriculture | AM1: Available Water
H2: Wind Bighorn Basin (Scroll down for more basins) | Z2: Wind Bighorn Basin (Scroll down for more basins) | AE2: Wind Bighorn Basin (Scroll down for more basins) | AJ2: Wind Bighorn River Basin (Scroll down for more basins) | AM2: Wind Bighorn River Basin (Scroll down for more basins)
H3: Municipal | K3: Domestic | O3: Industrial | Z3: Agriculture | AE3: Municipal and Domestic | AG3: Industrial | AJ3: Agriculture | AM3: Subbasin | AN3: HUC 8 | AO3: Reach # | AP3: Reach Name | AQ3: Available Flow
A4: HUC 8 | B4: Station # | C4: P1 CFS | D4: P5 CFS | E4: P10 CFS | F4: P20 CFS | G4: Avg CFS | H4: Water System/ Location | I4: Withdrawal gpd (by location) | J4: CU % | K4: HUC 8 | L4: Estimated Domestic Pop by County | M4: Domestic Gallons per capita per day (Average 150 & 300 gpcpd) | N4: Consumptive Use % | O4: County | P4: Industrial GW Wdwls mgd (Fresh) | Q4: Mining GW Wdwls mgd (Fresh) | R4: Mining GW Wdwls mgd (Saline) | S4: Industrial SW Wdwls mgd (Fresh) | T4: Mining SW Wdwls mgd (Fresh) | U4: Industrial CU % Total GW Use (Fresh) | V4: Mining CU% Total GW Use (Fresh) | W4: Mining CU % Total GW Use (Saline) | X4: Industrial SW Consumptive Use | Y4: Mining SW Consumptive Use | Z4: HUC 8 | AA4: Basin Annual CIR AFY | AB4: Basin Stock Water Use from Report AFY | AE4: 2020 CU AFY by Basin | AF4: 2020 New Requirements AFY by Basin | AG4: Year | AH4: Mining CU | AI4: Industry CU | AJ4: 2020 Full Supply Diversions AFY (Medium Scenario) | AK4: 2040 Full Supply Diversions AFY (Medium Scenario) | AQ4: Dry | AR4: Average | AS4: Wet
A5: 10020007 | B5: 6037100 | C5: 79 | D5: 81 | E5: 84 | F5: 87 | G5: 121.407 | H5: Basin | I5: 178082 | J5: 0.41 | K5: 10080007 | L5: 598 | M5: 225 | N5: 0.41 | O5: Big Horn | P5: 0 | Q5: 0.43 | R5: 17.35 | S5: 0.03 | T5: 0.15 | U5: 0.15 | V5: 0.33 | W5: 0.2 | X5: 67 | Y5: 66 | Z5: 10020007 | AA5: 1178607 | AB5: 6370 | AE5: 7170 | AF5: 500 | AG5: 2020 | AH5: 26500 | AI5: 150 | AJ5: 3155900 | AK5: 3156000 | AM5: Yellowstone | AN5: 10020007 | AO5: 600 | AP5: Madison River | AQ5: 327292 | AR5: 362240 | AS5: 428664
A6: 10020008 | H6: Manderson | I6: 0 | J6: 0.41 | K6: 10080008 | L6: 598 | M6: 225 | N6: 0.41 | O6: Fremont | P6: 0.11 | Q6: 0 | R6: 6.29 | S6: 0.07 | T6: 0 | U6: 0.16 | V6: 0.32 | W6: 0.21 | X6: 67 | Y6: 66 | Z6: 10020008 | AA6: 1178607 | AB6: 6370 | AG6: 2040 | AH6: 45500 | AI6: 290 | AJ6: Snake Salt River Basin (Scroll down for more basins) | AN6: 10020008 | AO6: 800 | AP6: Gallatin River | AQ6: 484920 | AR6: 606325 | AS6: 697306
A7: 10070001 | B7: 6188000 | C7: 70 | D7: 85 | E7: 90 | F7: 110 | G7: 879.089 | H7: South Big Horn Co. JPB | I7: 213699 | J7: 0.41 | K7: 10080009 | L7: 598 | M7: 225 | N7: 0.41 | O7: Hot Springs | P7: 0 | Q7: 0 | R7: 12.67 | S7: 0 | T7: 0 | U7: 0.21 | V7: 0.33 | W7: 0.21 | X7: 67 | Y7: 66 | Z7: 10070001 | AA7: 1178607 | AB7: 6370 | AE7: Snake Salt River Basin (Scroll down for more basins) | AJ7: Agriculture | AN7: 10070001 | AO7: 500 | AP7: Yellowstone River below Lamar River Confluence | AQ7: 1610549 | AR7: 2064723 | AS7: 2524621
A8: 10070002 | H8: Hyatville WC | I8: 2740 | J8: 0.41 | K8: 10080010 | L8: 598 | M8: 225 | N8: 0.41 | O8: Park | P8: 0.07 | Q8: 0 | R8: 43.05 | S8: 0.04 | T8: 0 | U8: 0.2 | V8: 0.3 | W8: 0.21 | X8: 67 | Y8: 66 | Z8: 10070002 | AA8: 1178607 | AB8: 6370 | AE8: Municipal and Domestic | AG8: Industrial | AJ8: 2032 Agricultural CU AFY by Basin | AN8: 10070002 | AP8: No reaches are found within this HUC | AQ8: 0 | AR8: 0 | AS8: 0
A9: 10070006 | B9: 6207000 | C9: 140 | D9: 150 | E9: 160 | F9: 170 | G9: 895.282 | H9: Burlington | I9: 328767 | J9: 0.41 | K9: 10080011 | L9: 598 | M9: 225 | N9: 0.41 | O9: Washakie | P9: 0.02 | Q9: 0.09 | R9: 1.49 | S9: 0.26 | T9: 0.03 | U9: 0.15 | V9: 0.32 | W9: 0.21 | X9: 67 | Y9: 66 | Z9: 10070006 | AA9: 1178607 | AB9: 6370 | AE9: County | AF9: 2032 CU AFY Mid by County (Normal Year) | AG9: Entity | AH9: Estimated 2030 Use AFY | AJ9: 107446 | AM9: Clarks Fork | AN9: 10070006 | AO9: 300 | AP9: Clarks Fork River below Bennett Creek Confluence | AQ9: 338022 | AR9: 420270 | AS9: 498294
A10: 10080001 | B10: 6236100 | C10: 152.68 | D10: 242 | E10: 310 | F10: 400 | G10: 1096.788 | H10: Airport Bench Water & Sewer District | I10: 10406 | J10: 0.41 | K10: 10080014 | L10: 598 | M10: 225 | N10: 0.41 | Z10: 10080001 | AA10: 1178607 | AB10: 6370 | AE10: Lincoln | AF10: 4387 | AG10: Star Valley Cheese Corporation | AH10: 16 | AJ10: Powder Tongue River Basin (Scroll down for more basins) | AM10: Wind | AN10: 10080001 | AO10: 400 | AP10: Wind River from Bull Lake Creek to Little Wind | AQ10: 0 | AR10: 0 | AS10: 0
A11: 10080002 | B11: 6235500 | C11: 58 | D11: 114 | E11: 140 | F11: 172 | G11: 565.278 | H11: Greybull | I11: 1000000 | J11: 0.41 | K11: 10080001 | L11: 17504 | M11: 225 | N11: 0.41 | Z11: 10080002 | AA11: 1178607 | AB11: 6370 | AE11: Teton | AF11: 7156 | AG11: Northern Foods | AH11: 24 | AJ11: Agriculture | AN11: 10080002 | AO11: 500 | AP11: Little Wind River | AQ11: 0 | AR11: 0 | AS11: 0
A12: 10080003 | B12: 6233900 | C12: 43 | D12: 76 | E12: 90 | F12: 106 | G12: 333.212 | H12: Shell Valley, West Water & Sewer | I12: 0 | J12: 0.41 | K12: 10080002 | L12: 17504 | M12: 225 | N12: 0.41 | Z12: 10080003 | AA12: 1178607 | AB12: 6370 | AG12: Water Star Bottling Company | AH12: 8 | AJ12: 2030 Irrigation CU AFY by Basin | AN12: 10080003 | AO12: 580 | AP12: Popo Agie River | AQ12: 126384 | AR12: 229330 | AS12: 326104
A13: 10080004 | B13: 6239000 | C13: 0 | D13: 0 | E13: 0 | F13: 0 | G13: 3.546 | H13: Shell Water Users, Inc. | I13: 0 | J13: 0.41 | K13: 10080003 | L13: 17504 | M13: 225 | N13: 0.41 | Z13: 10080004 | AA13: 1178607 | AB13: 6370 | AG13: Smoky Canyon Mine | AH13: 871.266 | AJ13: 194400 | AN13: 10080004 | AO13: 640 | AP13: Muskrat Creek | AQ13: 17278 | AR13: 15684 | AS13: 15763
A14: 10080005 | B14: 6259000 | C14: 295 | D14: 358.1 | E14: 596 | F14: 840 | G14: 1398.102 | H14: Byron, Town of | I14: 60000 | J14: 0.41 | K14: 10080004 | L14: 17504 | M14: 225 | N14: 0.41 | Z14: 10080005 | AA14: 1178607 | AB14: 6370 | AE14: Powder Tongue River Basin (Scroll down for more basins) | AJ14: Platte River Basin (Scroll down for more basins) | AN14: 10080005 | AO14: 600 | AP14: Wind River from Little Wind Confluence to Boysen Reservoir | AQ14: 368451 | AR14: 723990 | AS14: 984337
A15: 10080006 | B15: 6257000 | C15: 0 | D15: 0 | E15: 0 | F15: 0 | G15: 23.171 | H15: Cowley | I15: 0 | J15: 0.41 | K15: 10080005 | L15: 17504 | M15: 225 | N15: 0.41 | Z15: 10080006 | AA15: 1178607 | AB15: 6370 | AE15: Municipal and Domestic | AJ15: Agriculture | AN15: 10080006 | AO15: 800 | AP15: Badwater Creek | AQ15: 0 | AR15: 0 | AS15: 0
A16: 10080007 | B16: 6274300 | C16: 383 | D16: 518 | E16: 589 | F16: 720 | G16: 1626.453 | H16: Deaver Municipal Water System | I16: 32529 | J16: 0.41 | K16: 10080006 | L16: 17504 | M16: 225 | N16: 0.41 | Z16: 10080007 | AA16: 1178607 | AB16: 6370 | AE16: 2030 Population Mid Scenario Domestic Total | AF16: Domestic Gallons per capita per day (Average 150 & 300 gpcpd) | AG16: Municipality | AH16: 2030 Use gpd Mid Scenario | AJ16: Subbasin | AK16: Future (2035) Livestock CU AFY | AM16: Bighorn | AN16: 10080007 | AO16: 900 | AP16: Bighorn River from Nowood River to USGS gage | AQ16: 802761 | AR16: 1172511 | AS16: 1700980
A17: 10080008 | B17: 6274000 | C17: 37.3 | D17: 92.5 | E17: 140 | F17: 170 | G17: 494.523 | H17: Frannie, Town of | I17: 30137 | J17: 0.41 | K17: 10080005 | L17: 333 | M17: 225 | N17: 0.41 | Z17: 10080008 | AA17: 1178607 | AB17: 6370 | AE17: 18088 | AF17: 225 | AG17: Clearmont | AH17: 30609 | AJ17: Above Pathfinder | AK17: 1200 | AN17: 10080008 | AO17: 800 | AP17: Nowood River from Paint Rock Creek to Bighorn River | AQ17: 248963 | AR17: 316886 | AS17: 374819
A18: 10080009 | B18: 6277500 | C18: 0.7 | D18: 5.1 | E18: 10 | F18: 27 | G18: 180.406 | H18: Lovell, Town of | I18: 222000 | J18: 0.41 | K18: 10080007 | L18: 333 | M18: 225 | N18: 0.41 | Z18: 10080009 | AA18: 1178607 | AB18: 6370 | AG18: Kaycee | AH18: 69831 | AJ18: Pathfinder to Guernsey | AK18: 1800 | AN18: 10080009 | AO18: 1400 | AP18: Greybull River below Roach Gulch | AQ18: 0 | AR18: 0 | AS18: 0
A19: 10080010 | B19: 6279500 | C19: 390.51 | D19: 620 | E19: 743.1 | F19: 960 | G19: 2184.59 | H19: B&K Mobile Home Park | I19: 0 | J19: 0.41 | K19: 10080008 | L19: 18 | M19: 225 | N19: 0.41 | Z19: 10080010 | AA19: 1178607 | AB19: 6370 | AG19: Ranchester | AH19: 239906 | AJ19: Upper Laramie | AK19: 600 | AN19: 10080010 | AO19: 1700 | AP19: Bighorn River at Yellowtail | AQ19: 902512 | AR19: 1331142 | AS19: 1886436
A20: 10080011 | B20: 6278000 | C20: 0 | D20: 2 | E20: 4 | F20: 6 | G20: 26.074 | H20: Cozy Mobile Home Park | I20: 0 | J20: 0.41 | K20: 10080005 | L20: 78 | M20: 225 | N20: 0.41 | Z20: 10080011 | AA20: 1178607 | AB20: 6370 | AG20: Dayton | AH20: 203175 | AJ20: Northeast River Basins (Scroll down fore more basins) | AN20: 10080011 | AO20: 1550 | AP20: Dry Creek | AQ20: 21686 | AR20: 20867 | AS20: 18355
A21: 10080012 | B21: 6280000 | C21: 90 | D21: 129.3 | E21: 144 | F21: 165 | G21: 864.141 | H21: Dubois Water System | I21: 211992 | J21: 0.41 | K21: 10080006 | L21: 78 | M21: 225 | N21: 0.41 | Z21: 10080012 | AA21: 1178607 | AB21: 6370 | AG21: Buffalo | AH21: 1652855 | AJ21: Agriculture | AN21: 10080012 | AO21: 2100 | AP21: North Fork Shoshone River below Wapiti | AQ21: 324952 | AR21: 476366 | AS21: 571620
A22: 10080013 | B22: 6281000 | C22: 0.29 | D22: 5 | E22: 22 | F22: 77 | G22: 387.144 | H22: First Fike Subdivision | I22: 0 | J22: 0.41 | K22: 10070001 | L22: 6122 | M22: 225 | N22: 0.41 | Z22: 10080013 | AA22: 1178607 | AB22: 6370 | AG22: Sheridan | AH22: 6178068 | AJ22: 2030 SW CU AFY by Basin | AN22: 10080013 | AO22: 1900 | AP22: South Fork Shoshone River below Bob Cat Creek | AQ22: 179299 | AR22: 292339 | AS22: 406277
A23: 10080014 | B23: 6286200 | C23: 226 | D23: 342 | E23: 450 | F23: 610 | G23: 1139.099 | H23: Gardens North Homeowners Association | I23: 35068 | J23: 0.41 | K23: 10070006 | L23: 6122 | M23: 225 | N23: 0.41 | Z23: 10080014 | AA23: 1178607 | AB23: 6370 | AE23: Platte River Basin (Scroll down for more basins) | AJ23: 72800 | AN23: 10080014 | AO23: 2500 | AP23: Shoshone River below Bitter Creek | AQ23: 569919 | AR23: 855715 | AS23: 1023558
A24: 10080016 | B24: 6289600 | C24: 3.8 | D24: 4.6 | E24: 5.2 | F24: 6 | G24: 11.724 | H24: Mountain View Acres | I24: 0 | J24: 0.41 | K24: 10080007 | L24: 6122 | M24: 225 | N24: 0.41 | Z24: Snake Salt River Basin (Scroll down for more basins) | AE24: Municpal and Domestic | AG24: Industrial | AJ24: Green River Basin (Scroll down for more basins) | AM24: Snake Salt River Basin (Scroll down for more basins)
A25: 10090101 | B25: 6306000 | C25: 23 | D25: 63 | E25: 90 | F25: 120 | G25: 402.639 | H25: Redd Fox Park HOA | I25: 0 | J25: 0.41 | K25: 10080009 | L25: 6122 | M25: 225 | N25: 0.41 | Z25: Agriculture | AE25: Subbasin | AF25: 2030 CU AFY by Basin | AG25: Subbasin | AH25: 2030 CU AFY by Subbasin | AJ25: Agriculture | AM25: Subbasin | AN25: HUC 8 | AO25: Reach # | AP25: Reach Name | AQ25: Available Flow
A26: 10090201 | B26: 6310500 | C26: 10 | D26: 32 | E26: 36 | F26: 50 | G26: 141.207 | H26: Riverton, City of | I26: 951621 | J26: 0.41 | K26: 10080011 | L26: 6122 | M26: 225 | N26: 0.41 | Z26: Subbasin | AA26: Depletions AFY | AE26: Above Pathfinder | AF26: 2800 | AG26: Above Pathfinder | AH26: 18800 | AJ26: 2035 Irrigation CU AFY by Basin (Moderate Growth Scenario) | AK26: 2035 Livestock CU AFY by Basin | AQ26: Dry | AR26: Average | AS26: Wet
A27: 10090202 | B27: 6317000 | C27: 0 | D27: 0.1 | E27: 15 | F27: 48 | G27: 269.822 | H27: Riverton, Town of | I27: 880991 | J27: 0.41 | K27: 10080012 | L27: 6122 | M27: 225 | N27: 0.41 | Z27: Upper Salt | AA27: 30987 | AE27: Guernsey to State Line | AF27: 1800 | AG27: Guernsey to State Line | AH27: 2100 | AJ27: 400218 | AK27: 1930 | AM27: Snake | AN27: 17040101 | AO27: 11 | AP27: Snake River below Ditch Creek | AQ27: 1006976 | AR27: 1749710 | AS27: 2582509
A28: 10090203 | B28: 6313000 | C28: 0 | D28: 0.7 | E28: 2.2 | F28: 5 | G28: 37.389 | H28: Second Fike Subdivision | I28: 0 | J28: 0.41 | K28: 10080013 | L28: 6122 | M28: 225 | N28: 0.41 | Z28: Lower Salt | AA28: 29785 | AE28: Horse Creek | AF28: 367 | AG28: Horse Creek | AH28: 7500 | AJ28: Bear River Basin | AN28: 17040102 | AO28: 12 | AP28: Gros Ventre River | AQ28: 223059 | AR28: 337525 | AS28: 465532
A29: 10090204 | B29: 6313400 | C29: 7.428 | D29: 12 | E29: 15 | F29: 22 | G29: 45.259 | H29: Spencer Homesites | I29: 0 | J29: 0.41 | K29: 10080014 | L29: 6122 | M29: 225 | N29: 0.41 | Z29: Upper Snake | AA29: 8029 | AE29: Lower Laramie | AF29: 500 | AG29: Lower Laramie | AH29: 1000 | AJ29: Agriculture | AN29: 17040103 | AO29: 30 | AP29: Snake River below Hoback River | AQ29: 1768960 | AR29: 2887630 | AS29: 4158807
A30: 10090205 | B30: 6316500 | C30: 0 | D30: 0 | E30: 0 | F30: 0.4 | G30: 39.998 | H30: Warm Springs Water District | I30: 11500 | J30: 0.41 | K30: 10080007 | L30: 467 | M30: 225 | N30: 0.41 | Z30: Lower Snake | AA30: 29577 | AE30: Pathfinder to Guernsey | AF30: 13000 | AG30: Pathfinder to Guernsey | AH30: 38900 | AJ30: 2030 Irrigation Cu by Basin | AK30: 2030 Livestock CU by Basin | AN30: 17040104 | AP30: No reaches are found within this HUC | AQ30: 0 | AR30: 0 | AS30: 0
A31: 10090206 | B31: 6324000 | C31: 0.8 | D31: 7.4 | E31: 20 | F31: 44 | G31: 184.188 | H31: Monroe Ave Mobile Home Park | I31: 0 | J31: 0.41 | K31: 10080008 | L31: 467 | M31: 225 | N31: 0.41 | Z31: Teton | AA31: 4036 | AE31: South Platte | AF31: 13200 | AG31: South Platte | AH31: 8000 | AJ31: 93877 | AK31: 543 | AM31: Salt | AN31: 17040105 | AO31: 25 | AP31: Salt River below Birch Creek Confluence | AQ31: 216249 | AR31: 458153 | AS31: 694494
A32: 10090207 | B32: 6324500 | C32: 3.418 | D32: 19 | E32: 45 | F32: 90 | G32: 3740 | H32: North Riverton Water & Sewer | I32: 0 | J32: 0.41 | Z32: Powder Tongue River Basin (Scroll down for more basins) | AE32: Upper Laramie | AF32: 6300 | AG32: Upper Laramie | AH32: 3000 | AN32: 17040202 | AP32: No reaches are found within this HUC | AQ32: 0 | AR32: 0 | AS32: 0
A33: 10090208 | B33: 6324970 | C33: 0 | D33: 0.01 | E33: 0.02 | F33: 0.31 | G33: 20.112 | H33: Sunnyside Mobile Home Park | I33: 0 | J33: 0.41 | Z33: Agriculture | AE33: Northeast River Basins (Scroll down for more basins) | AN33: 17040203 | AP33: No reaches are found within this HUC | AQ33: 0 | AR33: 0 | AS33: 0
A34: 10110201 | H34: Hudson, Town of | I34: 125000 | J34: 0.41 | Z34: Source of Supply/Climatic Area | AA34: Total Depletions AFY Normal Year by Climatic Area | AE34: Municipal and Domestic | AN34: 17040204 | AP34: No reaches are found within this HUC | AQ34: 0 | AR34: 0 | AS34: 0
A35: 10120101 | B35: 6364700 | C35: 0 | D35: 0.01 | E35: 0.05 | F35: 0.16 | G35: 9.748 | H35: Juniper Park Water Association | I35: 0 | J35: 0.41 | Z35: Little Bighorn Basin | AA35: 2064 | AE35: 2030 Population Mid Scenario Domestic Total | AF35: Domestic Gallons per capita per day (Average 150 & 300 gpcpd) | AG35: Municipality/ Sector | AH35: 2030 Use gpd Mid Scenario | AM35: Powder Tongue River Basin (Scroll down for more basins)
A36: 10120102 | B36: 6365300 | C36: 0 | D36: 0 | E36: 0 | F36: 0 | G36: 0.834 | H36: Lander, City of | I36: 2000000 | J36: 0.41 | Z36: Tongue River Basin | AA36: 71369 | AE36: 20205 | AF36: 225 | AG36: Hulett | AH36: 55305 | AM36: Subbasin | AN36: HUC 8 | AO36: Reach # | AP36: Reach Name | AQ36: Available Flow
A37: 10120103 | B37: 6375600 | C37: 0 | D37: 0 | E37: 0 | F37: 0 | G37: 1.969 | H37: Raintree Estates | I37: 5500 | J37: 0.41 | Z37: Upper Clear Creek | AA37: 47931 | AG37: Pine Haven | AH37: 60500 | AQ37: Dry | AR37: Average | AS37: Wet
A38: 10120104 | H38: Pavillion | I38: 1918 | J38: 0.41 | Z38: Lower Clear Creek | AA38: 8812 | AG38: Manville | AH38: 84770 | AM38: Little Bighorn | AN38: 10080016 | AO38: 4 | AP38: Red Canyon Creek below USGS gage 06289100 | AQ38: 702 | AR38: 1313 | AS38: 2268
A39: 10120105 | H39: Sunridge Estates | I39: 192 | J39: 0.41 | Z39: Upper Crazy Woman Creek | AA39: 15180 | AG39: Upton | AH39: 213750 | AM39: Tongue River | AN39: 10090101 | AO39: 19 | AP39: Tongue River above State Line | AQ39: 217843 | AR39: 326123 | AS39: 473035
A40: 10120106 | B40: 6386500 | C40: 0 | D40: 0 | E40: 0 | F40: 0 | G40: 56.022 | H40: Shoshoni | I40: 177568 | J40: 0.41 | Z40: Lower Crazy Woman Creek | AA40: 1561 | AG40: Sundance | AH40: 226313 | AM40: Powder River | AN40: 10090201 | AO40: 9 | AP40: Middle Fork Powder River above North Fork Powder River | AQ40: 46258 | AR40: 71587 | AS40: 86718
A41: 10120107 | B41: 6394000 | C41: 0 | D41: 0.14 | E41: 0.58 | F41: 1.8 | G41: 30.801 | H41: Jeffrey City Water & Sewer District | I41: 0 | J41: 0.41 | Z41: Upper Powder River | AA41: 18583 | AG41: Lusk | AH41: 302592 | AN41: 10090202 | AO41: 19 | AP41: Powder River below Crazy Woman Creek | AQ41: 110973 | AR41: 195018 | AS41: 328489
A42: 10120108 | H42: Red Lane Domestic Water, Inc. | I42: 8000 | J42: 0.41 | Z42: South Fork Powder River | AA42: 1337 | AG42: Moorcroft | AH42: 373125 | AN42: 10090203 | AO42: 13 | AP42: South Fork Powder River | AQ42: 13026 | AR42: 26720 | AS42: 44827
A43: 10120201 | B43: 6428000 | C43: 0 | D43: 0.4 | E43: 1 | F43: 3 | G43: 72.547 | H43: Thermopolis | I43: 844932 | J43: 0.41 | Z43: Lower Powder River | AA43: 6204 | AG43: Wright | AH43: 433292 | AN43: 10090204 | AO43: 15 | AP43: Salt Creek | AQ43: 22035 | AR43: 33722 | AS43: 49377
A44: 10120202 | B44: 6428500 | C44: 0 | D44: 0.1 | E44: 4 | F44: 11 | G44: 914.25 | H44: Thermopolis, Town of | I44: 46575 | J44: 0.41 | Z44: Little Powder River | AA44: 10999 | AG44: Newcastle | AH44: 742500 | AM44: Crazy Woman Creek | AN44: 10090205 | AO44: 11 | AP44: Crazy Woman Creek above Upper Station | AQ44: 15520 | AR44: 30610 | AS44: 61498
A45: 10120203 | B45: 6429905 | C45: 15 | D45: 16 | E45: 16 | F45: 17 | G45: 22.888 | H45: Big Valley & Crossed Arrows Improvement District | I45: 1500 | J45: 0.41 | Z45: Platte River Basin (Scroll down for more basins) | AG45: Gillette | AH45: 5790400 | AM45: Clear Creek | AN45: 10090206 | AO45: 27 | AP45: Clear Creek above Powder River | AQ45: 80118 | AR45: 123932 | AS45: 212547
A46: 10150002 | B46: 6454000 | C46: 1.1 | D46: 1.6 | E46: 1.8 | F46: 2.1 | G46: 3.632 | H46: Meeteetse, Town of | I46: 54795 | J46: 0.41 | Z46: Agriculture | AE46: Green River Basin (Scroll down for more basins) | AN46: 10090207 | AO46: 29 | AP46: Powder River above State Line | AQ46: 193770 | AR46: 324023 | AS46: 546537
A47: 10180002 | B47: 6630000 | C47: 109 | D47: 185 | E47: 224 | F47: 275 | G47: 1105.835 | H47: Cody, City of | I47: 1440000 | J47: 0.41 | Z47: Subbasin | AA47: CU AFY by Basin (Irrigation) (Tech 4.3) | AB47: CU AFY by Basin (Livestock ) (Tech 4.3) | AE47: Municipal and Domestic | AJ47: Industrial | AM47: Little Powder River | AN47: 10090208 | AO47: 3 | AP47: Little Powder River above State Line | AQ47: 2737 | AR47: 11974 | AS47: 47838
A48: 10180003 | B48: 6636000 | C48: 8.5 | D48: 158 | E48: 245 | F48: 333 | G48: 1494.93 | H48: Cooper Sub Mobile Home Park | I48: 0 | J48: 0.41 | Z48: Above Pathfinder | AA48: 147000 | AB48: 1100 | AE48: Municipality | AF48: 2030 Municipal Use AFY | AG48: County | AH48: 2030 Domestic Population by County | AI48: Domestic Gallons per capita per day (Average 150 & 300 gpcpd) | AJ48: 2030 CU AFY by Basin (Moderate Growth) | AM48: Platte River Basin (Scroll down for more basins)
A49: 10180004 | B49: 6635000 | C49: 3.2 | D49: 9 | E49: 14 | F49: 22 | G49: 176.658 | H49: Green Acres Village | I49: 0 | J49: 0.41 | Z49: Pathfinder to Guernsey | AA49: 103000 | AB49: 1700 | AE49: Town of Baggs | AF49: 27 | AG49: Carbon | AH49: 629 | AI49: 225 | AJ49: 30283.762 | AM49: The Platte River Basin does not have any information on available water estimates.
A50: 10180005 | B50: 6634620 | C50: 0.36 | D50: 0.87 | E50: 1.2 | F50: 2.2 | G50: 42.614 | H50: Juby's MHP | I50: 0 | J50: 0.41 | Z50: Guernsey to State Line | AA50: 112000 | AB50: 800 | AE50: Bridger Valley Joint Powers Board | AF50: 454 | AG50: Lincoln | AH50: 5015 | AI50: 225 | AM50: Northeast River Basins (Scroll down fore more basins)
A51: 10180006 | B51: 6639000 | C51: 2.2 | D51: 10 | E51: 18 | F51: 28 | G51: 141.205 | H51: North End Water Users | I51: 162000 | J51: 0.41 | Z51: Upper Laramie | AA51: 72000 | AB51: 500 | AE51: Town of Dixon | AF51: 24 | AG51: Sublette | AH51: 8260 | AI51: 225 | AM51: Subbasin | AN51: HUC 8 | AO51: Reach # | AP51: Reach Name | AQ51: Available Flow
A52: 10180007 | B52: 6646800 | C52: 473 | D52: 601 | E52: 676 | F52: 850 | G52: 1513.069 | H52: Northwest Rural Water District | I52: 421918 | J52: 0.41 | Z52: Lower Laramie | AA52: 120000 | AB52: 1100 | AE52: Town of Granger | AF52: 25 | AG52: Sweetwater | AH52: 2977 | AI52: 225 | AQ52: Dry | AR52: Average | AS52: Wet
A53: 10180008 | B53: 6656000 | C53: 1.4 | D53: 2.2 | E53: 4.4 | F53: 18 | G53: 1834.313 | H53: Powell, City of | I53: 849036 | J53: 0.41 | Z53: Horse Creek | AA53: 69000 | AB53: 600 | AE53: Kemmerer-Diamondville Joint Powers Water Board | AF53: 543 | AG53: Uinta | AH53: 2435 | AI53: 225 | AN53: 10110201 | AP53: No reaches are found within this HUC | AQ53: 0 | AR53: 0 | AS53: 0
A54: 10180009 | B54: 6672000 | C54: 192 | D54: 273 | E54: 317 | F54: 407 | G54: 1486.858 | H54: Rivers Bend Trailer Court | I54: 0 | J54: 0.41 | Z54: South Platte | AA54: 38000 | AB54: 500 | AE54: Town of LaBarge | AF54: 246 | AM54: Cheyenne River | AN54: 10120101 | AO54: 7 | AP54: Antelope Creek | AQ54: 534 | AR54: 2837 | AS54: 21427
A55: 10180010 | B55: 6662000 | C55: 0 | D55: 2.3 | E55: 7.1 | F55: 16 | G55: 156.203 | H55: Shoshone Municipal Pipeline | I55: 3172 | J55: 0.41 | Z55: Northeast River Basins (Scrolls down for more basins) | AE55: Town of Pinedale | AF55: 1895 | AN55: 10120102 | AO55: 6 | AP55: Dry Fork Cheyenne River above Antelope Creek | AQ55: 0 | AR55: 0 | AS55: 0
A56: 10180011 | B56: 6670500 | C56: 6.1 | D56: 9.2 | E56: 14 | F56: 30 | G56: 136.875 | H56: Yellowstone NP Mammoth Hot Spring | I56: 0 | J56: 0.41 | Z56: Agriculture | AE56: Green River/Rock Springs/ Sweetwater County Joint Powers Board | AF56: 6413 | AN56: 10120103 | AO56: 21 | AP56: Cheyenne River above Lance Creek | AQ56: 1515 | AR56: 12895 | AS56: 57621
A57: 10180012 | B57: 6677100 | C57: 4.2 | D57: 8.2 | E57: 9.5 | F57: 11 | G57: 46.619 | H57: Yellowstone NP Old Faithful | I57: 0 | J57: 0.41 | Z57: Source of Supply/Climatic Area | AA57: SW CU AFY by Basin | AB57: GW CU AFY by Basin | AE57: Town of Bairoil | AF57: 48 | AN57: 10120104 | AO57: 23 | AP57: Lance Creek | AQ57: 3184 | AR57: 18323 | AS57: 44909
A58: 10180013 | H58: South Worland Water Users, Inc. | I58: 0 | J58: 0.41 | Z58: Little Missouri River | AA58: 10455 | AB58: 0 | AE58: Town of Big Piney | AF58: 125 | AN58: 10120105 | AP58: No reaches are found within this HUC | AQ58: 0 | AR58: 0 | AS58: 0
A59: 10190007 | H59: Washakie Rural Water System | I59: 80000 | J59: 0.41 | Z59: Lower Beaver Creek | AA59: 3969 | AB59: 0 | AE59: Town of Marbleton | AF59: 1948 | AM59: Cheyenne River | AN59: 10120106 | AO59: 28 | AP59: Cheyenne River above Stateline | AQ59: 4911 | AR59: 31434 | AS59: 103362
A60: 10190008 | B60: 6753000 | C60: 0 | D60: 0 | E60: 0.1 | F60: 0.2 | G60: 2.218 | H60: Worland Utilities Commission | I60: 1500000 | J60: 0.41 | Z60: Lower Belle Fourche River | AA60: 6656 | AB60: 237 | AE60: Town of Opal | AF60: 28 | AM60: Beaver Creek | AN60: 10120107 | AO60: 14 | AP60: Beaver Creek above Stateline | AQ60: 13778 | AR60: 20468 | AS60: 29635
A61: 10190009 | B61: 6756100 | C61: 0.645 | D61: 1 | E61: 1.4 | F61: 1.9 | G61: 13.848 | H61: Ten Sleep | I61: 12800 | J61: 0.41 | Z61: Lower Cheyenne River | AA61: 2372 | AB61: 0 | AE61: Town of Superior | AF61: 50 | AN61: 10120108 | AP61: No reaches are found within this HUC | AQ61: 0 | AR61: 0 | AS61: 0
A62: 10190015 | B62: 6761000 | C62: 0 | D62: 0 | E62: 0 | F62: 0.3 | G62: 2.504 | H62: Snake Salt River Basin (Scroll down for more basins) | Z62: Middle Beaver Creek | AA62: 6938 | AB62: 159 | AE62: Town of Wamsutter | AF62: 38 | AM62: Belle Fourche River | AN62: 10120201 | AO62: 22 | AP62: Belle Fourche River above gage 06428200 | AQ62: 0 | AR62: 0 | AS62: 0
A63: 10190016 | H63: Municipal | L63: Domestic | P63: Industrial | Z63: Middle Belle Fourche River | AA63: 9406 | AB63: 117 | AE63: Bear River Basin | AN63: 10120202 | AO63: 28 | AP63: Belle Fourche River above Stateline | AQ63: 0 | AR63: 0 | AS63: 0
A64: 10190017 | H64: Location | I64: Permanent Population | J64: Gallons per capita per day | K64: CU% | L64: Subbasin | M64: HUC 8 | N64: Domestic Water Use by Subbasin gpd | O64: Decimal multiplier for CU | P64: Entity | Q64: Estimated Use AFY | Z64: Niobrara River | AA64: 1007 | AB64: 15185 | AE64: Municipal and Domestic | AH64: Industrial | AM64: Red Water Creek | AN64: 10120203 | AO64: 5 | AP64: Redwater Creek below South Redwater Creek | AQ64: 17293 | AR64: 26391 | AS64: 34279
A65: 14040101 | B65: 9209500 | C65: 280 | D65: 340 | E65: 380 | F65: 466 | G65: 1545.051 | H65: Bedford Water and Sewer District | I65: 560 | J65: 350 | K65: 1 | L65: Salt | M65: 17040105 | N65: 800000 | O65: 1 | P65: Star Valley Cheese Corporation | Q65: 16 | Z65: Northern Tributaries to the Cheyenne River | AA65: 7113 | AB65: 105 | AE65: Location | AF65: 2030 Normal Year Middle Scenario CU AFY | AG65: 2030 Normal Year Middle Scenario CU AFY | AH65: 2030 Middle Scenario Normal Year CU AFY by Basin | AN65: 10150002 | AP65: No reaches are found within this HUC | AQ65: 0 | AR65: 0 | AS65: 0
A66: 14040102 | B66: 9205000 | C66: 135 | D66: 165 | E66: 185 | F66: 215 | G66: 719.413 | H66: Etna Water & Sewer District | I66: 85 | J66: 80 | K66: 1 | L66: Snake | M66: 17040101 | N66: 1441000 | O66: 0.47 | P66: Northern Foods | Q66: 24 | Z66: Redwater Creek | AA66: 2350 | AB66: 159 | AE66: Cokeville | AF66: 431 | AG66: 709 | AH66: 222 | AM66: Green River Basin (Scroll down for more basins)
A67: 14040103 | B67: 9216500 | C67: 250 | D67: 300 | E67: 340 | F67: 430 | G67: 1848.641 | H67: Fairview Water & Sewer District | I67: 360 | J67: 55 | K67: 1 | L67: Snake | M67: 17040102 | N67: 1441000 | O67: 0.47 | P67: Water Star Bottling Company | Q67: 8.289 | Z67: Southern Tributaries to the Cheyenne River | AA67: 14988 | AB67: 505 | AE67: Evanston | AF67: 3399 | AM67: Subbasin | AN67: HUC 8 | AO67: Reach # | AP67: Reach Name | AQ67: Available Flow
A68: 14040104 | B68: 9216050 | C68: 11 | D68: 18 | E68: 23 | F68: 30 | G68: 70.606 | H68: Freedom Water and Sewer District | I68: 120 | J68: 1450 | K68: 1 | L68: Snake | M68: 17040104 | N68: 1441000 | O68: 0.47 | P68: Smoky Canyon Mine | Q68: 871.266 | Z68: Upper Beaver Creek | AA68: 733 | AB68: 0 | AQ68: Dry | AR68: Average | AS68: Wet
A69: 14040105 | B69: 9216562 | C69: 0 | D69: 0 | E69: 0 | F69: 0 | G69: 6.377 | H69: Grover Water and Sewer District | I69: 280 | J69: 200 | K69: 1 | L69: Snake | M69: 17040202 | N69: 1441000 | O69: 0.47 | Z69: Upper Belle Fourche River | AA69: 3465 | AB69: 396 | AM69: Upper Green River | AN69: 14040101 | AO69: 20.06 | AP69: Between Green River near LaBarge gage and Fontenelle Reservoir | AQ69: 296015 | AR69: 808709 | AS69: 1408842
A70: 14040106 | B70: 9229500 | C70: 0.1 | D70: 1.7 | E70: 4.2 | F70: 17 | G70: 81.635 | H70: Happy Valley Pipeline Company | I70: 60 | J70: 3600 | K70: 1 | L70: Snake | M70: 17040203 | N70: 1441000 | O70: 0.47 | Z70: Green River Basin (Scroll down for more basins) | AN70: 14040102 | AO70: 13.04 | AP70: New Fork River near Big Piney (09205000) | AQ70: 225743 | AR70: 525043 | AS70: 753308
A71: 14040107 | B71: 9225000 | C71: 0 | D71: 0 | E71: 0.6 | F71: 10 | G71: 301.091 | H71: Kennington Springs Pipeline Company | I71: 63 | J71: 100 | K71: 1 | L71: Snake | M71: 17040204 | N71: 1441000 | O71: 0.47 | Z71: Agriculture | AN71: 14040103 | AO71: 24.12 | AP71: Green River near Green River (09217000( | AQ71: 595320 | AR71: 1137732 | AS71: 1806305
A72: 14040108 | B72: 9222400 | C72: 0 | D72: 0.147 | E72: 1.1 | F72: 2.7 | G72: 36.095 | H72: Nordic Ranches Subdivision | I72: 180 | J72: 171 | K72: 1 | L72: Snake | M72: 17040103 | N72: 1441000 | O72: 0.47 | Z72: 2005 Agriculture CU AFY by Basin | AA72: 2015 Agriculture CU AFY by Basin | AB72: 2005 Livestock CU | AC72: 2015 Livestock CU | AN72: 14040104 | AO72: 23.08 | AP72: Big Sandy River at Gasson Bridge, near Eden (06216050) | AQ72: 25813 | AR72: 45291 | AS72: 82412
A73: 14040109 | B73: 9235300 | C73: 0 | D73: 0 | E73: 0.01 | F73: 0.34 | G73: 3.23 | H73: North Alpine Special Service District | I73: 40 | J73: 80 | K73: 1 | Z73: 396246 | AA73: 398227 | AB73: 1755 | AC73: 1812 | AN73: 14040105 | AP73: No reaches are found within this HUC | AQ73: 0 | AR73: 0 | AS73: 0
A74: 14040200 | B74: 9216527 | C74: 0 | D74: 0 | E74: 0 | F74: 0 | G74: 1.797 | H74: Osmond Community | I74: 200 | J74: 95 | K74: 1 | Z74: Bear River Basin | AM74: Henrys Fork | AN74: 14040106 | AO74: 7.04 | AP74: Henrys Fork near Manila, UT (09229500) | AQ74: 23638 | AR74: 51809 | AS74: 117786
A75: 14050003 | B75: 9257000 | C75: 0.23 | D75: 1.5 | E75: 4 | F75: 18 | G75: 594.225 | H75: Smoot Water & Sewer District | I75: 500 | J75: 250 | K75: 1 | Z75: Agriculture | AM75: Blacks Fork | AN75: 14040107 | AO75: 12.02 | AP75: Hams Fork below Pole Creek near Frontier (09223000) | AQ75: 13383 | AR75: 50564 | AS75: 117098
A76: 14050004 | B76: 9259000 | C76: 0.106 | D76: 0.26 | E76: 0.4 | F76: 0.53 | G76: 14.759 | H76: Star Valley Ranch Association | I76: 1200 | J76: 685 | K76: 1 | Z76: Location | AA76: IWR AFY | AB76: Livestock AFY by basin | AN76: 14040108 | AO76: 10.02 | AP76: Muddy Creek near Hampton (09224000) | AQ76: 5794 | AR76: 24631 | AS76: 57978
A77: 16010101 | B77: 10020500 | C77: 0 | D77: 0 | E77: 1 | F77: 9.7 | G77: 200.293 | H77: Star Valley Ranch RV Park | I77: 900 | J77: 75 | K77: 1 | Z77: Upper Division | AA77: 62600 | AB77: 528 | AN77: 14040109 | AP77: No reaches are found within this HUC | AQ77: 0 | AR77: 0 | AS77: 0
A78: 16010102 | B78: 10038000 | C78: 70 | D78: 90 | E78: 106 | F78: 132 | G78: 422.933 | H78: Star Valley Trailer Court | I78: 100 | J78: 80 | K78: 1 | Z78: Central Division | AA78: 31600 | AN78: 14040200 | AP78: No reaches are found within this HUC | AQ78: 0 | AR78: 0 | AS78: 0
A79: 16020101 | H79: Town of Afton | I79: 1640 | J79: 760 | K79: 1 | AM79: Little Snake River | AN79: 14050003 | AO79: 16.14 | AP79: Little Snake River near Lily, CO (09260000) | AQ79: 177321 | AR79: 406658 | AS79: 641712
A80: 17040101 | B80: 13013650 | C80: 660 | D80: 720 | E80: 771.7 | F80: 911 | G80: 3229.685 | H80: Town of Alpine | I80: 288 | J80: 291 | K80: 1 | AN80: 14050004 | AO80: 15.04 | AP80: Muddy Creek near Baggs (09259000) | AQ80: 7618 | AR80: 13772 | AS80: 13772
A81: 17040102 | B81: 13015000 | C81: 0 | D81: 0.95 | E81: 5.13 | F81: 26 | G81: 402.222 | H81: Town of Thayne | I81: 318 | J81: 500 | K81: 1 | AM81: Bear River Basin
A82: 17040103 | B82: 13023500 | C82: 1206.1 | D82: 1360 | E82: 1440 | F82: 1600 | G82: 5389.452 | H82: Westview Village | I82: 70 | J82: 50 | K82: 1 | AM82: Subbasin | AN82: HUC 8 | AO82: Reach # | AP82: Reach Name | AQ82: Available Flow
A83: 17040104 | B83: 13030000 | C83: 0 | D83: 0 | E83: 0 | F83: 0 | G83: 177 | H83: Willow Creek Pipeline Company | I83: 50 | J83: 200 | K83: 1 | AQ83: Dry | AR83: Average | AS83: Wet
A84: 17040105 | B84: 13027500 | C84: 294 | D84: 344 | E84: 372 | F84: 421 | G84: 764.642 | H84: Gros Ventre North Subdivision | I84: 230 | J84: 165 | K84: 0.47 | AM84: Upper Division | AN84: 16010101 | AQ84: 0 | AR84: 0 | AS84: 0
A85: 17040202 | H85: Buffalo Valley Public Water District | I85: 50 | J85: 120 | K85: 0.47 | AM85: Central Division | AN85: 16010102 | AQ85: 0 | AR85: 0 | AS85: 0
A86: 17040203 | B86: 13046680 | C86: 55 | D86: 59 | E86: 61 | F86: 65 | G86: 111.079 | H86: Indian Paintbrush | I86: 200 | J86: 120 | K86: 0.47
A87: 17040204 | B87: 13051500 | C87: 6.5 | D87: 8.2 | E87: 8.7 | F87: 10 | G87: 114.572 | H87: Rafter J Subdivision H.O.A. | I87: 1500 | J87: 660 | K87: 0.47
H88: Spring Creek Improvement District | I88: 500 | J88: 165 | K88: 0.47
H89: Squaw Creek Water District | I89: 225 | J89: 120 | K89: 0.47
H90: Alta Community Pipeline | I90: 50 | J90: 120 | K90: 0.47
H91: Aspens I/II Water and Sewer District | I91: 1800 | J91: 222 | K91: 0.47
H92: Bar-B-Bar Subdivision | I92: 120 | J92: 120 | K92: 0.47
H93: C-V Ranches | I93: 80 | J93: 120 | K93: 0.47
H94: Evans Mobile Home Court | I94: 150 | J94: 120 | K94: 0.47
H95: Gros Ventre Butte West (Bar Y Estates) | I95: 270 | J95: 120 | K95: 0.47
H96: Gros Ventre Utility (Jackson Hole Golf & Tennis) | I96: 350 | J96: 116 | K96: 0.47
H97: High Country Subdivision | I97: 75 | J97: 120 | K97: 0.47
H98: Highland Park Subdivision | I98: 50 | J98: 120 | K98: 0.47
H99: Indian Springs | I99: 75 | J99: 120 | K99: 0.47
... H115: City of Driggs Idaho | I115: 1100 | J115: 557 | K115: 0.47
...

Sheet Output
A1: Streamflow | H1: Current Consumptive Use AFY | K1: Current Groundwater Pumping AFY | L1: Future Consumptive Use AFY | N1: Recharge | O1: Storage | P1: Species | Q1: Available Water AFY
A4: HUC 8 | B4: Station # | C4: P1 AFY | D4: P5 AFY | E4: P10 AFY | F4: P20 AFY | G4: Avg AFY | H4: M&I | I4: Agriculture | J4: Thermoelectric | K4: AFY | L4: M&I | M4: Agriculture | N4: AFY | O4: AF | P4: # Per HUC | Q4: Dry | R4: Normal | S4: Wet
A5: 10020007 | B5: 6037100 | C5: ='Physical Supply by HUC 8'!X2 -> 57231.313 | D5: ='Physical Supply by HUC 8'!Z2 -> 58680.207 | E5: ='Physical Supply by HUC 8'!AB2 -> 60853.548 | F5: ='Physical Supply by HUC 8'!AD2 -> 63026.889 | G5: ='Physical Supply by HUC 8'!AR2 -> 121.407 | H5: =SUM('Water Use Current M&I'!J5,'Water Use Current M&I'!AE5,'Water Use Current M&I'!BI13) -> 0 | I5: ='Water Use Current Ag'!L4 -> 31.691542 | J5: ='Water Use Current Thermo'!BJ6 -> 0 | K5: ='Current Groundwater Pumping'!L3 -> 8.0611127 | L5: =SUM('Water Use Future M&I'!L5,'Water Use Future M&I'!Z5) -> 0 | M5: ='Water Use Future Agriculture'!M5 -> 31.588357 | N5: =Recharge!B2 -> 477929 | O5: =Storage!H3 -> 0 | P5: =Species!B2 -> 1 | Q5: ='Available Water'!E6 -> 327292 | R5: ='Available Water'!F6 -> 362240 | S5: ='Available Water'!G6 -> 428664
A6: 10020008 | C6: ='Physical Supply by HUC 8'!X3 -> 0 | D6: ='Physical Supply by HUC 8'!Z3 -> 0 | E6: ='Physical Supply by HUC 8'!AB3 -> 0 | F6: ='Physical Supply by HUC 8'!AD3 -> 0 | G6: ='Physical Supply by HUC 8'!AR3 -> 0 | H6: =SUM('Water Use Current M&I'!J6,'Water Use Current M&I'!AE6,'Water Use Current M&I'!BI14) -> 0 | I6: ='Water Use Current Ag'!L5 -> 21.127695 | J6: ='Water Use Current Thermo'!BJ7 -> 0 | K6: 0 | L6: =SUM('Water Use Future M&I'!L6,'Water Use Future M&I'!Z6) -> 0 | M6: ='Water Use Future Agriculture'!M6 -> 21.058905 | N6: =Recharge!B3 -> 40948 | O6: =Storage!H4 -> 0 | P6: =Species!B3 -> 1 | Q6: ='Available Water'!E7 -> 484920 | R6: ='Available Water'!F7 -> 606325 | S6: ='Available Water'!G7 -> 697306
A7: 10070001 | B7: 6188000 | C7: ='Physical Supply by HUC 8'!X4 -> 50711.29 | D7: ='Physical Supply by HUC 8'!Z4 -> 61577.995 | E7: ='Physical Supply by HUC 8'!AB4 -> 65200.23 | F7: ='Physical Supply by HUC 8'!AD4 -> 79689.17 | G7: ='Physical Supply by HUC 8'!AR4 -> 636853.39 | H7: =SUM('Water Use Current M&I'!J7,'Water Use Current M&I'!AE7,'Water Use Current M&I'!BI15) -> 6.7833795 | I7: ='Water Use Current Ag'!L6 -> 84.510779 | J7: ='Water Use Current Thermo'!BJ8 -> 0 | K7: ='Current Groundwater Pumping'!L4 -> 6.2431452 | L7: =SUM('Water Use Future M&I'!L7,'Water Use Future M&I'!Z7) -> 6.3417243 | M7: ='Water Use Future Agriculture'!M7 -> 84.235619 | N7: =Recharge!B4 -> 1640768 | O7: =Storage!H5 -> 0 | P7: =Species!B4 -> 2 | Q7: ='Available Water'!E8 -> 1610549 | R7: ='Available Water'!F8 -> 2064723 | S7: ='Available Water'!G8 -> 2524621
A8: 10070002 | C8: ='Physical Supply by HUC 8'!X5 -> 0 | D8: ='Physical Supply by HUC 8'!Z5 -> 0 | E8: ='Physical Supply by HUC 8'!AB5 -> 0 | F8: ='Physical Supply by HUC 8'!AD5 -> 0 | G8: ='Physical Supply by HUC 8'!AR5 -> 0 | H8: =SUM('Water Use Current M&I'!J8,'Water Use Current M&I'!AE8,'Water Use Current M&I'!BI16) -> 0 | I8: ='Water Use Current Ag'!L7 -> 0 | J8: ='Water Use Current Thermo'!BJ9 -> 0 | K8: 0 | L8: =SUM('Water Use Future M&I'!L8,'Water Use Future M&I'!Z8) -> 0 | M8: ='Water Use Future Agriculture'!M8 -> 0 | N8: =Recharge!B5 -> 1332 | O8: =Storage!H6 -> 0 | P8: =Species!B5 -> 1 | Q8: ='Available Water'!E9 -> 0 | R8: ='Available Water'!F9 -> 0 | S8: ='Available Water'!G9 -> 0
A9: 10070006 | B9: 6207000 | C9: ='Physical Supply by HUC 8'!X6 -> 101422.58 | D9: ='Physical Supply by HUC 8'!Z6 -> 108667.05 | E9: ='Physical Supply by HUC 8'!AB6 -> 115911.52 | F9: ='Physical Supply by HUC 8'!AD6 -> 123155.99 | G9: ='Physical Supply by HUC 8'!AR6 -> 648584.36 | H9: =SUM('Water Use Current M&I'!J9,'Water Use Current M&I'!AE9,'Water Use Current M&I'!BI17) -> 1226.2203 | I9: ='Water Use Current Ag'!L8 -> 39977.676 | J9: ='Water Use Current Thermo'!BJ10 -> 0 | K9: 0 | L9: =SUM('Water Use Future M&I'!L9,'Water Use Future M&I'!Z9) -> 2192.3984 | M9: ='Water Use Future Agriculture'!M9 -> 39847.512 | N9: =Recharge!B6 -> 538124 | O9: =Storage!H7 -> 2047 | P9: =Species!B6 -> 1 | Q9: ='Available Water'!E10 -> 338022 | R9: ='Available Water'!F10 -> 420270 | S9: ='Available Water'!G10 -> 498294
A10: 10080001 | B10: 6236100 | C10: ='Physical Supply by HUC 8'!X7 -> 110608.57 | D10: ='Physical Supply by HUC 8'!Z7 -> 175316.17 | E10: ='Physical Supply by HUC 8'!AB7 -> 224578.57 | F10: ='Physical Supply by HUC 8'!AD7 -> 289778.8 | G10: ='Physical Supply by HUC 8'!AR7 -> 794564.78 | H10: =SUM('Water Use Current M&I'!J10,'Water Use Current M&I'!AE10,'Water Use Current M&I'!BI18) -> 2038.1103 | I10: ='Water Use Current Ag'!L9 -> 71652.35 | J10: ='Water Use Current Thermo'!BJ11 -> 0 | K10: 0 | L10: =SUM('Water Use Future M&I'!L10,'Water Use Future M&I'!Z10) -> 2067.789 | M10: ='Water Use Future Agriculture'!M10 -> 71419.055 | N10: =Recharge!B7 -> 908899 | O10: =Storage!H8 -> 190537 | P10: =Species!B7 -> 3 | Q10: ='Available Water'!E11 -> 0 | R10: ='Available Water'!F11 -> 0 | S10: ='Available Water'!G11 -> 0
A11: 10080002 | B11: 6235500 | C11: ='Physical Supply by HUC 8'!X8 -> 42017.926 | D11: ='Physical Supply by HUC 8'!Z8 -> 82586.958 | E11: ='Physical Supply by HUC 8'!AB8 -> 101422.58 | F11: ='Physical Supply by HUC 8'!AD8 -> 124604.88 | G11: ='Physical Supply by HUC 8'!AR8 -> 409513.95 | H11: =SUM('Water Use Current M&I'!J11,'Water Use Current M&I'!AE11,'Water Use Current M&I'!BI19) -> 931.09513 | I11: ='Water Use Current Ag'!L10 -> 35784.177 | J11: ='Water Use Current Thermo'!BJ12 -> 0 | K11: 0 | L11: =SUM('Water Use Future M&I'!L11,'Water Use Future M&I'!Z11) -> 1426.3595 | M11: ='Water Use Future Agriculture'!M11 -> 35667.666 | N11: =Recharge!B8 -> 357948 | O11: =Storage!H9 -> 63788 | P11: =Species!B8 -> 3 | Q11: ='Available Water'!E12 -> 0 | R11: ='Available Water'!F12 -> 0 | S11: ='Available Water'!G12 -> 0
A12: 10080003 | B12: 6233900 | C12: ='Physical Supply by HUC 8'!X9 -> 31151.221 | D12: ='Physical Supply by HUC 8'!Z9 -> 55057.972 | E12: ='Physical Supply by HUC 8'!AB9 -> 65200.23 | F12: ='Physical Supply by HUC 8'!AD9 -> 76791.382 | G12: ='Physical Supply by HUC 8'!AR9 -> 241394.43 | H12: =SUM('Water Use Current M&I'!J12,'Water Use Current M&I'!AE12,'Water Use Current M&I'!BI20) -> 1651.9324 | I12: ='Water Use Current Ag'!L11 -> 51446.584 | J12: ='Water Use Current Thermo'!BJ13 -> 0 | K12: 0 | L12: =SUM('Water Use Future M&I'!L12,'Water Use Future M&I'!Z12) -> 1635.6437 | M12: ='Water Use Future Agriculture'!M12 -> 51279.078 | N12: =Recharge!B9 -> 364471 | O12: =Storage!H10 -> 17821 | P12: =Species!B9 -> 3 | Q12: ='Available Water'!E13 -> 126384 | R12: ='Available Water'!F13 -> 229330 | S12: ='Available Water'!G13 -> 326104
A13: 10080004 | B13: 6239000 | C13: ='Physical Supply by HUC 8'!X10 -> 0 | D13: ='Physical Supply by HUC 8'!Z10 -> 0 | E13: ='Physical Supply by HUC 8'!AB10 -> 0 | F13: ='Physical Supply by HUC 8'!AD10 -> 0 | G13: ='Physical Supply by HUC 8'!AR10 -> 2568.8891 | H13: =SUM('Water Use Current M&I'!J13,'Water Use Current M&I'!AE13,'Water Use Current M&I'!BI21) -> 311.92062 | I13: ='Water Use Current Ag'!L12 -> 105.63847 | J13: ='Water Use Current Thermo'!BJ14 -> 0 | K13: 0 | L13: =SUM('Water Use Future M&I'!L13,'Water Use Future M&I'!Z13) -> 560.94468 | M13: ='Water Use Future Agriculture'!M13 -> 105.29452 | N13: =Recharge!B10 -> 15476 | O13: =Storage!H11 -> 0 | P13: =Species!B10 -> 2 | Q13: ='Available Water'!E14 -> 17278 | R13: ='Available Water'!F14 -> 15684 | S13: ='Available Water'!G14 -> 15763
A14: 10080005 | B14: 6259000 | C14: ='Physical Supply by HUC 8'!X11 -> 213711.86 | D14: ='Physical Supply by HUC 8'!Z11 -> 259424.47 | E14: ='Physical Supply by HUC 8'!AB11 -> 431770.41 | F14: ='Physical Supply by HUC 8'!AD11 -> 608535.48 | G14: ='Physical Supply by HUC 8'!AR11 -> 1012850.8 | H14: =SUM('Water Use Current M&I'!J14,'Water Use Current M&I'!AE14,'Water Use Current M&I'!BI22) -> 233.14253 | I14: ='Water Use Current Ag'!L13 -> 160737.69 | J14: ='Water Use Current Thermo'!BJ15 -> 0 | K14: 0 | L14: =SUM('Water Use Future M&I'!L14,'Water Use Future M&I'!Z14) -> 269.13699 | M14: ='Water Use Future Agriculture'!M14 -> 160214.34 | N14: =Recharge!B11 -> 54733 | O14: =Storage!H12 -> 84591 | P14: =Species!B11 -> 3 | Q14: ='Available Water'!E15 -> 368451 | R14: ='Available Water'!F15 -> 723990 | S14: ='Available Water'!G15 -> 984337
A15: 10080006 | B15: 6257000 | C15: ='Physical Supply by HUC 8'!X12 -> 0 | D15: ='Physical Supply by HUC 8'!Z12 -> 0 | E15: ='Physical Supply by HUC 8'!AB12 -> 0 | F15: ='Physical Supply by HUC 8'!AD12 -> 0 | G15: ='Physical Supply by HUC 8'!AR12 -> 16786.161 | H15: =SUM('Water Use Current M&I'!J15,'Water Use Current M&I'!AE15,'Water Use Current M&I'!BI23) -> 185.10173 | I15: ='Water Use Current Ag'!L14 -> 19573.865 | J15: ='Water Use Current Thermo'!BJ16 -> 0 | K15: 0 | L15: =SUM('Water Use Future M&I'!L15,'Water Use Future M&I'!Z15) -> 234.68603 | M15: ='Water Use Future Agriculture'!M15 -> 19510.134 | N15: =Recharge!B12 -> 16701 | O15: =Storage!H13 -> 2808 | P15: =Species!B12 -> 3 | Q15: ='Available Water'!E16 -> 0 | R15: ='Available Water'!F16 -> 0 | S15: ='Available Water'!G16 -> 0
A16: 10080007 | B16: 6274300 | C16: ='Physical Supply by HUC 8'!X13 -> 277463.2 | D16: ='Physical Supply by HUC 8'!Z13 -> 375263.55 | E16: ='Physical Supply by HUC 8'!AB13 -> 426699.28 | F16: ='Physical Supply by HUC 8'!AD13 -> 521601.84 | G16: ='Physical Supply by HUC 8'!AR13 -> 1178279 | H16: =SUM('Water Use Current M&I'!J16,'Water Use Current M&I'!AE16,'Water Use Current M&I'!BI24) -> 6043.7201 | I16: ='Water Use Current Ag'!L15 -> 182926.86 | J16: ='Water Use Current Thermo'!BJ17 -> 0 | K16: 0 | L16: =SUM('Water Use Future M&I'!L16,'Water Use Future M&I'!Z16) -> 9621.8254 | M16: ='Water Use Future Agriculture'!M16 -> 182331.26 | N16: =Recharge!B13 -> 122496 | O16: =Storage!H14 -> 21864 | P16: =Species!#REF! -> #REF! | Q16: ='Available Water'!E17 -> 802761 | R16: ='Available Water'!F17 -> 1172511 | S16: ='Available Water'!G17 -> 1700980
A17: 10080008 | B17: 6274000 | C17: ='Physical Supply by HUC 8'!X14 -> 27021.873 | D17: ='Physical Supply by HUC 8'!Z14 -> 67011.348 | E17: ='Physical Supply by HUC 8'!AB14 -> 101422.58 | F17: ='Physical Supply by HUC 8'!AD14 -> 123155.99 | G17: ='Physical Supply by HUC 8'!AR14 -> 358255.7 | H17: =SUM('Water Use Current M&I'!J17,'Water Use Current M&I'!AE17,'Water Use Current M&I'!BI25) -> 263.70199 | I17: ='Water Use Current Ag'!L16 -> 44713.809 | J17: ='Water Use Current Thermo'!BJ18 -> 0 | K17: 0 | L17: =SUM('Water Use Future M&I'!L17,'Water Use Future M&I'!Z17) -> 461.86764 | M17: ='Water Use Future Agriculture'!M17 -> 44568.224 | N17: =Recharge!B14 -> 245090 | O17: =Storage!H15 -> 5780 | P17: =Species!#REF! -> #REF! | Q17: ='Available Water'!E18 -> 248963 | R17: ='Available Water'!F18 -> 316886 | S17: ='Available Water'!G18 -> 374819
A18: 10080009 | B18: 6277500 | C18: ='Physical Supply by HUC 8'!X15 -> 507.1129 | D18: ='Physical Supply by HUC 8'!Z15 -> 3694.6797 | E18: ='Physical Supply by HUC 8'!AB15 -> 7244.47 | F18: ='Physical Supply by HUC 8'!AD15 -> 19560.069 | G18: ='Physical Supply by HUC 8'!AR15 -> 130694.59 | H18: =SUM('Water Use Current M&I'!J18,'Water Use Current M&I'!AE18,'Water Use Current M&I'!BI26) -> 471.83316 | I18: ='Water Use Current Ag'!L17 -> 164055.24 | J18: ='Water Use Current Thermo'!BJ19 -> 0 | K18: 0 | L18: =SUM('Water Use Future M&I'!L18,'Water Use Future M&I'!Z18) -> 671.84086 | M18: ='Water Use Future Agriculture'!M18 -> 163521.09 | N18: =Recharge!B15 -> 218691 | O18: =Storage!H16 -> 151744 | P18: =Species!#REF! -> #REF! | Q18: ='Available Water'!E19 -> 0 | R18: ='Available Water'!F19 -> 0 | S18: ='Available Water'!G19 -> 0
A19: 10080010 | B19: 6279500 | C19: ='Physical Supply by HUC 8'!X16 -> 282903.8 | D19: ='Physical Supply by HUC 8'!Z16 -> 449157.14 | E19: ='Physical Supply by HUC 8'!AB16 -> 538336.57 | F19: ='Physical Supply by HUC 8'!AD16 -> 695469.12 | G19: ='Physical Supply by HUC 8'!AR16 -> 1582619.7 | H19: =SUM('Water Use Current M&I'!J19,'Water Use Current M&I'!AE19,'Water Use Current M&I'!BI27) -> 1236.9293 | I19: ='Water Use Current Ag'!L18 -> 56853.002 | J19: ='Water Use Current Thermo'!BJ20 -> 0 | K19: 0 | L19: =SUM('Water Use Future M&I'!L19,'Water Use Future M&I'!Z19) -> 1798.7035 | M19: ='Water Use Future Agriculture'!M19 -> 56667.893 | N19: =Recharge!B16 -> 218570 | O19: =Storage!H17 -> 10043 | P19: =Species!#REF! -> #REF! | Q19: ='Available Water'!E20 -> 902512 | R19: ='Available Water'!F20 -> 1331142 | S19: ='Available Water'!G20 -> 1886436
A20: 10080011 | B20: 6278000 | C20: ='Physical Supply by HUC 8'!X17 -> 0 | D20: ='Physical Supply by HUC 8'!Z17 -> 1448.894 | E20: ='Physical Supply by HUC 8'!AB17 -> 2897.788 | F20: ='Physical Supply by HUC 8'!AD17 -> 4346.682 | G20: ='Physical Supply by HUC 8'!AR17 -> 18889.231 | H20: =SUM('Water Use Current M&I'!J20,'Water Use Current M&I'!AE20,'Water Use Current M&I'!BI28) -> 946.71933 | I20: ='Water Use Current Ag'!L19 -> 40879.928 | J20: ='Water Use Current Thermo'!BJ21 -> 0 | K20: 0 | L20: =SUM('Water Use Future M&I'!L20,'Water Use Future M&I'!Z20) -> 1700.8016 | M20: ='Water Use Future Agriculture'!M20 -> 40746.826 | N20: =Recharge!B17 -> 16889 | O20: =Storage!H18 -> 4544 | P20: =Species!#REF! -> #REF! | Q20: ='Available Water'!E21 -> 21686 | R20: ='Available Water'!F21 -> 20867 | S20: ='Available Water'!G21 -> 18355
A21: 10080012 | B21: 6280000 | C21: ='Physical Supply by HUC 8'!X18 -> 65200.23 | D21: ='Physical Supply by HUC 8'!Z18 -> 93670.997 | E21: ='Physical Supply by HUC 8'!AB18 -> 104320.37 | F21: ='Physical Supply by HUC 8'!AD18 -> 119533.76 | G21: ='Physical Supply by HUC 8'!AR18 -> 626024.36 | H21: =SUM('Water Use Current M&I'!J21,'Water Use Current M&I'!AE21,'Water Use Current M&I'!BI29) -> 82.769051 | I21: ='Water Use Current Ag'!L20 -> 6946.9179 | J21: ='Water Use Current Thermo'!BJ22 -> 0 | K21: 0 | L21: =SUM('Water Use Future M&I'!L21,'Water Use Future M&I'!Z21) -> 135.49204 | M21: ='Water Use Future Agriculture'!M21 -> 6924.2993 | N21: =Recharge!B18 -> 485339 | O21: =Storage!H19 -> 707 | P21: =Species!#REF! -> #REF! | Q21: ='Available Water'!E22 -> 324952 | R21: ='Available Water'!F22 -> 476366 | S21: ='Available Water'!G22 -> 571620
A22: 10080013 | B22: 6281000 | C22: ='Physical Supply by HUC 8'!X19 -> 210.08963 | D22: ='Physical Supply by HUC 8'!Z19 -> 3622.235 | E22: ='Physical Supply by HUC 8'!AB19 -> 15937.834 | F22: ='Physical Supply by HUC 8'!AD19 -> 55782.419 | G22: ='Physical Supply by HUC 8'!AR19 -> 280465.31 | H22: =SUM('Water Use Current M&I'!J22,'Water Use Current M&I'!AE22,'Water Use Current M&I'!BI30) -> 36.054127 | I22: ='Water Use Current Ag'!L21 -> 44105.857 | J22: ='Water Use Current Thermo'!BJ23 -> 0 | K22: 0 | L22: =SUM('Water Use Future M&I'!L22,'Water Use Future M&I'!Z22) -> 33.706706 | M22: ='Water Use Future Agriculture'!M22 -> 43962.252 | N22: =Recharge!B19 -> 427544 | O22: =Storage!H20 -> 1416 | P22: =Species!#REF! -> #REF! | Q22: ='Available Water'!E23 -> 179299 | R22: ='Available Water'!F23 -> 292339 | S22: ='Available Water'!G23 -> 406277
A23: 10080014 | B23: 6286200 | C23: ='Physical Supply by HUC 8'!X20 -> 163725.02 | D23: ='Physical Supply by HUC 8'!Z20 -> 247760.87 | E23: ='Physical Supply by HUC 8'!AB20 -> 326001.15 | F23: ='Physical Supply by HUC 8'!AD20 -> 441912.67 | G23: ='Physical Supply by HUC 8'!AR20 -> 825216.85 | H23: =SUM('Water Use Current M&I'!J23,'Water Use Current M&I'!AE23,'Water Use Current M&I'!BI31) -> 11794.998 | I23: ='Water Use Current Ag'!L22 -> 265019.29 | J23: ='Water Use Current Thermo'!BJ24 -> 0 | K23: 0 | L23: =SUM('Water Use Future M&I'!L23,'Water Use Future M&I'!Z23) -> 19408.494 | M23: ='Water Use Future Agriculture'!M23 -> 264156.41 | N23: =Recharge!B20 -> 165665 | O23: =Storage!H21 -> 6451 | P23: =Species!#REF! -> #REF! | Q23: ='Available Water'!E24 -> 569919 | R23: ='Available Water'!F24 -> 855715 | S23: ='Available Water'!G24 -> 1023558
A24: 10080016 | B24: 6289600 | C24: ='Physical Supply by HUC 8'!X21 -> 2752.8986 | D24: ='Physical Supply by HUC 8'!Z21 -> 3332.4562 | E24: ='Physical Supply by HUC 8'!AB21 -> 3767.1244 | F24: ='Physical Supply by HUC 8'!AD21 -> 4346.682 | G24: ='Physical Supply by HUC 8'!AR21 -> 8493.4166 | H24: =SUM('Water Use Current M&I'!L119,'Water Use Current M&I'!AC46,'Water Use Current M&I'!AS59) -> 20.045905 | I24: ='Water Use Current Ag'!I37 -> 2064 | J24: ='Water Use Current Thermo'!BJ25 -> 0 | K24: 0 | L24: =SUM('Water Use Future M&I'!M81,'Water Use Future M&I'!R38) -> 32.858379 | M24: ='Water Use Future Agriculture'!F38 -> 2180.1869 | N24: =Recharge!B21 -> 89881 | O24: =Storage!H22 -> 1556 | P24: =Species!#REF! -> #REF! | Q24: ='Available Water'!Q41 -> 702 | R24: ='Available Water'!R41 -> 1313 | S24: ='Available Water'!S41 -> 2268
A25: 10090101 | B25: 6306000 | C25: ='Physical Supply by HUC 8'!X22 -> 16662.281 | D25: ='Physical Supply by HUC 8'!Z22 -> 45640.161 | E25: ='Physical Supply by HUC 8'!AB22 -> 65200.23 | F25: ='Physical Supply by HUC 8'!AD22 -> 86933.64 | G25: ='Physical Supply by HUC 8'!AR22 -> 291690.62 | H25: =SUM('Water Use Current M&I'!L120,'Water Use Current M&I'!AC47,'Water Use Current M&I'!AS60) -> 7941.3894 | I25: ='Water Use Current Ag'!I38 -> 71369 | J25: ='Water Use Current Thermo'!BJ26 -> 0 | K25: 0 | L25: =SUM('Water Use Future M&I'!M82,'Water Use Future M&I'!R39) -> 9498.5327 | M25: ='Water Use Future Agriculture'!F39 -> 75386.512 | N25: =Recharge!B22 -> 362803 | O25: =Storage!H23 -> 41560 | P25: =Species!#REF! -> #REF! | Q25: ='Available Water'!Q42 -> 39971.193 | R25: ='Available Water'!R42 -> 90033.957 | S25: ='Available Water'!S42 -> 163012.06
A26: 10090201 | B26: 6310500 | C26: ='Physical Supply by HUC 8'!X23 -> 7244.47 | D26: ='Physical Supply by HUC 8'!Z23 -> 23182.304 | E26: ='Physical Supply by HUC 8'!AB23 -> 26080.092 | F26: ='Physical Supply by HUC 8'!AD23 -> 36222.35 | G26: ='Physical Supply by HUC 8'!AR23 -> 102296.99 | H26: =SUM('Water Use Current M&I'!L121,'Water Use Current M&I'!AC48,'Water Use Current M&I'!AS61) -> 188.21964 | I26: ='Water Use Current Ag'!I39 -> 11328.468 | J26: ='Water Use Current Thermo'!BJ27 -> 0 | K26: 0 | L26: =SUM('Water Use Future M&I'!M83,'Water Use Future M&I'!R40) -> 158.09499 | M26: ='Water Use Future Agriculture'!F40 -> 11966.171 | N26: =Recharge!B23 -> 150458 | O26: =Storage!H24 -> 5106 | P26: =Species!#REF! -> #REF! | Q26: ='Available Water'!Q43 -> 17716.337 | R26: ='Available Water'!R43 -> 28966.221 | S26: ='Available Water'!S43 -> 33529.903
A27: 10090202 | B27: 6317000 | C27: ='Physical Supply by HUC 8'!X24 -> 0 | D27: ='Physical Supply by HUC 8'!Z24 -> 72.4447 | E27: ='Physical Supply by HUC 8'!AB24 -> 10866.705 | F27: ='Physical Supply by HUC 8'!AD24 -> 34773.456 | G27: ='Physical Supply by HUC 8'!AR24 -> 195471.74 | H27: =SUM('Water Use Current M&I'!L122,'Water Use Current M&I'!AC49,'Water Use Current M&I'!AS62) -> 413.75134 | I27: ='Water Use Current Ag'!I40 -> 11316.852 | J27: ='Water Use Current Thermo'!BJ28 -> 0 | K27: 0 | L27: =SUM('Water Use Future M&I'!M84,'Water Use Future M&I'!R41) -> 371.95685 | M27: ='Water Use Future Agriculture'!F41 -> 11953.902 | N27: =Recharge!B24 -> 60224 | O27: =Storage!H25 -> 5943 | P27: =Species!#REF! -> #REF! | Q27: ='Available Water'!Q44 -> 42501.515 | R27: ='Available Water'!R44 -> 78910.061 | S27: ='Available Water'!S44 -> 127011.74
A28: 10090203 | B28: 6313000 | C28: ='Physical Supply by HUC 8'!X25 -> 0 | D28: ='Physical Supply by HUC 8'!Z25 -> 507.1129 | E28: ='Physical Supply by HUC 8'!AB25 -> 1593.7834 | F28: ='Physical Supply by HUC 8'!AD25 -> 3622.235 | G28: ='Physical Supply by HUC 8'!AR25 -> 27086.349 | H28: =SUM('Water Use Current M&I'!L123,'Water Use Current M&I'!AC50,'Water Use Current M&I'!AS63) -> 7.204302 | I28: ='Water Use Current Ag'!I41 -> 1337 | J28: ='Water Use Current Thermo'!BJ29 -> 0 | K28: 0 | L28: =SUM('Water Use Future M&I'!M85,'Water Use Future M&I'!R42) -> 7.8860109 | M28: ='Water Use Future Agriculture'!F42 -> 1412.2625 | N28: =Recharge!B25 -> 31712 | O28: =Storage!H26 -> 4617 | P28: =Species!#REF! -> #REF! | Q28: ='Available Water'!Q45 -> 4988.8237 | R28: ='Available Water'!R45 -> 10811.704 | S28: ='Available Water'!S45 -> 17332.56
A29: 10090204 | B29: 6313400 | C29: ='Physical Supply by HUC 8'!X26 -> 5381.1923 | D29: ='Physical Supply by HUC 8'!Z26 -> 8693.364 | E29: ='Physical Supply by HUC 8'!AB26 -> 10866.705 | F29: ='Physical Supply by HUC 8'!AD26 -> 15937.834 | G29: ='Physical Supply by HUC 8'!AR26 -> 32787.747 | H29: =SUM('Water Use Current M&I'!L124,'Water Use Current M&I'!AC51,'Water Use Current M&I'!AS64) -> 132.80707 | I29: ='Water Use Current Ag'!I42 -> 0 | J29: ='Water Use Current Thermo'!BJ30 -> 0 | K29: 0 | L29: =SUM('Water Use Future M&I'!M86,'Water Use Future M&I'!R43) -> 253.99527 | M29: ='Water Use Future Agriculture'!F43 -> 0 | N29: =Recharge!B26 -> 19533 | O29: =Storage!H27 -> 1645 | P29: =Species!#REF! -> #REF! | Q29: ='Available Water'!Q46 -> 8439.1778 | R29: ='Available Water'!R46 -> 13644.92 | S29: ='Available Water'!S46 -> 19091.838
A30: 10090205 | B30: 6316500 | C30: ='Physical Supply by HUC 8'!X27 -> 0 | D30: ='Physical Supply by HUC 8'!Z27 -> 0 | E30: ='Physical Supply by HUC 8'!AB27 -> 0 | F30: ='Physical Supply by HUC 8'!AD27 -> 289.7788 | G30: ='Physical Supply by HUC 8'!AR27 -> 28976.431 | H30: =SUM('Water Use Current M&I'!L125,'Water Use Current M&I'!AC52,'Water Use Current M&I'!AS65) -> 137.40744 | I30: ='Water Use Current Ag'!I43 -> 16741 | J30: ='Water Use Current Thermo'!BJ31 -> 0 | K30: 0 | L30: =SUM('Water Use Future M&I'!M87,'Water Use Future M&I'!R44) -> 123.21892 | M30: ='Water Use Future Agriculture'!F44 -> 17683.386 | N30: =Recharge!B27 -> 81787 | O30: =Storage!H28 -> 11705 | P30: =Species!#REF! -> #REF! | Q30: ='Available Water'!Q47 -> 15520 | R30: ='Available Water'!R47 -> 30610 | S30: ='Available Water'!S47 -> 61498
A31: 10090206 | B31: 6324000 | C31: ='Physical Supply by HUC 8'!X28 -> 579.5576 | D31: ='Physical Supply by HUC 8'!Z28 -> 5360.9078 | E31: ='Physical Supply by HUC 8'!AB28 -> 14488.94 | F31: ='Physical Supply by HUC 8'!AD28 -> 31875.668 | G31: ='Physical Supply by HUC 8'!AR28 -> 133434.44 | H31: =SUM('Water Use Current M&I'!L126,'Water Use Current M&I'!AC53,'Water Use Current M&I'!AS66) -> 2525.8204 | I31: ='Water Use Current Ag'!I44 -> 56743 | J31: ='Water Use Current Thermo'!BJ32 -> 0 | K31: 0 | L31: =SUM('Water Use Future M&I'!M88,'Water Use Future M&I'!R45) -> 2889.2433 | M31: ='Water Use Future Agriculture'!F45 -> 59937.183 | N31: =Recharge!B28 -> 239882 | O31: =Storage!H29 -> 366732 | P31: =Species!#REF! -> #REF! | Q31: ='Available Water'!Q48 -> 0 | R31: ='Available Water'!R48 -> 0 | S31: ='Available Water'!S48 -> 0
A32: 10090207 | B32: 6324500 | C32: ='Physical Supply by HUC 8'!X29 -> 2476.1598 | D32: ='Physical Supply by HUC 8'!Z29 -> 13764.493 | E32: ='Physical Supply by HUC 8'!AB29 -> 32600.115 | F32: ='Physical Supply by HUC 8'!AD29 -> 65200.23 | G32: ='Physical Supply by HUC 8'!AR29 -> 2709431.8 | H32: =SUM('Water Use Current M&I'!L127,'Water Use Current M&I'!AC54,'Water Use Current M&I'!AS67) -> 40.591924 | I32: ='Water Use Current Ag'!I45 -> 2141.6803 | J32: ='Water Use Current Thermo'!BJ33 -> 0 | K32: 0 | L32: =SUM('Water Use Future M&I'!M89,'Water Use Future M&I'!R46) -> 43.044476 | M32: ='Water Use Future Agriculture'!F46 -> 2262.24 | N32: =Recharge!B29 -> 7187 | O32: =Storage!H30 -> 547 | P32: =Species!#REF! -> #REF! | Q32: ='Available Water'!Q49 -> 193770 | R32: ='Available Water'!R49 -> 324023 | S32: ='Available Water'!S49 -> 546537
A33: 10090208 | B33: 6324970 | C33: ='Physical Supply by HUC 8'!X30 -> 0 | D33: ='Physical Supply by HUC 8'!Z30 -> 7.24447 | E33: ='Physical Supply by HUC 8'!AB30 -> 14.48894 | F33: ='Physical Supply by HUC 8'!AD30 -> 224.57857 | G33: ='Physical Supply by HUC 8'!AR30 -> 14570.078 | H33: =SUM('Water Use Current M&I'!L128,'Water Use Current M&I'!AC55,'Water Use Current M&I'!AS68) -> 691.31714 | I33: ='Water Use Current Ag'!I46 -> 10999 | J33: ='Water Use Current Thermo'!BJ34 -> 0 | K33: 0 | L33: =SUM('Water Use Future M&I'!M90,'Water Use Future M&I'!R47) -> 906.23409 | M33: ='Water Use Future Agriculture'!F47 -> 11618.157 | N33: =Recharge!B30 -> 27874 | O33: =Storage!H31 -> 3742 | P33: =Species!#REF! -> #REF! | Q33: ='Available Water'!Q50 -> 0 | R33: ='Available Water'!R50 -> 0 | S33: ='Available Water'!S50 -> 0
A34: 10110201 | C34: ='Physical Supply by HUC 8'!X31 -> 0 | D34: ='Physical Supply by HUC 8'!Z31 -> 0 | E34: ='Physical Supply by HUC 8'!AB31 -> 0 | F34: ='Physical Supply by HUC 8'!AD31 -> 0 | G34: ='Physical Supply by HUC 8'!AR31 -> 0 | H34: =SUM('Water Use Current M&I'!M197,'Water Use Current M&I'!AH110,'Water Use Current M&I'!AS209) -> 73.620135 | I34: ='Water Use Current Ag'!K73 -> 10455 | J34: ='Water Use Current Thermo'!BJ35 -> 0 | K34: 0 | L34: =SUM('Water Use Future M&I'!L217,'Water Use Future M&I'!R188) -> 114.1306 | M34: ='Water Use Future Agriculture'!K72 -> 10958.993 | N34: =Recharge!B31 -> 19824 | O34: =Storage!H32 -> 5839 | P34: =Species!#REF! -> #REF! | Q34: ='Available Water'!E57 -> 0 | R34: ='Available Water'!F57 -> 0 | S34: ='Available Water'!G57 -> 0
A35: 10120101 | B35: 6364700 | C35: ='Physical Supply by HUC 8'!X32 -> 0 | D35: ='Physical Supply by HUC 8'!Z32 -> 7.24447 | E35: ='Physical Supply by HUC 8'!AB32 -> 36.22235 | F35: ='Physical Supply by HUC 8'!AD32 -> 115.91152 | G35: ='Physical Supply by HUC 8'!AR32 -> 7061.9094 | H35: =SUM('Water Use Current M&I'!M198,'Water Use Current M&I'!AH111,'Water Use Current M&I'!AS210) -> 975.45067 | I35: ='Water Use Current Ag'!K74 -> 926.7256 | J35: ='Water Use Current Thermo'!BJ36 -> 0 | K35: 0 | L35: =SUM('Water Use Future M&I'!L218,'Water Use Future M&I'!R189) -> 976.85788 | M35: ='Water Use Future Agriculture'!K73 -> 971.3993 | N35: =Recharge!B32 -> 19841 | O35: =Storage!H33 -> 3744 | P35: =Species!#REF! -> #REF! | Q35: ='Available Water'!E58 -> 534 | R35: ='Available Water'!F58 -> 2837 | S35: ='Available Water'!G58 -> 21427
A36: 10120102 | B36: 6365300 | C36: ='Physical Supply by HUC 8'!X33 -> 0 | D36: ='Physical Supply by HUC 8'!Z33 -> 0 | E36: ='Physical Supply by HUC 8'!AB33 -> 0 | F36: ='Physical Supply by HUC 8'!AD33 -> 0 | G36: ='Physical Supply by HUC 8'!AR33 -> 604.1888 | H36: =SUM('Water Use Current M&I'!M199,'Water Use Current M&I'!AH112,'Water Use Current M&I'!AS211) -> 17.648663 | I36: ='Water Use Current Ag'!K75 -> 1545.544 | J36: ='Water Use Current Thermo'!BJ37 -> 0 | K36: 0 | L36: =SUM('Water Use Future M&I'!L219,'Water Use Future M&I'!R190) -> 23.613226 | M36: ='Water Use Future Agriculture'!K74 -> 1620.0484 | N36: =Recharge!B33 -> 9253 | O36: =Storage!H34 -> 770 | P36: =Species!#REF! -> #REF! | Q36: ='Available Water'!E59 -> 0 | R36: ='Available Water'!F59 -> 0 | S36: ='Available Water'!G59 -> 0
A37: 10120103 | B37: 6375600 | C37: ='Physical Supply by HUC 8'!X34 -> 0 | D37: ='Physical Supply by HUC 8'!Z34 -> 0 | E37: ='Physical Supply by HUC 8'!AB34 -> 0 | F37: ='Physical Supply by HUC 8'!AD34 -> 0 | G37: ='Physical Supply by HUC 8'!AR34 -> 1426.4361 | H37: =SUM('Water Use Current M&I'!M200,'Water Use Current M&I'!AH113,'Water Use Current M&I'!AS212) -> 936.86538 | I37: ='Water Use Current Ag'!K76 -> 5465.0358 | J37: ='Water Use Current Thermo'!BJ38 -> 0 | K37: 0 | L37: =SUM('Water Use Future M&I'!L220,'Water Use Future M&I'!R191) -> 959.44991 | M37: ='Water Use Future Agriculture'!K75 -> 5728.483 | N37: =Recharge!B34 -> 32394 | O37: =Storage!H35 -> 5479 | P37: =Species!#REF! -> #REF! | Q37: ='Available Water'!E60 -> 1515 | R37: ='Available Water'!F60 -> 12895 | S37: ='Available Water'!G60 -> 57621
A38: 10120104 | C38: ='Physical Supply by HUC 8'!X35 -> 0 | D38: ='Physical Supply by HUC 8'!Z35 -> 0 | E38: ='Physical Supply by HUC 8'!AB35 -> 0 | F38: ='Physical Supply by HUC 8'!AD35 -> 0 | G38: ='Physical Supply by HUC 8'!AR35 -> 0 | H38: =SUM('Water Use Current M&I'!M201,'Water Use Current M&I'!AH114,'Water Use Current M&I'!AS213) -> 78.232194 | I38: ='Water Use Current Ag'!K77 -> 8192.0961 | J38: ='Water Use Current Thermo'!BJ39 -> 0 | K38: ='Current Groundwater Pumping'!L5 -> 26.137646 | L38: =SUM('Water Use Future M&I'!L221,'Water Use Future M&I'!R192) -> 116.49192 | M38: ='Water Use Future Agriculture'!K76 -> 8587.0039 | N38: =Recharge!B35 -> 24692 | O38: =Storage!H36 -> 5375 | P38: =Species!#REF! -> #REF! | Q38: ='Available Water'!E61 -> 3184 | R38: ='Available Water'!F61 -> 18323 | S38: ='Available Water'!G61 -> 44909
A39: 10120105 | C39: ='Physical Supply by HUC 8'!X36 -> 0 | D39: ='Physical Supply by HUC 8'!Z36 -> 0 | E39: ='Physical Supply by HUC 8'!AB36 -> 0 | F39: ='Physical Supply by HUC 8'!AD36 -> 0 | G39: ='Physical Supply by HUC 8'!AR36 -> 0 | H39: =SUM('Water Use Current M&I'!M202,'Water Use Current M&I'!AH115,'Water Use Current M&I'!AS214) -> 45.130151 | I39: ='Water Use Current Ag'!K78 -> 2959.1039 | J39: ='Water Use Current Thermo'!BJ40 -> 0 | K39: ='Current Groundwater Pumping'!L6 -> 0.49991822 | L39: =SUM('Water Use Future M&I'!L222,'Water Use Future M&I'!R193) -> 64.149269 | M39: ='Water Use Future Agriculture'!K77 -> 3101.7503 | N39: =Recharge!B36 -> 18825 | O39: =Storage!H37 -> 1440 | P39: =Species!#REF! -> #REF! | Q39: ='Available Water'!E62 -> 0 | R39: ='Available Water'!F62 -> 0 | S39: ='Available Water'!G62 -> 0
A40: 10120106 | B40: 6386500 | C40: ='Physical Supply by HUC 8'!X37 -> 0 | D40: ='Physical Supply by HUC 8'!Z37 -> 0 | E40: ='Physical Supply by HUC 8'!AB37 -> 0 | F40: ='Physical Supply by HUC 8'!AD37 -> 0 | G40: ='Physical Supply by HUC 8'!AR37 -> 40584.97 | H40: =SUM('Water Use Current M&I'!M203,'Water Use Current M&I'!AH116,'Water Use Current M&I'!AS215) -> 10.08495 | I40: ='Water Use Current Ag'!K79 -> 3981.283 | J40: ='Water Use Current Thermo'!BJ41 -> 0 | K40: 0 | L40: =SUM('Water Use Future M&I'!L223,'Water Use Future M&I'!R194) -> 16.922816 | M40: ='Water Use Future Agriculture'!K78 -> 4173.2046 | N40: =Recharge!B37 -> 10063 | O40: =Storage!H38 -> 2581 | P40: =Species!#REF! -> #REF! | Q40: ='Available Water'!E63 -> 4911 | R40: ='Available Water'!F63 -> 31434 | S40: ='Available Water'!G63 -> 103362
A41: 10120107 | B41: 6394000 | C41: ='Physical Supply by HUC 8'!X38 -> 0 | D41: ='Physical Supply by HUC 8'!Z38 -> 101.42258 | E41: ='Physical Supply by HUC 8'!AB38 -> 420.17926 | F41: ='Physical Supply by HUC 8'!AD38 -> 1304.0046 | G41: ='Physical Supply by HUC 8'!AR38 -> 22313.692 | H41: =SUM('Water Use Current M&I'!M204,'Water Use Current M&I'!AH117,'Water Use Current M&I'!AS216) -> 2285.6904 | I41: ='Water Use Current Ag'!K80 -> 11799 | J41: ='Water Use Current Thermo'!BJ42 -> 466.79645 | K41: 0 | L41: =SUM('Water Use Future M&I'!L224,'Water Use Future M&I'!R195) -> 2234.0892 | M41: ='Water Use Future Agriculture'!K79 -> 12367.782 | N41: =Recharge!B38 -> 38281 | O41: =Storage!H39 -> 8213 | P41: =Species!#REF! -> #REF! | Q41: ='Available Water'!E64 -> 13778 | R41: ='Available Water'!F64 -> 20468 | S41: ='Available Water'!G64 -> 29635
A42: 10120108 | C42: ='Physical Supply by HUC 8'!X39 -> 0 | D42: ='Physical Supply by HUC 8'!Z39 -> 0 | E42: ='Physical Supply by HUC 8'!AB39 -> 0 | F42: ='Physical Supply by HUC 8'!AD39 -> 0 | G42: ='Physical Supply by HUC 8'!AR39 -> 0 | H42: =SUM('Water Use Current M&I'!M205,'Water Use Current M&I'!AH118,'Water Use Current M&I'!AS217) -> 11.849816 | I42: ='Water Use Current Ag'!K81 -> 2013.2116 | J42: ='Water Use Current Thermo'!BJ43 -> 0 | K42: ='Current Groundwater Pumping'!L7 -> 5.5515504 | L42: =SUM('Water Use Future M&I'!L225,'Water Use Future M&I'!R196) -> 20.071241 | M42: ='Water Use Future Agriculture'!K80 -> 2110.2604 | N42: =Recharge!B39 -> 4751 | O42: =Storage!H40 -> 855 | P42: =Species!#REF! -> #REF! | Q42: ='Available Water'!E65 -> 0 | R42: ='Available Water'!F65 -> 0 | S42: ='Available Water'!G65 -> 0
A43: 10120201 | B43: 6428000 | C43: ='Physical Supply by HUC 8'!X40 -> 0 | D43: ='Physical Supply by HUC 8'!Z40 -> 289.7788 | E43: ='Physical Supply by HUC 8'!AB40 -> 724.447 | F43: ='Physical Supply by HUC 8'!AD40 -> 2173.341 | G43: ='Physical Supply by HUC 8'!AR40 -> 52556.457 | H43: =SUM('Water Use Current M&I'!M206,'Water Use Current M&I'!AH119,'Water Use Current M&I'!AS218) -> 5213.6471 | I43: ='Water Use Current Ag'!K82 -> 13384 | J43: ='Water Use Current Thermo'!BJ44 -> 0 | K43: 0 | L43: =SUM('Water Use Future M&I'!L226,'Water Use Future M&I'!R197) -> 11756.446 | M43: ='Water Use Future Agriculture'!K81 -> 14029.189 | N43: =Recharge!B40 -> 79355 | O43: =Storage!H41 -> 345441 | P43: =Species!#REF! -> #REF! | Q43: ='Available Water'!E66 -> 0 | R43: ='Available Water'!F66 -> 0 | S43: ='Available Water'!G66 -> 0
A44: 10120202 | B44: 6428500 | C44: ='Physical Supply by HUC 8'!X41 -> 0 | D44: ='Physical Supply by HUC 8'!Z41 -> 72.4447 | E44: ='Physical Supply by HUC 8'!AB41 -> 2897.788 | F44: ='Physical Supply by HUC 8'!AD41 -> 7968.917 | G44: ='Physical Supply by HUC 8'!AR41 -> 662325.67 | H44: =SUM('Water Use Current M&I'!M207,'Water Use Current M&I'!AH120,'Water Use Current M&I'!AS219) -> 53.702359 | I44: ='Water Use Current Ag'!K83 -> 6893 | J44: ='Water Use Current Thermo'!BJ45 -> 0 | K44: 0 | L44: =SUM('Water Use Future M&I'!L227,'Water Use Future M&I'!R198) -> 81.465634 | M44: ='Water Use Future Agriculture'!K82 -> 7225.2836 | N44: =Recharge!B41 -> 13678 | O44: =Storage!H42 -> 4951 | P44: =Species!#REF! -> #REF! | Q44: ='Available Water'!E67 -> 0 | R44: ='Available Water'!F67 -> 0 | S44: ='Available Water'!G67 -> 0
A45: 10120203 | B45: 6429905 | C45: ='Physical Supply by HUC 8'!X42 -> 10866.705 | D45: ='Physical Supply by HUC 8'!Z42 -> 11591.152 | E45: ='Physical Supply by HUC 8'!AB42 -> 11591.152 | F45: ='Physical Supply by HUC 8'!AD42 -> 12315.599 | G45: ='Physical Supply by HUC 8'!AR42 -> 16581.143 | H45: =SUM('Water Use Current M&I'!M208,'Water Use Current M&I'!AH121,'Water Use Current M&I'!AS220) -> 384.00761 | I45: ='Water Use Current Ag'!K84 -> 2509 | J45: ='Water Use Current Thermo'!BJ46 -> 0 | K45: 0 | L45: =SUM('Water Use Future M&I'!L228,'Water Use Future M&I'!R199) -> 539.31509 | M45: ='Water Use Future Agriculture'!K83 -> 2629.9487 | N45: =Recharge!B42 -> 25921 | O45: =Storage!H43 -> 397 | P45: =Species!#REF! -> #REF! | Q45: ='Available Water'!E68 -> 17293 | R45: ='Available Water'!F68 -> 26391 | S45: ='Available Water'!G68 -> 34279
A46: 10150002 | B46: 6454000 | C46: ='Physical Supply by HUC 8'!X43 -> 796.8917 | D46: ='Physical Supply by HUC 8'!Z43 -> 1159.1152 | E46: ='Physical Supply by HUC 8'!AB43 -> 1304.0046 | F46: ='Physical Supply by HUC 8'!AD43 -> 1521.3387 | G46: ='Physical Supply by HUC 8'!AR43 -> 2631.1915 | H46: =SUM('Water Use Current M&I'!M209,'Water Use Current M&I'!AH122,'Water Use Current M&I'!AS221) -> 425.9958 | I46: ='Water Use Current Ag'!K85 -> 16192 | J46: ='Water Use Current Thermo'!BJ47 -> 0 | K46: ='Current Groundwater Pumping'!L8 -> 50.658406 | L46: =SUM('Water Use Future M&I'!L229,'Water Use Future M&I'!R200) -> 532.05338 | M46: ='Water Use Future Agriculture'!K84 -> 16972.551 | N46: =Recharge!B43 -> 15858 | O46: =Storage!H44 -> 559 | P46: =Species!#REF! -> #REF! | Q46: ='Available Water'!E69 -> 0 | R46: ='Available Water'!F69 -> 0 | S46: ='Available Water'!G69 -> 0
A47: 10180002 | B47: 6630000 | C47: ='Physical Supply by HUC 8'!X44 -> 78964.723 | D47: ='Physical Supply by HUC 8'!Z44 -> 134022.7 | E47: ='Physical Supply by HUC 8'!AB44 -> 162276.13 | F47: ='Physical Supply by HUC 8'!AD44 -> 199222.92 | G47: ='Physical Supply by HUC 8'!AR44 -> 801118.85 | H47: =SUM('Water Use Current M&I'!M140,'Water Use Current M&I'!AI64,'Water Use Current M&I'!AT72) -> 4556.7316 | I47: ='Water Use Current Ag'!L52 -> 91598.089 | J47: ='Water Use Current Thermo'!BJ48 -> 0 | K47: 0 | L47: =SUM('Water Use Future M&I'!M117,'Water Use Future M&I'!AB51) -> 5217.3731 | M47: ='Water Use Future Agriculture'!J51 -> 92340.275 | N47: =Recharge!B44 -> 533250 | O47: =Storage!H45 -> 117098 | P47: =Species!#REF! -> #REF! | Q47: -9999 | R47: -9999 | S47: -9999
A48: 10180003 | B48: 6636000 | C48: ='Physical Supply by HUC 8'!X45 -> 6157.7995 | D48: ='Physical Supply by HUC 8'!Z45 -> 114462.63 | E48: ='Physical Supply by HUC 8'!AB45 -> 177489.52 | F48: ='Physical Supply by HUC 8'!AD45 -> 241240.85 | G48: ='Physical Supply by HUC 8'!AR45 -> 1082997.6 | H48: =SUM('Water Use Current M&I'!M141,'Water Use Current M&I'!AI65,'Water Use Current M&I'!AT73) -> 212.47406 | I48: ='Water Use Current Ag'!L53 -> 4191.8516 | J48: ='Water Use Current Thermo'!BJ49 -> 0 | K48: 0 | L48: =SUM('Water Use Future M&I'!M118,'Water Use Future M&I'!AB52) -> 234.14959 | M48: ='Water Use Future Agriculture'!J52 -> 4225.8166 | N48: =Recharge!B45 -> 26025 | O48: =Storage!H46 -> 3051624 | P48: =Species!#REF! -> #REF! | Q48: -9999 | R48: -9999 | S48: -9999
A49: 10180004 | B49: 6635000 | C49: ='Physical Supply by HUC 8'!X46 -> 2318.2304 | D49: ='Physical Supply by HUC 8'!Z46 -> 6520.023 | E49: ='Physical Supply by HUC 8'!AB46 -> 10142.258 | F49: ='Physical Supply by HUC 8'!AD46 -> 15937.834 | G49: ='Physical Supply by HUC 8'!AR46 -> 127979.36 | H49: =SUM('Water Use Current M&I'!M142,'Water Use Current M&I'!AI66,'Water Use Current M&I'!AT74) -> 628.16028 | I49: ='Water Use Current Ag'!L54 -> 37951.197 | J49: ='Water Use Current Thermo'!BJ50 -> 0 | K49: 0 | L49: =SUM('Water Use Future M&I'!M119,'Water Use Future M&I'!AB53) -> 696.24127 | M49: ='Water Use Future Agriculture'!J53 -> 38258.702 | N49: =Recharge!B46 -> 198460 | O49: =Storage!H47 -> 10628 | P49: =Species!#REF! -> #REF! | Q49: -9999 | R49: -9999 | S49: -9999
A50: 10180005 | B50: 6634620 | C50: ='Physical Supply by HUC 8'!X47 -> 260.80092 | D50: ='Physical Supply by HUC 8'!Z47 -> 630.26889 | E50: ='Physical Supply by HUC 8'!AB47 -> 869.3364 | F50: ='Physical Supply by HUC 8'!AD47 -> 1593.7834 | G50: ='Physical Supply by HUC 8'!AR47 -> 30871.584 | H50: =SUM('Water Use Current M&I'!M143,'Water Use Current M&I'!AI67,'Water Use Current M&I'!AT75) -> 1693.0459 | I50: ='Water Use Current Ag'!L55 -> 3184.9092 | J50: ='Water Use Current Thermo'!BJ51 -> 0 | K50: 0 | L50: =SUM('Water Use Future M&I'!M120,'Water Use Future M&I'!AB54) -> 1825.6612 | M50: ='Water Use Future Agriculture'!J54 -> 3210.7153 | N50: =Recharge!B47 -> 27425 | O50: =Storage!H48 -> 5804 | P50: =Species!#REF! -> #REF! | Q50: -9999 | R50: -9999 | S50: -9999
A51: 10180006 | B51: 6639000 | C51: ='Physical Supply by HUC 8'!X48 -> 1593.7834 | D51: ='Physical Supply by HUC 8'!Z48 -> 7244.47 | E51: ='Physical Supply by HUC 8'!AB48 -> 13040.046 | F51: ='Physical Supply by HUC 8'!AD48 -> 20284.516 | G51: ='Physical Supply by HUC 8'!AR48 -> 102295.54 | H51: =SUM('Water Use Current M&I'!M144,'Water Use Current M&I'!AI68,'Water Use Current M&I'!AT76) -> 12712.382 | I51: ='Water Use Current Ag'!L56 -> 11173.953 | J51: ='Water Use Current Thermo'!BJ52 -> 0 | K51: 0 | L51: =SUM('Water Use Future M&I'!M121,'Water Use Future M&I'!AB55) -> 13626.575 | M51: ='Water Use Future Agriculture'!J55 -> 11264.492 | N51: =Recharge!B48 -> 163246 | O51: =Storage!H49 -> 5551 | P51: =Species!#REF! -> #REF! | Q51: -9999 | R51: -9999 | S51: -9999
A52: 10180007 | B52: 6646800 | C52: ='Physical Supply by HUC 8'!X49 -> 342663.43 | D52: ='Physical Supply by HUC 8'!Z49 -> 435392.65 | E52: ='Physical Supply by HUC 8'!AB49 -> 489726.17 | F52: ='Physical Supply by HUC 8'!AD49 -> 615779.95 | G52: ='Physical Supply by HUC 8'!AR49 -> 1096138.3 | H52: =SUM('Water Use Current M&I'!M145,'Water Use Current M&I'!AI69,'Water Use Current M&I'!AT77) -> 30389.033 | I52: ='Water Use Current Ag'!L57 -> 64212.962 | J52: ='Water Use Current Thermo'!BJ53 -> 7483.8994 | K52: 0 | L52: =SUM('Water Use Future M&I'!M122,'Water Use Future M&I'!AB56) -> 39489.157 | M52: ='Water Use Future Agriculture'!J56 -> 65316.91 | N52: =Recharge!B49 -> 123439 | O52: =Storage!H50 -> 232379 | P52: =Species!#REF! -> #REF! | Q52: -9999 | R52: -9999 | S52: -9999
A53: 10180008 | B53: 6656000 | C53: ='Physical Supply by HUC 8'!X50 -> 1014.2258 | D53: ='Physical Supply by HUC 8'!Z50 -> 1593.7834 | E53: ='Physical Supply by HUC 8'!AB50 -> 3187.5668 | F53: ='Physical Supply by HUC 8'!AD50 -> 13040.046 | G53: ='Physical Supply by HUC 8'!AR50 -> 1328862.5 | H53: =SUM('Water Use Current M&I'!M146,'Water Use Current M&I'!AI70,'Water Use Current M&I'!AT78) -> 10050.911 | I53: ='Water Use Current Ag'!L58 -> 40487.038 | J53: ='Water Use Current Thermo'!BJ54 -> 0 | K53: ='Current Groundwater Pumping'!L9 -> 88.007322 | L53: =SUM('Water Use Future M&I'!M123,'Water Use Future M&I'!AB57) -> 12410.843 | M53: ='Water Use Future Agriculture'!J57 -> 41183.09 | N53: =Recharge!B50 -> 118923 | O53: =Storage!H51 -> 47765 | P53: =Species!#REF! -> #REF! | Q53: -9999 | R53: -9999 | S53: -9999
A54: 10180009 | B54: 6672000 | C54: ='Physical Supply by HUC 8'!X51 -> 139093.82 | D54: ='Physical Supply by HUC 8'!Z51 -> 197774.03 | E54: ='Physical Supply by HUC 8'!AB51 -> 229649.7 | F54: ='Physical Supply by HUC 8'!AD51 -> 294849.93 | G54: ='Physical Supply by HUC 8'!AR51 -> 1077149.8 | H54: =SUM('Water Use Current M&I'!M147,'Water Use Current M&I'!AI71,'Water Use Current M&I'!AT79) -> 4352.015 | I54: ='Water Use Current Ag'!L59 -> 112800 | J54: ='Water Use Current Thermo'!BJ55 -> 0 | K54: ='Current Groundwater Pumping'!L10 -> 140.75128 | L54: =SUM('Water Use Future M&I'!M124,'Water Use Future M&I'!AB58) -> 3900 | M54: ='Water Use Future Agriculture'!J58 -> 113600 | N54: =Recharge!B51 -> 49289 | O54: =Storage!H52 -> 2988 | P54: =Species!#REF! -> #REF! | Q54: -9999 | R54: -9999 | S54: -9999
A55: 10180010 | B55: 6662000 | C55: ='Physical Supply by HUC 8'!X52 -> 0 | D55: ='Physical Supply by HUC 8'!Z52 -> 1666.2281 | E55: ='Physical Supply by HUC 8'!AB52 -> 5143.5737 | F55: ='Physical Supply by HUC 8'!AD52 -> 11591.152 | G55: ='Physical Supply by HUC 8'!AR52 -> 113160.79 | H55: =SUM('Water Use Current M&I'!M148,'Water Use Current M&I'!AI72,'Water Use Current M&I'!AT80) -> 5649.6732 | I55: ='Water Use Current Ag'!L60 -> 72500 | J55: ='Water Use Current Thermo'!BJ56 -> 0 | K55: 0 | L55: =SUM('Water Use Future M&I'!M125,'Water Use Future M&I'!AB59) -> 9300 | M55: ='Water Use Future Agriculture'!J59 -> 73100 | N55: =Recharge!B52 -> 138428 | O55: =Storage!H53 -> 161397 | P55: =Species!#REF! -> #REF! | Q55: -9999 | R55: -9999 | S55: -9999
A56: 10180011 | B56: 6670500 | C56: ='Physical Supply by HUC 8'!X53 -> 4419.1267 | D56: ='Physical Supply by HUC 8'!Z53 -> 6664.9124 | E56: ='Physical Supply by HUC 8'!AB53 -> 10142.258 | F56: ='Physical Supply by HUC 8'!AD53 -> 21733.41 | G56: ='Physical Supply by HUC 8'!AR53 -> 99158.683 | H56: =SUM('Water Use Current M&I'!M149,'Water Use Current M&I'!AI73,'Water Use Current M&I'!AT81) -> 1558.2299 | I56: ='Water Use Current Ag'!L61 -> 121100 | J56: ='Water Use Current Thermo'!BJ57 -> 25944.344 | K56: ='Current Groundwater Pumping'!L11 -> 104.83712 | L56: =SUM('Water Use Future M&I'!M126,'Water Use Future M&I'!AB60) -> 1500 | M56: ='Water Use Future Agriculture'!J60 -> 122200 | N56: =Recharge!B53 -> 113652 | O56: =Storage!H54 -> 227950 | P56: =Species!#REF! -> #REF! | Q56: -9999 | R56: -9999 | S56: -9999
A57: 10180012 | B57: 6677100 | C57: ='Physical Supply by HUC 8'!X54 -> 3042.6774 | D57: ='Physical Supply by HUC 8'!Z54 -> 5940.4654 | E57: ='Physical Supply by HUC 8'!AB54 -> 6882.2465 | F57: ='Physical Supply by HUC 8'!AD54 -> 7968.917 | G57: ='Physical Supply by HUC 8'!AR54 -> 33772.995 | H57: =SUM('Water Use Current M&I'!M150,'Water Use Current M&I'!AI74,'Water Use Current M&I'!AT82) -> 7856.8891 | I57: ='Water Use Current Ag'!L62 -> 69600 | J57: ='Water Use Current Thermo'!BJ58 -> 0 | K57: ='Current Groundwater Pumping'!L12 -> 125.54989 | L57: =SUM('Water Use Future M&I'!M127,'Water Use Future M&I'!AB61) -> 7867 | M57: ='Water Use Future Agriculture'!J61 -> 70200 | N57: =Recharge!B54 -> 49082 | O57: =Storage!H55 -> 25039 | P57: =Species!#REF! -> #REF! | Q57: -9999 | R57: -9999 | S57: -9999
A58: 10180013 | C58: ='Physical Supply by HUC 8'!X55 -> 0 | D58: ='Physical Supply by HUC 8'!Z55 -> 0 | E58: ='Physical Supply by HUC 8'!AB55 -> 0 | F58: ='Physical Supply by HUC 8'!AD55 -> 0 | G58: ='Physical Supply by HUC 8'!AR55 -> 0 | H58: =SUM('Water Use Current M&I'!M151,'Water Use Current M&I'!AI75,'Water Use Current M&I'!AT83) -> 0 | I58: ='Water Use Current Ag'!L63 -> 0 | J58: ='Water Use Current Thermo'!BJ59 -> 0 | K58: ='Current Groundwater Pumping'!L13 -> 3.4750712 | L58: =SUM('Water Use Future M&I'!M128,'Water Use Future M&I'!AB62) -> 0 | M58: ='Water Use Future Agriculture'!J62 -> 0 | N58: =Recharge!B55 -> 1128 | O58: =Storage!H56 -> 0 | P58: =Species!#REF! -> #REF! | Q58: -9999 | R58: -9999 | S58: -9999
A59: 10190007 | C59: ='Physical Supply by HUC 8'!X56 -> 0 | D59: ='Physical Supply by HUC 8'!Z56 -> 0 | E59: ='Physical Supply by HUC 8'!AB56 -> 0 | F59: ='Physical Supply by HUC 8'!AD56 -> 0 | G59: ='Physical Supply by HUC 8'!AR56 -> 0 | H59: =SUM('Water Use Current M&I'!M152,'Water Use Current M&I'!AI76,'Water Use Current M&I'!AT84) -> 43.369157 | I59: ='Water Use Current Ag'!L64 -> 320.34603 | J59: ='Water Use Current Thermo'!BJ60 -> 0 | K59: ='Current Groundwater Pumping'!L14 -> 1.0666722 | L59: =SUM('Water Use Future M&I'!M129,'Water Use Future M&I'!AB63) -> 52.14939 | M59: ='Water Use Future Agriculture'!J63 -> 324.50636 | N59: =Recharge!B56 -> 3524 | O59: =Storage!H57 -> 323 | P59: =Species!#REF! -> #REF! | Q59: -9999 | R59: -9999 | S59: -9999
A60: 10190008 | B60: 6753000 | C60: ='Physical Supply by HUC 8'!X57 -> 0 | D60: ='Physical Supply by HUC 8'!Z57 -> 0 | E60: ='Physical Supply by HUC 8'!AB57 -> 72.4447 | F60: ='Physical Supply by HUC 8'!AD57 -> 144.8894 | G60: ='Physical Supply by HUC 8'!AR57 -> 1606.8234 | H60: =SUM('Water Use Current M&I'!M153,'Water Use Current M&I'!AI77,'Water Use Current M&I'!AT85) -> 904.23769 | I60: ='Water Use Current Ag'!L65 -> 583.91117 | J60: ='Water Use Current Thermo'!BJ61 -> 0 | K60: ='Current Groundwater Pumping'!L15 -> 8.8431023 | L60: =SUM('Water Use Future M&I'!M130,'Water Use Future M&I'!AB64) -> 914.99015 | M60: ='Water Use Future Agriculture'!J64 -> 591.49444 | N60: =Recharge!B57 -> 3694 | O60: =Storage!H58 -> 768 | P60: =Species!#REF! -> #REF! | Q60: -9999 | R60: -9999 | S60: -9999
A61: 10190009 | B61: 6756100 | C61: ='Physical Supply by HUC 8'!X58 -> 467.26832 | D61: ='Physical Supply by HUC 8'!Z58 -> 724.447 | E61: ='Physical Supply by HUC 8'!AB58 -> 1014.2258 | F61: ='Physical Supply by HUC 8'!AD58 -> 1376.4493 | G61: ='Physical Supply by HUC 8'!AR58 -> 10032.142 | H61: =SUM('Water Use Current M&I'!M154,'Water Use Current M&I'!AI78,'Water Use Current M&I'!AT86) -> 14944.549 | I61: ='Water Use Current Ag'!L66 -> 8031.5327 | J61: ='Water Use Current Thermo'!BJ62 -> 0 | K61: ='Current Groundwater Pumping'!L16 -> 43.306522 | L61: =SUM('Water Use Future M&I'!M131,'Water Use Future M&I'!AB65) -> 15787.284 | M61: ='Water Use Future Agriculture'!J65 -> 8135.8384 | N61: =Recharge!B58 -> 14932 | O61: =Storage!H59 -> 15149 | P61: =Species!#REF! -> #REF! | Q61: -9999 | R61: -9999 | S61: -9999
A62: 10190015 | B62: 6761000 | C62: ='Physical Supply by HUC 8'!X59 -> 0 | D62: ='Physical Supply by HUC 8'!Z59 -> 0 | E62: ='Physical Supply by HUC 8'!AB59 -> 0 | F62: ='Physical Supply by HUC 8'!AD59 -> 217.3341 | G62: ='Physical Supply by HUC 8'!AR59 -> 1814.0153 | H62: =SUM('Water Use Current M&I'!M155,'Water Use Current M&I'!AI79,'Water Use Current M&I'!AT87) -> 4078.6125 | I62: ='Water Use Current Ag'!L67 -> 21301.316 | J62: ='Water Use Current Thermo'!BJ63 -> 0 | K62: ='Current Groundwater Pumping'!L17 -> 99.715728 | L62: =SUM('Water Use Future M&I'!M132,'Water Use Future M&I'!AB66) -> 4390.9237 | M62: ='Water Use Future Agriculture'!J66 -> 21577.957 | N62: =Recharge!B59 -> 30032 | O62: =Storage!H60 -> 2603 | P62: =Species!#REF! -> #REF! | Q62: -9999 | R62: -9999 | S62: -9999
A63: 10190016 | C63: ='Physical Supply by HUC 8'!X60 -> 0 | D63: ='Physical Supply by HUC 8'!Z60 -> 0 | E63: ='Physical Supply by HUC 8'!AB60 -> 0 | F63: ='Physical Supply by HUC 8'!AD60 -> 0 | G63: ='Physical Supply by HUC 8'!AR60 -> 0 | H63: =SUM('Water Use Current M&I'!M156,'Water Use Current M&I'!AI80,'Water Use Current M&I'!AT88) -> 48.828114 | I63: ='Water Use Current Ag'!L68 -> 8262.8938 | J63: ='Water Use Current Thermo'!BJ64 -> 0 | K63: ='Current Groundwater Pumping'!L18 -> 15.238449 | L63: =SUM('Water Use Future M&I'!M133,'Water Use Future M&I'!AB67) -> 54.652863 | M63: ='Water Use Future Agriculture'!J67 -> 8370.2041 | N63: =Recharge!B60 -> 4837 | O63: =Storage!H61 -> 530 | P63: =Species!#REF! -> #REF! | Q63: -9999 | R63: -9999 | S63: -9999
A64: 10190017 | C64: ='Physical Supply by HUC 8'!X61 -> 0 | D64: ='Physical Supply by HUC 8'!Z61 -> 0 | E64: ='Physical Supply by HUC 8'!AB61 -> 0 | F64: ='Physical Supply by HUC 8'!AD61 -> 0 | G64: ='Physical Supply by HUC 8'!AR61 -> 0 | H64: =SUM('Water Use Current M&I'!M157,'Water Use Current M&I'!AI81,'Water Use Current M&I'!AT89) -> 0 | I64: ='Water Use Current Ag'!L69 -> 0 | J64: ='Water Use Current Thermo'!BJ65 -> 0 | K64: ='Current Groundwater Pumping'!L19 -> 1.1602782 | L64: =SUM('Water Use Future M&I'!M134,'Water Use Future M&I'!AB68) -> 0 | M64: ='Water Use Future Agriculture'!J68 -> 0 | N64: =Recharge!B61 -> 340 | O64: =Storage!H62 -> 0 | P64: =Species!#REF! -> #REF! | Q64: -9999 | R64: -9999 | S64: -9999
A65: 14040101 | B65: 9209500 | C65: ='Physical Supply by HUC 8'!X62 -> 202845.16 | D65: ='Physical Supply by HUC 8'!Z62 -> 246311.98 | E65: ='Physical Supply by HUC 8'!AB62 -> 275289.86 | F65: ='Physical Supply by HUC 8'!AD62 -> 337592.3 | G65: ='Physical Supply by HUC 8'!AR62 -> 1119307.6 | H65: =SUM('Water Use Current M&I'!G230,'Water Use Current M&I'!AC144,'Water Use Current M&I'!AQ225) -> 2260.0445 | I65: ='Water Use Current Ag'!R94 -> 162466.76 | J65: ='Water Use Current Thermo'!BJ66 -> 0 | K65: 0 | L65: =SUM('Water Use Future M&I'!O275,'Water Use Future M&I'!AC204) -> 4181.1561 | M65: ='Water Use Future Agriculture'!O88 -> 163456.8 | N65: =Recharge!B62 -> 932765 | O65: =Storage!H63 -> 7263 | P65: =Species!#REF! -> #REF! | Q65: ='Available Water'!Q74 -> 56774.752 | R65: ='Available Water'!R74 -> 155107.86 | S65: ='Available Water'!S74 -> 270211.49
A66: 14040102 | B66: 9205000 | C66: ='Physical Supply by HUC 8'!X63 -> 97800.345 | D66: ='Physical Supply by HUC 8'!Z63 -> 119533.76 | E66: ='Physical Supply by HUC 8'!AB63 -> 134022.7 | F66: ='Physical Supply by HUC 8'!AD63 -> 155756.11 | G66: ='Physical Supply by HUC 8'!AR63 -> 521176.59 | H66: =SUM('Water Use Current M&I'!G231,'Water Use Current M&I'!AC145,'Water Use Current M&I'!AQ226) -> 1496.4996 | I66: ='Water Use Current Ag'!R95 -> 62309.139 | J66: ='Water Use Current Thermo'!BJ67 -> 0 | K66: 0 | L66: =SUM('Water Use Future M&I'!O276,'Water Use Future M&I'!AC205) -> 3051.5005 | M66: ='Water Use Future Agriculture'!O89 -> 62689.471 | N66: =Recharge!B63 -> 553232 | O66: =Storage!H64 -> 99580 | P66: =Species!#REF! -> #REF! | Q66: ='Available Water'!Q75 -> 43296.802 | R66: ='Available Water'!R75 -> 100701.61 | S66: ='Available Water'!S75 -> 144482.12
A67: 14040103 | B67: 9216500 | C67: ='Physical Supply by HUC 8'!X64 -> 181111.75 | D67: ='Physical Supply by HUC 8'!Z64 -> 217334.1 | E67: ='Physical Supply by HUC 8'!AB64 -> 246311.98 | F67: ='Physical Supply by HUC 8'!AD64 -> 311512.21 | G67: ='Physical Supply by HUC 8'!AR64 -> 1339242.4 | H67: =SUM('Water Use Current M&I'!G232,'Water Use Current M&I'!AC146,'Water Use Current M&I'!AQ227) -> 12905.635 | I67: ='Water Use Current Ag'!R96 -> 2576.3188 | J67: ='Water Use Current Thermo'!BJ68 -> 0 | K67: 0 | L67: =SUM('Water Use Future M&I'!O277,'Water Use Future M&I'!AC206) -> 24393.272 | M67: ='Water Use Future Agriculture'!O90 -> 2599.4134 | N67: =Recharge!B64 -> 48794 | O67: =Storage!H65 -> 41085 | P67: =Species!#REF! -> #REF! | Q67: ='Available Water'!Q76 -> 114180.52 | R67: ='Available Water'!R76 -> 218213.44 | S67: ='Available Water'!S76 -> 346443.65
A68: 14040104 | B68: 9216050 | C68: ='Physical Supply by HUC 8'!X65 -> 7968.917 | D68: ='Physical Supply by HUC 8'!Z65 -> 13040.046 | E68: ='Physical Supply by HUC 8'!AB65 -> 16662.281 | F68: ='Physical Supply by HUC 8'!AD65 -> 21733.41 | G68: ='Physical Supply by HUC 8'!AR65 -> 51150.305 | H68: =SUM('Water Use Current M&I'!G233,'Water Use Current M&I'!AC147,'Water Use Current M&I'!AQ228) -> 51.506664 | I68: ='Water Use Current Ag'!R97 -> 26658.628 | J68: ='Water Use Current Thermo'!BJ69 -> 0 | K68: 0 | L68: =SUM('Water Use Future M&I'!O278,'Water Use Future M&I'!AC207) -> 67.531525 | M68: ='Water Use Future Agriculture'!O91 -> 26827.688 | N68: =Recharge!B65 -> 14223 | O68: =Storage!H66 -> 122692 | P68: =Species!#REF! -> #REF! | Q68: ='Available Water'!Q77 -> 4950.8527 | R68: ='Available Water'!R77 -> 8686.6723 | S68: ='Available Water'!S77 -> 15806.364
A69: 14040105 | B69: 9216562 | C69: ='Physical Supply by HUC 8'!X66 -> 0 | D69: ='Physical Supply by HUC 8'!Z66 -> 0 | E69: ='Physical Supply by HUC 8'!AB66 -> 0 | F69: ='Physical Supply by HUC 8'!AD66 -> 0 | G69: ='Physical Supply by HUC 8'!AR66 -> 4619.7985 | H69: =SUM('Water Use Current M&I'!G234,'Water Use Current M&I'!AC148,'Water Use Current M&I'!AQ229) -> 6032.8287 | I69: ='Water Use Current Ag'!R98 -> 356.49921 | J69: ='Water Use Current Thermo'!BJ70 -> 32462.475 | K69: 0 | L69: =SUM('Water Use Future M&I'!O279,'Water Use Future M&I'!AC208) -> 13605.996 | M69: ='Water Use Future Agriculture'!O92 -> 369.87861 | N69: =Recharge!B66 -> 50129 | O69: =Storage!H67 -> 20938 | P69: =Species!#REF! -> #REF! | Q69: ='Available Water'!Q78 -> 0 | R69: ='Available Water'!R78 -> 0 | S69: ='Available Water'!S78 -> 0
A70: 14040106 | B70: 9229500 | C70: ='Physical Supply by HUC 8'!X67 -> 72.4447 | D70: ='Physical Supply by HUC 8'!Z67 -> 1231.5599 | E70: ='Physical Supply by HUC 8'!AB67 -> 3042.6774 | F70: ='Physical Supply by HUC 8'!AD67 -> 12315.599 | G70: ='Physical Supply by HUC 8'!AR67 -> 59140.231 | H70: =SUM('Water Use Current M&I'!G235,'Water Use Current M&I'!AC149,'Water Use Current M&I'!AQ230) -> 67.598181 | I70: ='Water Use Current Ag'!R99 -> 20024.03 | J70: ='Water Use Current Thermo'!BJ71 -> 0 | K70: 0 | L70: =SUM('Water Use Future M&I'!O280,'Water Use Future M&I'!AC209) -> 84.885558 | M70: ='Water Use Future Agriculture'!O93 -> 20149.573 | N70: =Recharge!B67 -> 101044 | O70: =Storage!H68 -> 0 | P70: =Species!#REF! -> #REF! | Q70: ='Available Water'!Q79 -> 4533.6945 | R70: ='Available Water'!R79 -> 9936.8043 | S70: ='Available Water'!S79 -> 22590.987
A71: 14040107 | B71: 9225000 | C71: ='Physical Supply by HUC 8'!X68 -> 0 | D71: ='Physical Supply by HUC 8'!Z68 -> 0 | E71: ='Physical Supply by HUC 8'!AB68 -> 434.6682 | F71: ='Physical Supply by HUC 8'!AD68 -> 7244.47 | G71: ='Physical Supply by HUC 8'!AR68 -> 218124.47 | H71: =SUM('Water Use Current M&I'!G236,'Water Use Current M&I'!AC150,'Water Use Current M&I'!AQ231) -> 5303.2385 | I71: ='Water Use Current Ag'!R100 -> 99248.813 | J71: ='Water Use Current Thermo'!BJ72 -> 468.41413 | K71: 0 | L71: =SUM('Water Use Future M&I'!O281,'Water Use Future M&I'!AC210) -> 9122.2867 | M71: ='Water Use Future Agriculture'!O94 -> 99857.163 | N71: =Recharge!B68 -> 368166 | O71: =Storage!H69 -> 244758 | P71: =Species!#REF! -> #REF! | Q71: ='Available Water'!Q80 -> 2566.8176 | R71: ='Available Water'!R80 -> 9698.0172 | S71: ='Available Water'!S80 -> 22459.03
A72: 14040108 | B72: 9222400 | C72: ='Physical Supply by HUC 8'!X69 -> 0 | D72: ='Physical Supply by HUC 8'!Z69 -> 106.49371 | E72: ='Physical Supply by HUC 8'!AB69 -> 796.8917 | F72: ='Physical Supply by HUC 8'!AD69 -> 1956.0069 | G72: ='Physical Supply by HUC 8'!AR69 -> 26148.914 | H72: =SUM('Water Use Current M&I'!G237,'Water Use Current M&I'!AC151,'Water Use Current M&I'!AQ232) -> 10.586263 | I72: ='Water Use Current Ag'!R101 -> 4097.4631 | J72: ='Water Use Current Thermo'!BJ73 -> 10785.104 | K72: 0 | L72: =SUM('Water Use Future M&I'!O282,'Water Use Future M&I'!AC211) -> 11.016047 | M72: ='Water Use Future Agriculture'!O95 -> 4126.8774 | N72: =Recharge!B69 -> 62611 | O72: =Storage!H70 -> 10214 | P72: =Species!#REF! -> #REF! | Q72: ='Available Water'!Q81 -> 1111.2711 | R72: ='Available Water'!R81 -> 4724.1488 | S72: ='Available Water'!S81 -> 11119.999
A73: 14040109 | B73: 9235300 | C73: ='Physical Supply by HUC 8'!X70 -> 0 | D73: ='Physical Supply by HUC 8'!Z70 -> 0 | E73: ='Physical Supply by HUC 8'!AB70 -> 7.24447 | F73: ='Physical Supply by HUC 8'!AD70 -> 246.31198 | G73: ='Physical Supply by HUC 8'!AR70 -> 2339.9638 | H73: =SUM('Water Use Current M&I'!G238,'Water Use Current M&I'!AC152,'Water Use Current M&I'!AQ233) -> 0.1209445 | I73: ='Water Use Current Ag'!R102 -> 689.9825 | J73: ='Water Use Current Thermo'!BJ74 -> 0 | K73: 0 | L73: =SUM('Water Use Future M&I'!O283,'Water Use Future M&I'!AC212) -> 0.15868302 | M73: ='Water Use Future Agriculture'!O96 -> 696.77016 | N73: =Recharge!B70 -> 12350 | O73: =Storage!H71 -> 698 | P73: =Species!#REF! -> #REF! | Q73: ='Available Water'!Q82 -> 0 | R73: ='Available Water'!R82 -> 0 | S73: ='Available Water'!S82 -> 0
A74: 14040200 | B74: 9216527 | C74: ='Physical Supply by HUC 8'!X71 -> 0 | D74: ='Physical Supply by HUC 8'!Z71 -> 0 | E74: ='Physical Supply by HUC 8'!AB71 -> 0 | F74: ='Physical Supply by HUC 8'!AD71 -> 0 | G74: ='Physical Supply by HUC 8'!AR71 -> 1301.8313 | H74: =SUM('Water Use Current M&I'!G239,'Water Use Current M&I'!AC153,'Water Use Current M&I'!AQ234) -> 91.090578 | I74: ='Water Use Current Ag'!R103 -> 326.57256 | J74: ='Water Use Current Thermo'!BJ75 -> 0 | K74: 0 | L74: =SUM('Water Use Future M&I'!O284,'Water Use Future M&I'!AC213) -> 113.53543 | M74: ='Water Use Future Agriculture'!O97 -> 347.89759 | N74: =Recharge!B71 -> 95480 | O74: =Storage!H72 -> 18840 | P74: =Species!#REF! -> #REF! | Q74: ='Available Water'!Q83 -> 0 | R74: ='Available Water'!R83 -> 0 | S74: ='Available Water'!S83 -> 0
A75: 14050003 | B75: 9257000 | C75: ='Physical Supply by HUC 8'!X72 -> 166.62281 | D75: ='Physical Supply by HUC 8'!Z72 -> 1086.6705 | E75: ='Physical Supply by HUC 8'!AB72 -> 2897.788 | F75: ='Physical Supply by HUC 8'!AD72 -> 13040.046 | G75: ='Physical Supply by HUC 8'!AR72 -> 430484.52 | H75: =SUM('Water Use Current M&I'!G240,'Water Use Current M&I'!AC154,'Water Use Current M&I'!AQ235) -> 200.14177 | I75: ='Water Use Current Ag'!R104 -> 17999.3 | J75: ='Water Use Current Thermo'!BJ76 -> 0 | K75: 0 | L75: =SUM('Water Use Future M&I'!O285,'Water Use Future M&I'!AC214) -> 188.86608 | M75: ='Water Use Future Agriculture'!O98 -> 18114.155 | N75: =Recharge!B72 -> 142218 | O75: =Storage!H73 -> 23319 | P75: =Species!#REF! -> #REF! | Q75: ='Available Water'!Q84 -> 34009.614 | R75: ='Available Water'!R84 -> 77995.734 | S75: ='Available Water'!S84 -> 123078.36
A76: 14050004 | B76: 9259000 | C76: ='Physical Supply by HUC 8'!X73 -> 76.791382 | D76: ='Physical Supply by HUC 8'!Z73 -> 188.35622 | E76: ='Physical Supply by HUC 8'!AB73 -> 289.7788 | F76: ='Physical Supply by HUC 8'!AD73 -> 383.95691 | G76: ='Physical Supply by HUC 8'!AR73 -> 10692.113 | H76: =SUM('Water Use Current M&I'!G241,'Water Use Current M&I'!AC155,'Water Use Current M&I'!AQ236) -> 14.735514 | I76: ='Water Use Current Ag'!R105 -> 2265.0266 | J76: ='Water Use Current Thermo'!BJ77 -> 0 | K76: 0 | L76: =SUM('Water Use Future M&I'!O286,'Water Use Future M&I'!AC215) -> 13.813172 | M76: ='Water Use Future Agriculture'!O99 -> 2283.6983 | N76: =Recharge!B73 -> 25550 | O76: =Storage!H74 -> 1178 | P76: =Species!#REF! -> #REF! | Q76: ='Available Water'!Q85 -> 1461.1086 | R76: ='Available Water'!R85 -> 2641.4266 | S76: ='Available Water'!S85 -> 2641.4266
A77: 16010101 | B77: 10020500 | C77: ='Physical Supply by HUC 8'!X74 -> 0 | D77: ='Physical Supply by HUC 8'!Z74 -> 0 | E77: ='Physical Supply by HUC 8'!AB74 -> 724.447 | F77: ='Physical Supply by HUC 8'!AD74 -> 7027.1359 | G77: ='Physical Supply by HUC 8'!AR74 -> 145101.66 | H77: =SUM('Water Use Current M&I'!K248,'Water Use Current M&I'!AC167,'Water Use Current M&I'!AP240) -> 5441.8268 | I77: ='Water Use Current Ag'!I109 -> 62973.669 | J77: ='Water Use Current Thermo'!BJ78 -> 0 | K77: 0 | L77: =SUM('Water Use Future M&I'!J298,'Water Use Future M&I'!V219) -> 4229.36 | M77: ='Water Use Future Agriculture'!L103 -> 62769.637 | N77: =Recharge!B74 -> 127897 | O77: =Storage!H75 -> 80500 | P77: =Species!#REF! -> #REF! | Q77: ='Available Water'!E90 -> 0 | R77: ='Available Water'!F90 -> 0 | S77: ='Available Water'!G90 -> 0
A78: 16010102 | B78: 10038000 | C78: ='Physical Supply by HUC 8'!X75 -> 50711.29 | D78: ='Physical Supply by HUC 8'!Z75 -> 65200.23 | E78: ='Physical Supply by HUC 8'!AB75 -> 76791.382 | F78: ='Physical Supply by HUC 8'!AD75 -> 95627.004 | G78: ='Physical Supply by HUC 8'!AR75 -> 306392.54 | H78: =SUM('Water Use Current M&I'!K247,'Water Use Current M&I'!AC166,'Water Use Current M&I'!AP241) -> 951.67997 | I78: ='Water Use Current Ag'!I110 -> 31754.331 | J78: ='Water Use Current Thermo'!BJ79 -> 0 | K78: 0 | L78: =SUM('Water Use Future M&I'!J297,'Water Use Future M&I'!V220) -> 531.64001 | M78: ='Water Use Future Agriculture'!L104 -> 31650.363 | N78: =Recharge!B75 -> 195660 | O78: =Storage!H76 -> 119 | P78: =Species!#REF! -> #REF! | Q78: ='Available Water'!E91 -> 0 | R78: ='Available Water'!F91 -> 0 | S78: ='Available Water'!G91 -> 0
A79: 16020101 | C79: ='Physical Supply by HUC 8'!X76 -> 0 | D79: ='Physical Supply by HUC 8'!Z76 -> 0 | E79: ='Physical Supply by HUC 8'!AB76 -> 0 | F79: ='Physical Supply by HUC 8'!AD76 -> 0 | G79: ='Physical Supply by HUC 8'!AR76 -> 0 | H79: 0 | I79: 0 | J79: 0 | K79: 0 | L79: 0 | M79: 0 | N79: =Recharge!B76 -> 1285 | O79: =Storage!H77 -> 0 | P79: =Species!#REF! -> #REF! | Q79: 0 | R79: 0 | S79: 0
A80: 17040101 | B80: 13013650 | C80: ='Physical Supply by HUC 8'!X77 -> 478135.02 | D80: ='Physical Supply by HUC 8'!Z77 -> 521601.84 | E80: ='Physical Supply by HUC 8'!AB77 -> 559055.75 | F80: ='Physical Supply by HUC 8'!AD77 -> 659971.22 | G80: ='Physical Supply by HUC 8'!AR77 -> 2339735.6 | H80: =SUM('Water Use Current M&I'!P65,'Water Use Current M&I'!AF35,'Water Use Current M&I'!AR48) -> 64.121093 | I80: ='Water Use Current Ag'!E26 -> 8029 | J80: ='Water Use Current Thermo'!BJ81 -> 0 | K80: ='Current Groundwater Pumping'!L20 -> 5.0392509 | L80: =SUM('Water Use Future M&I'!J27,'Water Use Future M&I'!U27) -> 5.2830198 | M80: ='Water Use Future Agriculture'!F27 -> 8423.4961 | N80: =Recharge!B77 -> 1585699 | O80: =Storage!H78 -> 848040 | P80: =Species!#REF! -> #REF! | Q80: ='Available Water'!Q29 -> 32135.641 | R80: ='Available Water'!R29 -> 61350.793 | S80: ='Available Water'!S29 -> 93953.097
A81: 17040102 | B81: 13015000 | C81: ='Physical Supply by HUC 8'!X78 -> 0 | D81: ='Physical Supply by HUC 8'!Z78 -> 688.22465 | E81: ='Physical Supply by HUC 8'!AB78 -> 3716.4131 | F81: ='Physical Supply by HUC 8'!AD78 -> 18835.622 | G81: ='Physical Supply by HUC 8'!AR78 -> 291388.52 | H81: =SUM('Water Use Current M&I'!P66,'Water Use Current M&I'!AF36,'Water Use Current M&I'!AR49) -> 24.059006 | I81: ='Water Use Current Ag'!E27 -> 0 | J81: ='Water Use Current Thermo'!BJ82 -> 0 | K81: 0 | L81: =SUM('Water Use Future M&I'!J28,'Water Use Future M&I'!U28) -> 19.018871 | M81: ='Water Use Future Agriculture'!F28 -> 0 | N81: =Recharge!B78 -> 380971 | O81: =Storage!H79 -> 0 | P81: =Species!#REF! -> #REF! | Q81: ='Available Water'!Q30 -> 7118.4854 | R81: ='Available Water'!R30 -> 11834.776 | S81: ='Available Water'!S30 -> 16936.31
A82: 17040103 | B82: 13023500 | C82: ='Physical Supply by HUC 8'!X79 -> 873755.53 | D82: ='Physical Supply by HUC 8'!Z79 -> 985247.92 | E82: ='Physical Supply by HUC 8'!AB79 -> 1043203.7 | F82: ='Physical Supply by HUC 8'!AD79 -> 1159115.2 | G82: ='Physical Supply by HUC 8'!AR79 -> 3904372.3 | H82: =SUM('Water Use Current M&I'!P67,'Water Use Current M&I'!AF37,'Water Use Current M&I'!AR50) -> 5133.2647 | I82: ='Water Use Current Ag'!E28 -> 29577 | J82: ='Water Use Current Thermo'!BJ83 -> 0 | K82: 0 | L82: =SUM('Water Use Future M&I'!J29,'Water Use Future M&I'!U29) -> 6736.9834 | M82: ='Water Use Future Agriculture'!F29 -> 31030.234 | N82: =Recharge!B79 -> 1087798 | O82: =Storage!H80 -> 411 | P82: =Species!#REF! -> #REF! | Q82: ='Available Water'!Q31 -> 56452.849 | R82: ='Available Water'!R31 -> 101250.15 | S82: ='Available Water'!S31 -> 151299.68
A83: 17040104 | B83: 13030000 | C83: ='Physical Supply by HUC 8'!X80 -> 0 | D83: ='Physical Supply by HUC 8'!Z80 -> 0 | E83: ='Physical Supply by HUC 8'!AB80 -> 0 | F83: ='Physical Supply by HUC 8'!AD80 -> 0 | G83: ='Physical Supply by HUC 8'!AR80 -> 128227.12 | H83: =SUM('Water Use Current M&I'!P68,'Water Use Current M&I'!AF38,'Water Use Current M&I'!AR51) -> 9.1272969 | I83: ='Water Use Current Ag'!E29 -> 0 | J83: ='Water Use Current Thermo'!BJ84 -> 0 | K83: 0 | L83: =SUM('Water Use Future M&I'!J30,'Water Use Future M&I'!U30) -> 0 | M83: ='Water Use Future Agriculture'!F30 -> 0 | N83: =Recharge!B80 -> 55011 | O83: =Storage!H81 -> 0 | P83: =Species!#REF! -> #REF! | Q83: ='Available Water'!Q32 -> 0 | R83: ='Available Water'!R32 -> 0 | S83: ='Available Water'!S32 -> 0
A84: 17040105 | B84: 13027500 | C84: ='Physical Supply by HUC 8'!X81 -> 212987.42 | D84: ='Physical Supply by HUC 8'!Z81 -> 249209.77 | E84: ='Physical Supply by HUC 8'!AB81 -> 269494.28 | F84: ='Physical Supply by HUC 8'!AD81 -> 304992.19 | G84: ='Physical Supply by HUC 8'!AR81 -> 553942.6 | H84: =SUM('Water Use Current M&I'!P69,'Water Use Current M&I'!AF39,'Water Use Current M&I'!AR52) -> 5836.7759 | I84: ='Water Use Current Ag'!E30 -> 60772 | J84: ='Water Use Current Thermo'!BJ85 -> 0 | K84: ='Current Groundwater Pumping'!L21 -> 0.00037282021 | L84: =SUM('Water Use Future M&I'!J31,'Water Use Future M&I'!U31) -> 5138.251 | M84: ='Water Use Future Agriculture'!F31 -> 63757.966 | N84: =Recharge!B81 -> 281720 | O84: =Storage!H82 -> 70 | P84: =Species!#REF! -> #REF! | Q84: ='Available Water'!Q33 -> 6901.1578 | R84: ='Available Water'!R33 -> 16064.405 | S84: ='Available Water'!S33 -> 25266.073
A85: 17040202 | C85: ='Physical Supply by HUC 8'!X82 -> 0 | D85: ='Physical Supply by HUC 8'!Z82 -> 0 | E85: ='Physical Supply by HUC 8'!AB82 -> 0 | F85: ='Physical Supply by HUC 8'!AD82 -> 0 | G85: ='Physical Supply by HUC 8'!AR82 -> 0 | H85: =SUM('Water Use Current M&I'!P70,'Water Use Current M&I'!AF40,'Water Use Current M&I'!AR53) -> 0 | I85: ='Water Use Current Ag'!E31 -> 0 | J85: ='Water Use Current Thermo'!BJ86 -> 0 | K85: ='Current Groundwater Pumping'!L22 -> 0.34059576 | L85: =SUM('Water Use Future M&I'!J32,'Water Use Future M&I'!U32) -> 0 | M85: ='Water Use Future Agriculture'!F32 -> 0 | N85: =Recharge!B82 -> 21732 | O85: =Storage!H83 -> 0 | P85: -9999 | Q85: ='Available Water'!Q34 -> 0 | R85: ='Available Water'!R34 -> 0 | S85: ='Available Water'!S34 -> 0
A86: 17040203 | B86: 13046680 | C86: ='Physical Supply by HUC 8'!X83 -> 39844.585 | D86: ='Physical Supply by HUC 8'!Z83 -> 42742.373 | E86: ='Physical Supply by HUC 8'!AB83 -> 44191.267 | F86: ='Physical Supply by HUC 8'!AD83 -> 47089.055 | G86: ='Physical Supply by HUC 8'!AR83 -> 80470.848 | H86: =SUM('Water Use Current M&I'!P71,'Water Use Current M&I'!AF41,'Water Use Current M&I'!AR54) -> 0 | I86: ='Water Use Current Ag'!E32 -> 0 | J86: ='Water Use Current Thermo'!BJ87 -> 0 | K86: ='Current Groundwater Pumping'!L23 -> 4.7221767 | L86: =SUM('Water Use Future M&I'!J33,'Water Use Future M&I'!U33) -> 0 | M86: ='Water Use Future Agriculture'!F33 -> 0 | N86: =Recharge!B83 -> 299572 | O86: =Storage!H84 -> 16575 | P86: -9999 | Q86: ='Available Water'!Q35 -> 0 | R86: ='Available Water'!R35 -> 0 | S86: ='Available Water'!S35 -> 0
A87: 17040204 | B87: 13051500 | C87: ='Physical Supply by HUC 8'!X84 -> 4708.9055 | D87: ='Physical Supply by HUC 8'!Z84 -> 5940.4654 | E87: ='Physical Supply by HUC 8'!AB84 -> 6302.6889 | F87: ='Physical Supply by HUC 8'!AD84 -> 7244.47 | G87: ='Physical Supply by HUC 8'!AR84 -> 83001.342 | H87: =SUM('Water Use Current M&I'!P72,'Water Use Current M&I'!AF42,'Water Use Current M&I'!AR55) -> 379.70365 | I87: ='Water Use Current Ag'!E33 -> 4036 | J87: ='Water Use Current Thermo'!BJ88 -> 0 | K87: ='Current Groundwater Pumping'!L24 -> 1.8109173 | L87: =SUM('Water Use Future M&I'!J34,'Water Use Future M&I'!U34) -> 562.72966 | M87: ='Water Use Future Agriculture'!F34 -> 4234.3045 | N87: =Recharge!B84 -> 324993 | O87: =Storage!H85 -> 0 | P87: -9999 | Q87: ='Available Water'!Q36 -> 0 | R87: ='Available Water'!R36 -> 0 | S87: ='Available Water'!S36 -> 0

Sheet Document Sources and Data
A1: Document Sources and Data

Sheet GIS Sources and Data
A1: GIS Sources and Data

Sheet Physical Supply by HUC 8 Detail
A1: Physical Supply USGS

Sheet Physical Supply by HUC 8
A1: HUC 8 | B1: Site No | C1: STATION_NM | D1: STATE_CD | E1: STATE | F1: SITESTATUS | G1: DA_SQ_MILE | H1: LON_SITE | I1: LAT_SITE | J1: LON_NHD | K1: LAT_NHD | L1: NHD2GAGE_D | M1: REVIEWED | N1: BFIYRS | O1: BFI_AVE | P1: BFI_STDEV | Q1: GOTBFI | R1: DAY1 | S1: DAYN | T1: NDAYS | U1: NDAYSGT0 | V1: MIN_ | W1: P1 | X1: P1 AFY | Y1: P5 | Z1: P5 AFY | AA1: P10 | AB1: P10 AFY | AC1: P20 | AD1: P20 AFY | AE1: P25 | AF1: P30 | AG1: P40 | AH1: P50 | AI1: P60 | AJ1: P70 | AK1: P75 | AL1: P80 | AM1: P90 | AN1: P95 | AO1: P99 | AP1: MAX_ | AQ1: AVE | AR1: AVG AFY
A2: 10020007 | B2: =Input!B5 -> 6037100 | C2: Gibbon River at Madison Jct, YNP | D2: 56 | E2: WY | F2: A | G2: -999999 | H2: -110.86105 | I2: 44.640488 | J2: -110.86106 | K2: 44.640816 | L2: 36.544 | M2: Y | N2: 2 | O2: 0.906 | P2: 0.022 | Q2: 1 | R2: 20010323 | S2: 20040930 | T2: 923 | U2: 923 | V2: 75 | W2: =Input!C5 -> 79 | X2: =W2*724.447 -> 57231.313 | Y2: =Input!D5 -> 81 | Z2: =Y2*724.447 -> 58680.207 | AA2: =Input!E5 -> 84 | AB2: =AA2*724.447 -> 60853.548 | AC2: =Input!F5 -> 87 | AD2: =AC2*724.447 -> 63026.889 | AE2: 88 | AF2: 90 | AG2: 93 | AH2: 96 | AI2: 102 | AJ2: 116 | AK2: 128 | AL2: 141.2 | AM2: 190 | AN2: 233.8 | AO2: 441 | AP2: 584 | AQ2: =Input!G5 -> 121.407 | AR2: =Input!G5 -> 121.407
A3: 10020008 | B3: =Input!B6 -> 0 | C3: No Streamgages | W3: =Input!C6 -> 0 | Y3: =Input!D6 -> 0 | AA3: =Input!E6 -> 0 | AC3: =Input!F6 -> 0 | AQ3: =Input!G6 -> 0
A4: 10070001 | B4: =Input!B7 -> 6188000 | C4: Lamar River nr Tower Falls Ranger Station YNP | D4: 56 | E4: WY | F4: A | G4: 660 | H4: -110.39381 | I4: 44.927716 | J4: -110.39426 | K4: 44.928211 | L4: 65.435 | M4: Y | N4: 62 | O4: 0.642 | P4: 0.102 | Q4: 1 | R4: 19230501 | S4: 20030930 | T4: 22769 | U4: 22769 | V4: 45 | W4: =Input!C7 -> 70 | X4: =W4*724.447 -> 50711.29 | Y4: =Input!D7 -> 85 | Z4: =Y4*724.447 -> 61577.995 | AA4: =Input!E7 -> 90 | AB4: =AA4*724.447 -> 65200.23 | AC4: =Input!F7 -> 110 | AD4: =AC4*724.447 -> 79689.17 | AE4: 115 | AF4: 120 | AG4: 150 | AH4: 186 | AI4: 252 | AJ4: 420 | AK4: 638 | AL4: 1100 | AM4: 2980 | AN4: 4470 | AO4: 7630 | AP4: 15600 | AQ4: =Input!G7 -> 879.089 | AR4: =AQ4*724.447 -> 636853.39
A5: 10070002 | B5: =Input!B8 -> 0 | C5: No Streamgages | W5: =Input!C8 -> 0 | Y5: =Input!D8 -> 0 | AA5: =Input!E8 -> 0 | AC5: =Input!F8 -> 0 | AQ5: =Input!G8 -> 0
A6: 10070006 | B6: =Input!B9 -> 6207000 | C6: CLARKS FORK YELLOWSTONE RIVER NEAR CLARK WYO | D6: 56 | E6: WY | F6: I | G6: 912 | H6: -109.17181 | I6: 44.852171 | J6: -109.17152 | K6: 44.851994 | L6: 30.687 | M6: N | N6: 6 | O6: 0.702 | P6: 0.04 | Q6: 1 | R6: 19181001 | S6: 19241231 | T6: 2284 | U6: 2284 | V6: 140 | W6: =Input!C9 -> 140 | X6: =W6*724.447 -> 101422.58 | Y6: =Input!D9 -> 150 | Z6: =Y6*724.447 -> 108667.05 | AA6: =Input!E9 -> 160 | AB6: =AA6*724.447 -> 115911.52 | AC6: =Input!F9 -> 170 | AD6: =AC6*724.447 -> 123155.99 | AE6: 175 | AF6: 188 | AG6: 228 | AH6: 275 | AI6: 350 | AJ6: 500.5 | AK6: 662 | AL6: 1130 | AM6: 2855 | AN6: 4290 | AO6: 6520 | AP6: 9920 | AQ6: =Input!G9 -> 895.282 | AR6: =AQ6*724.447 -> 648584.36
A7: 10080001 | B7: =Input!B10 -> 6236100 | C7: WIND RIVER AB BOYSEN RESERVOIR, NR SHOSHONI, WY | D7: 56 | E7: WY | F7: A | G7: 4390 | H7: -108.22399 | I7: 43.129125 | J7: -108.22443 | K7: 43.128647 | L7: 64.211 | M7: Y | N7: 14 | O7: 0.69 | P7: 0.079 | Q7: 1 | R7: 19900501 | S7: 20040930 | T7: 5267 | U7: 5267 | V7: 113 | W7: =Input!C10 -> 152.68 | X7: =W7*724.447 -> 110608.57 | Y7: =Input!D10 -> 242 | Z7: =Y7*724.447 -> 175316.17 | AA7: =Input!E10 -> 310 | AB7: =AA7*724.447 -> 224578.57 | AC7: =Input!F10 -> 400 | AD7: =AC7*724.447 -> 289778.8 | AE7: 438 | AF7: 470 | AG7: 530 | AH7: 592 | AI7: 667 | AJ7: 776 | AK7: 860 | AL7: 970 | AM7: 1980 | AN7: 4326 | AO7: 9912.8 | AP7: 17900 | AQ7: =Input!G10 -> 1096.788 | AR7: =AQ7*724.447 -> 794564.78
A8: 10080002 | B8: =Input!B11 -> 6235500 | C8: LITTLE WIND RIVER NEAR RIVERTON, WY | D8: 56 | E8: WY | F8: A | G8: 1904 | H8: -108.37538 | I8: 42.997459 | J8: -108.37538 | K8: 42.997517 | L8: 6.406 | M8: Y | N8: 63 | O8: 0.682 | P8: 0.07 | Q8: 1 | R8: 19410601 | S8: 20040930 | T8: 23133 | U8: 23133 | V8: 17 | W8: =Input!C11 -> 58 | X8: =W8*724.447 -> 42017.926 | Y8: =Input!D11 -> 114 | Z8: =Y8*724.447 -> 82586.958 | AA8: =Input!E11 -> 140 | AB8: =AA8*724.447 -> 101422.58 | AC8: =Input!F11 -> 172 | AD8: =AC8*724.447 -> 124604.88 | AE8: 190 | AF8: 200 | AG8: 230 | AH8: 260 | AI8: 304 | AJ8: 383 | AK8: 451 | AL8: 567 | AM8: 1400 | AN8: 2380 | AO8: 4583.2 | AP8: 12800 | AQ8: =Input!G11 -> 565.278 | AR8: =AQ8*724.447 -> 409513.95
A9: 10080003 | B9: =Input!B12 -> 6233900 | C9: POPO AGIE RIVER NR ARAPAHOE WY | D9: 56 | E9: WY | F9: I | G9: 796 | H9: -108.51011 | I9: 42.946349 | J9: -108.51028 | K9: 42.946178 | L9: 23.763 | M9: Y | N9: 16 | O9: 0.698 | P9: 0.065 | Q9: 1 | R9: 19791001 | S9: 19950930 | T9: 5844 | U9: 5844 | V9: 17 | W9: =Input!C12 -> 43 | X9: =W9*724.447 -> 31151.221 | Y9: =Input!D12 -> 76 | Z9: =Y9*724.447 -> 55057.972 | AA9: =Input!E12 -> 90 | AB9: =AA9*724.447 -> 65200.23 | AC9: =Input!F12 -> 106 | AD9: =AC9*724.447 -> 76791.382 | AE9: 110 | AF9: 120 | AG9: 135 | AH9: 154 | AI9: 180 | AJ9: 233 | AK9: 282 | AL9: 357 | AM9: 766 | AN9: 1320 | AO9: 2890 | AP9: 4630 | AQ9: =Input!G12 -> 333.212 | AR9: =AQ9*724.447 -> 241394.43
A10: 10080004 | B10: =Input!B13 -> 6239000 | C10: MUSCRAT CREEK NEAR SHOSHONI, WY | D10: 56 | E10: WY | F10: I | G10: 733 | H10: -108.15815 | I10: 43.148014 | J10: -108.15821 | K10: 43.14846 | L10: 50.108 | M10: Y | N10: 22 | O10: 0.015 | P10: 0.063 | Q10: 1 | R10: 19500701 | S10: 19730930 | T10: 8128 | U10: 530 | V10: 0 | W10: =Input!C13 -> 0 | X10: =W10*724.447 -> 0 | Y10: =Input!D13 -> 0 | Z10: =Y10*724.447 -> 0 | AA10: =Input!E13 -> 0 | AB10: =AA10*724.447 -> 0 | AC10: =Input!F13 -> 0 | AD10: =AC10*724.447 -> 0 | AE10: 0 | AF10: 0 | AG10: 0 | AH10: 0 | AI10: 0 | AJ10: 0 | AK10: 0 | AL10: 0 | AM10: 0 | AN10: 0.5 | AO10: 50 | AP10: 4300 | AQ10: =Input!G13 -> 3.546 | AR10: =AQ10*724.447 -> 2568.8891
A11: 10080005 | B11: =Input!B14 -> 6259000 | C11: WIND R BL BOYSEN RES WYO | D11: 56 | E11: WY | F11: A | G11: 7701 | H11: -108.17899 | I11: 43.424958 | J11: -108.17875 | K11: 43.424789 | L11: 26.762 | M11: Y | N11: 53 | O11: 0.895 | P11: 0.07 | Q11: 1 | R11: 19510601 | S11: 20040930 | T11: 19481 | U11: 19481 | V11: 4.7 | W11: =Input!C14 -> 295 | X11: =W11*724.447 -> 213711.86 | Y11: =Input!D14 -> 358.1 | Z11: =Y11*724.447 -> 259424.47 | AA11: =Input!E14 -> 596 | AB11: =AA11*724.447 -> 431770.41 | AC11: =Input!F14 -> 840 | AD11: =AC11*724.447 -> 608535.48 | AE11: 928 | AF11: 980 | AG11: 1060 | AH11: 1130 | AI11: 1250 | AJ11: 1500 | AK11: 1630 | AL11: 1810 | AM11: 2170 | AN11: 2729 | AO11: 6761.8 | AP11: 13200 | AQ11: =Input!G14 -> 1398.102 | AR11: =AQ11*724.447 -> 1012850.8
A12: 10080006 | B12: =Input!B15 -> 6257000 | C12: BADWATER CREEK AT BONNEVILLE, WYO. | D12: 56 | E12: WY | F12: I | G12: 808 | H12: -108.08009 | I12: 43.269125 | J12: -108.08034 | K12: 43.268726 | L12: 48.658 | M12: Y | N12: 26 | O12: 0.259 | P12: 0.167 | Q12: 1 | R12: 19470501 | S12: 19730930 | T12: 9650 | U12: 4153 | V12: 0 | W12: =Input!C15 -> 0 | X12: =W12*724.447 -> 0 | Y12: =Input!D15 -> 0 | Z12: =Y12*724.447 -> 0 | AA12: =Input!E15 -> 0 | AB12: =AA12*724.447 -> 0 | AC12: =Input!F15 -> 0 | AD12: =AC12*724.447 -> 0 | AE12: 0 | AF12: 0 | AG12: 0 | AH12: 0 | AI12: 1 | AJ12: 6.6 | AK12: 10 | AL12: 18 | AM12: 59 | AN12: 120 | AO12: 342 | AP12: 2990 | AQ12: =Input!G15 -> 23.171 | AR12: =AQ12*724.447 -> 16786.161
A13: 10080007 | B13: =Input!B16 -> 6274300 | C13: BIGHORN RIVER AT BASIN, WY | D13: 56 | E13: WY | F13: A | G13: 13223 | H13: -108.03621 | I13: 44.383291 | J13: -108.03609 | K13: 44.383282 | L13: 9.956 | M13: Y | N13: 21 | O13: 0.829 | P13: 0.042 | Q13: 1 | R13: 19831001 | S13: 20040930 | T13: 7671 | U13: 7671 | V13: 276 | W13: =Input!C16 -> 383 | X13: =W13*724.447 -> 277463.2 | Y13: =Input!D16 -> 518 | Z13: =Y13*724.447 -> 375263.55 | AA13: =Input!E16 -> 589 | AB13: =AA13*724.447 -> 426699.28 | AC13: =Input!F16 -> 720 | AD13: =AC13*724.447 -> 521601.84 | AE13: 810 | AF13: 910 | AG13: 1080 | AH13: 1250 | AI13: 1450 | AJ13: 1610 | AK13: 1730 | AL13: 1940 | AM13: 2800 | AN13: 4164 | AO13: 9360 | AP13: 16600 | AQ13: =Input!G16 -> 1626.453 | AR13: =AQ13*724.447 -> 1178279
A14: 10080008 | B14: =Input!B17 -> 6274000 | C14: NOWOOD RIVER AT BONANZA WYO | D14: 56 | E14: WY | F14: I | G14: 1730 | H14: -107.75064 | I14: 44.216626 | J14: -107.7518 | K14: 44.210674 | L14: 669.788 | M14: N | N14: 14 | O14: 0.654 | P14: 0.052 | Q14: 1 | R14: 19100801 | S14: 19280930 | T14: 5329 | U14: 5329 | V14: 1.5 | W14: =Input!C17 -> 37.3 | X14: =W14*724.447 -> 27021.873 | Y14: =Input!D17 -> 92.5 | Z14: =Y14*724.447 -> 67011.348 | AA14: =Input!E17 -> 140 | AB14: =AA14*724.447 -> 101422.58 | AC14: =Input!F17 -> 170 | AD14: =AC14*724.447 -> 123155.99 | AE14: 182 | AF14: 197 | AG14: 210 | AH14: 232 | AI14: 289 | AJ14: 375 | AK14: 452 | AL14: 640 | AM14: 1330 | AN14: 1860 | AO14: 3050 | AP14: 4880 | AQ14: =Input!G17 -> 494.523 | AR14: =AQ14*724.447 -> 358255.7
A15: 10080009 | B15: =Input!B18 -> 6277500 | C15: GREYBULL RIVER NEAR BASIN, WYO. | D15: 56 | E15: WY | F15: I | G15: 1115 | H15: -108.18677 | I15: 44.406623 | J15: -108.18695 | K15: 44.406685 | L15: 15.78 | M15: Y | N15: 43 | O15: 0.48 | P15: 0.133 | Q15: 1 | R15: 19301001 | S15: 19730930 | T15: 15706 | U15: 15639 | V15: 0 | W15: =Input!C18 -> 0.7 | X15: =W15*724.447 -> 507.1129 | Y15: =Input!D18 -> 5.1 | Z15: =Y15*724.447 -> 3694.6797 | AA15: =Input!E18 -> 10 | AB15: =AA15*724.447 -> 7244.47 | AC15: =Input!F18 -> 27 | AD15: =AC15*724.447 -> 19560.069 | AE15: 38 | AF15: 50 | AG15: 73 | AH15: 90 | AI15: 108 | AJ15: 129 | AK15: 145 | AL15: 165 | AM15: 319 | AN15: 733.3 | AO15: 2020 | AP15: 11000 | AQ15: =Input!G18 -> 180.406 | AR15: =AQ15*724.447 -> 130694.59
A16: 10080010 | B16: =Input!B19 -> 6279500 | C16: BIGHORN RIVER AT KANE, WY | D16: 56 | E16: WY | F16: A | G16: 15762 | H16: -108.1815 | I16: 44.758566 | J16: -108.18221 | K16: 44.758701 | L16: 57.939 | M16: Y | N16: 75 | O16: 0.768 | P16: 0.086 | Q16: 1 | R16: 19281001 | S16: 20040930 | T16: 27650 | U16: 27650 | V16: 179 | W16: =Input!C19 -> 390.51 | X16: =W16*724.447 -> 282903.8 | Y16: =Input!D19 -> 620 | Z16: =Y16*724.447 -> 449157.14 | AA16: =Input!E19 -> 743.1 | AB16: =AA16*724.447 -> 538336.57 | AC16: =Input!F19 -> 960 | AD16: =AC16*724.447 -> 695469.12 | AE16: 1070 | AF16: 1170 | AG16: 1380 | AH16: 1600 | AI16: 1850 | AJ16: 2190 | AK16: 2400 | AL16: 2660 | AM16: 3930 | AN16: 6300 | AO16: 11500 | AP16: 24800 | AQ16: =Input!G19 -> 2184.59 | AR16: =AQ16*724.447 -> 1582619.7
A17: 10080011 | B17: =Input!B20 -> 6278000 | C17: DRY CREEK AT GREYBULL, WY | D17: 56 | E17: WY | F17: I | G17: 433 | H17: -108.05944 | I17: 44.506111 | J17: -108.05943 | K17: 44.506007 | L17: 11.59 | M17: Y | N17: 6 | O17: 0.55 | P17: 0.083 | Q17: 1 | R17: 19510401 | S17: 19590930 | T17: 2467 | U17: 2439 | V17: 0 | W17: =Input!C20 -> 0 | X17: =W17*724.447 -> 0 | Y17: =Input!D20 -> 2 | Z17: =Y17*724.447 -> 1448.894 | AA17: =Input!E20 -> 4 | AB17: =AA17*724.447 -> 2897.788 | AC17: =Input!F20 -> 6 | AD17: =AC17*724.447 -> 4346.682 | AE17: 7 | AF17: 8 | AG17: 10 | AH17: 12 | AI17: 17 | AJ17: 30 | AK17: 36 | AL17: 42 | AM17: 62 | AN17: 80.6 | AO17: 165 | AP17: 549 | AQ17: =Input!G20 -> 26.074 | AR17: =AQ17*724.447 -> 18889.231
... A30: 10090208 | B30: =Input!B33 -> 6324970 | C30: LITTLE POWDER RIVER AB DRY CREEK, NEAR WESTON, WY | D30: 56 | E30: WY | F30: A | G30: 1237 | H30: -105.35333 | I30: 44.926929 | J30: -105.35338 | K30: 44.926929 | L30: 4.061 | M30: Y | N30: 32 | O30: 0.251 | P30: 0.107 | Q30: 1 | R30: 19721001 | S30: 20040930 | T30: 11688 | U30: 11373 | V30: 0 | W30: =Input!C33 -> 0 | X30: =W30*724.447 -> 0 | Y30: =Input!D33 -> 0.01 | Z30: =Y30*724.447 -> 7.24447 | AA30: =Input!E33 -> 0.02 | AB30: =AA30*724.447 -> 14.48894 | AC30: =Input!F33 -> 0.31 | AD30: =AC30*724.447 -> 224.57857 | AE30: 0.6 | AF30: 0.977 | AG30: 1.7 | AH30: 2.6 | AI30: 4 | AJ30: 6.5 | AK30: 8.4 | AL30: 13 | AM30: 32 | AN30: 72 | AO30: 299.11 | AP30: 5000 | AQ30: =Input!G33 -> 20.112 | AR30: =AQ30*724.447 -> 14570.078
A31: 10110201 | B31: =Input!B34 -> 0 | C31: No Streamgages | W31: =Input!C34 -> 0 | Y31: =Input!D34 -> 0 | AA31: =Input!E34 -> 0 | AC31: =Input!F34 -> 0 | AQ31: =Input!G34 -> 0
A32: 10120101 | B32: =Input!B35 -> 6364700 | C32: ANTELOPE C NR TECKLA WY | D32: 56 | E32: WY | F32: I | G32: 959 | H32: -105.22804 | I32: 43.485526 | J32: -105.22548 | K32: 43.484894 | L32: 217.556 | M32: Y | N32: 4 | O32: 0.247 | P32: 0.204 | Q32: 1 | R32: 19770908 | S32: 19810930 | T32: 1484 | U32: 1438 | V32: 0 | W32: =Input!C35 -> 0 | X32: =W32*724.447 -> 0 | Y32: =Input!D35 -> 0.01 | Z32: =Y32*724.447 -> 7.24447 | AA32: =Input!E35 -> 0.05 | AB32: =AA32*724.447 -> 36.22235 | AC32: =Input!F35 -> 0.16 | AD32: =AC32*724.447 -> 115.91152 | AE32: 0.16 | AF32: 0.17 | AG32: 0.22 | AH32: 0.26 | AI32: 0.48 | AJ32: 1.7 | AK32: 2.8 | AL32: 5.5 | AM32: 14.5 | AN32: 26 | AO32: 99.75 | AP32: 2560 | AQ32: =Input!G35 -> 9.748 | AR32: =AQ32*724.447 -> 7061.9094
A33: 10120102 | B33: =Input!B36 -> 6365300 | C33: DRY FORK CHEYENNE RIVER NEAR BILL, WYO | D33: 56 | E33: WY | F33: I | G33: 128 | H33: -105.66722 | I33: 43.222467 | J33: -105.66746 | K33: 43.221783 | L33: 78.867 | M33: Y | N33: 6 | O33: 0.232 | P33: 0.134 | Q33: 1 | R33: 19761101 | S33: 19870930 | T33: 2525 | U33: 1967 | V33: 0 | W33: =Input!C36 -> 0 | X33: =W33*724.447 -> 0 | Y33: =Input!D36 -> 0 | Z33: =Y33*724.447 -> 0 | AA33: =Input!E36 -> 0 | AB33: =AA33*724.447 -> 0 | AC33: =Input!F36 -> 0 | AD33: =AC33*724.447 -> 0 | AE33: 0.01 | AF33: 0.02 | AG33: 0.04 | AH33: 0.08 | AI33: 0.13 | AJ33: 0.202 | AK33: 0.26 | AL33: 0.34 | AM33: 0.684 | AN33: 1.5 | AO33: 9.174 | AP33: 631 | AQ33: =Input!G36 -> 0.834 | AR33: =AQ33*724.447 -> 604.1888
A34: 10120103 | B34: =Input!B37 -> 6375600 | C34: LITTLE THUNDER CREEK NEAR HAMPSHIRE, WY | D34: 56 | E34: WY | F34: I | G34: 234 | H34: -104.90917 | I34: 43.655 | J34: -104.90963 | K34: 43.654706 | L34: 49.849 | M34: Y | N34: 14 | O34: 0.032 | P34: 0.026 | Q34: 1 | R34: 19770907 | S34: 19971231 | T34: 5230 | U34: 2541 | V34: 0 | W34: =Input!C37 -> 0 | X34: =W34*724.447 -> 0 | Y34: =Input!D37 -> 0 | Z34: =Y34*724.447 -> 0 | AA34: =Input!E37 -> 0 | AB34: =AA34*724.447 -> 0 | AC34: =Input!F37 -> 0 | AD34: =AC34*724.447 -> 0 | AE34: 0 | AF34: 0 | AG34: 0 | AH34: 0 | AI34: 0.01 | AJ34: 0.03 | AK34: 0.08 | AL34: 0.17 | AM34: 0.94 | AN34: 3.5 | AO34: 36 | AP34: 1570 | AQ34: =Input!G37 -> 1.969 | AR34: =AQ34*724.447 -> 1426.4361
A35: 10120104 | B35: =Input!B38 -> 0 | C35: No Streamgages | W35: =Input!C38 -> 0 | Y35: =Input!D38 -> 0 | AA35: =Input!E38 -> 0 | AC35: =Input!F38 -> 0 | AQ35: =Input!G38 -> 0
A36: 10120105 | B36: =Input!B39 -> 0 | C36: No Streamgages | W36: =Input!C39 -> 0 | Y36: =Input!D39 -> 0 | AA36: =Input!E39 -> 0 | AC36: =Input!F39 -> 0 | AQ36: =Input!G39 -> 0
A37: 10120106 | B37: =Input!B40 -> 6386500 | C37: CHEYENNE RIVER NEAR SPENCER, WY | D37: 56 | E37: WY | F37: A | G37: 5270 | H37: -104.1316 | I37: 43.421084 | J37: -104.13159 | K37: 43.421047 | L37: 4.202 | M37: Y | N37: 27 | O37: 0.088 | P37: 0.112 | Q37: 1 | R37: 19481001 | S37: 20040930 | T37: 9862 | U37: 4473 | V37: 0 | W37: =Input!C40 -> 0 | X37: =W37*724.447 -> 0 | Y37: =Input!D40 -> 0 | Z37: =Y37*724.447 -> 0 | AA37: =Input!E40 -> 0 | AB37: =AA37*724.447 -> 0 | AC37: =Input!F40 -> 0 | AD37: =AC37*724.447 -> 0 | AE37: 0 | AF37: 0 | AG37: 0 | AH37: 0 | AI37: 0.3 | AJ37: 3 | AK37: 6 | AL37: 13 | AM37: 70.7 | AN37: 207.85 | AO37: 1130 | AP37: 12100 | AQ37: =Input!G40 -> 56.022 | AR37: =AQ37*724.447 -> 40584.97
A38: 10120107 | B38: =Input!B41 -> 6394000 | C38: BEAVER CREEK NEAR NEWCASTLE, WYO. | D38: 56 | E38: WY | F38: I | G38: 1320 | H38: -104.11771 | I38: 43.535252 | J38: -104.11761 | K38: 43.535412 | L38: 19.517 | M38: Y | N38: 53 | O38: 0.261 | P38: 0.129 | Q38: 1 | R38: 19441001 | S38: 19971231 | T38: 19450 | U38: 18837 | V38: 0 | W38: =Input!C41 -> 0 | X38: =W38*724.447 -> 0 | Y38: =Input!D41 -> 0.14 | Z38: =Y38*724.447 -> 101.42258 | AA38: =Input!E41 -> 0.58 | AB38: =AA38*724.447 -> 420.17926 | AC38: =Input!F41 -> 1.8 | AD38: =AC38*724.447 -> 1304.0046 | AE38: 2.7 | AF38: 3.7 | AG38: 6.5 | AH38: 9.3 | AI38: 12 | AJ38: 15 | AK38: 17 | AL38: 21 | AM38: 51 | AN38: 121 | AO38: 451.47 | AP38: 6550 | AQ38: =Input!G41 -> 30.801 | AR38: =AQ38*724.447 -> 22313.692
A39: 10120108 | B39: =Input!B42 -> 0 | C39: No Streamgages | W39: =Input!C42 -> 0 | Y39: =Input!D42 -> 0 | AA39: =Input!E42 -> 0 | AC39: =Input!F42 -> 0 | AQ39: =Input!G42 -> 0
A40: 10120201 | B40: =Input!B43 -> 6428000 | C40: BELLE FOURCHE RIVER AT HULETT, WYO. | D40: 56 | E40: WY | F40: I | G40: 2800 | H40: -104.59496 | I40: 44.683318 | J40: -104.59002 | K40: 44.686226 | L40: 507.643 | M40: N | N40: 17 | O40: 0.229 | P40: 0.103 | Q40: 1 | R40: 19290501 | S40: 19511231 | T40: 6333 | U40: 6190 | V40: 0 | W40: =Input!C43 -> 0 | X40: =W40*724.447 -> 0 | Y40: =Input!D43 -> 0.4 | Z40: =Y40*724.447 -> 289.7788 | AA40: =Input!E43 -> 1 | AB40: =AA40*724.447 -> 724.447 | AC40: =Input!F43 -> 3 | AD40: =AC40*724.447 -> 2173.341 | AE40: 4 | AF40: 4.7 | AG40: 6.2 | AH40: 8.6 | AI40: 15 | AJ40: 30 | AK40: 38 | AL40: 52 | AM40: 140 | AN40: 346 | AO40: 1060 | AP40: 6180 | AQ40: =Input!G43 -> 72.547 | AR40: =AQ40*724.447 -> 52556.457
A41: 10120202 | B41: =Input!B44 -> 6428500 | C41: BELLE FOURCHE R AT WY-SD STATE LINE | D41: 46 | E41: SD | F41: A | G41: 3280 | H41: -104.04743 | I41: 44.749707 | J41: -104.04742 | K41: 44.74966 | L41: 5.416 | M41: Y | N41: 57 | O41: 0.502 | P41: 0.153 | Q41: 1 | R41: 19461201 | S41: 20040930 | T41: 21124 | U41: 20070 | V41: 0 | W41: =Input!C44 -> 0 | X41: =W41*724.447 -> 0 | Y41: =Input!D44 -> 0.1 | Z41: =Y41*724.447 -> 72.4447 | AA41: =Input!E44 -> 4 | AB41: =AA41*724.447 -> 2897.788 | AC41: =Input!F44 -> 11 | AD41: =AC41*724.447 -> 7968.917 | AE41: 14 | AF41: 10136 | AG41: 17 | AH41: 23 | AI41: 34 | AJ41: 50 | AK41: 36200 | AL41: 76 | AM41: 89 | AN41: 107 | AO41: 196 | AP41: 330 | AQ41: =Input!G44 -> 914.25 | AR41: =AQ41*724.447 -> 662325.67
A42: 10120203 | B42: =Input!B45 -> 6429905 | C42: SAND CREEK NEAR RANCH A, NEAR BEULAH, WY | D42: 56 | E42: WY | F42: A | G42: 267 | H42: -104.08382 | I42: 44.520263 | J42: -104.08433 | K42: 44.520187 | L42: 40.842 | M42: Y | N42: 20 | O42: 0.959 | P42: 0.045 | Q42: 1 | R42: 19760816 | S42: 20040930 | T42: 7523 | U42: 7523 | V42: 12 | W42: =Input!C45 -> 15 | X42: =W42*724.447 -> 10866.705 | Y42: =Input!D45 -> 16 | Z42: =Y42*724.447 -> 11591.152 | AA42: =Input!E45 -> 16 | AB42: =AA42*724.447 -> 11591.152 | AC42: =Input!F45 -> 17 | AD42: =AC42*724.447 -> 12315.599 | AE42: 18 | AF42: 19 | AG42: 20 | AH42: 22 | AI42: 23 | AJ42: 25 | AK42: 26 | AL42: 27 | AM42: 30 | AN42: 33 | AO42: 41 | AP42: 455 | AQ42: =Input!G45 -> 22.888 | AR42: =AQ42*724.447 -> 16581.143
A43: 10150002 | B43: =Input!B46 -> 6454000 | C43: NIOBRARA RIVER AT WYO-NEBR. STATE LINE | D43: 56 | E43: WY | F43: I | G43: 455 | H43: -104.06549 | I43: 42.659133 | J43: -104.05928 | K43: 42.656868 | L43: 566.225 | M43: Y | N43: 39 | O43: 0.797 | P43: 0.106 | Q43: 1 | R43: 19551001 | S43: 19940930 | T43: 14245 | U43: 14245 | V43: 0.54 | W43: =Input!C46 -> 1.1 | X43: =W43*724.447 -> 796.8917 | Y43: =Input!D46 -> 1.6 | Z43: =Y43*724.447 -> 1159.1152 | AA43: =Input!E46 -> 1.8 | AB43: =AA43*724.447 -> 1304.0046 | AC43: =Input!F46 -> 2.1 | AD43: =AC43*724.447 -> 1521.3387 | AE43: 2.2 | AF43: 2.4 | AG43: 2.6 | AH43: 2.9 | AI43: 3.2 | AJ43: 3.6 | AK43: 3.9 | AL43: 4.18 | AM43: 5.5 | AN43: 7 | AO43: 12 | AP43: 352 | AQ43: =Input!G46 -> 3.632 | AR43: =AQ43*724.447 -> 2631.1915
A44: 10180002 | B44: =Input!B47 -> 6630000 | C44: N PLATTE RIV AB SEMINOE RESERVOIR, NR SINCLAIR, WY | D44: 56 | E44: WY | F44: A | G44: 4175 | H44: -107.05755 | I44: 41.872181 | J44: -107.05702 | K44: 41.871807 | L44: 60.169 | M44: Y | N44: 65 | O44: 0.691 | P44: 0.066 | Q44: 1 | R44: 19390701 | S44: 20040930 | T44: 23834 | U44: 23834 | V44: 37 | W44: =Input!C47 -> 109 | X44: =W44*724.447 -> 78964.723 | Y44: =Input!D47 -> 185 | Z44: =Y44*724.447 -> 134022.7 | AA44: =Input!E47 -> 224 | AB44: =AA44*724.447 -> 162276.13 | AC44: =Input!F47 -> 275 | AD44: =AC44*724.447 -> 199222.92 | AE44: 300 | AF44: 320 | AG44: 372 | AH44: 439 | AI44: 545 | AJ44: 800 | AK44: 1010 | AL44: 1410 | AM44: 3060 | AN44: 4790 | AO44: 7880 | AP44: 14800 | AQ44: =Input!G47 -> 1105.835 | AR44: =AQ44*724.447 -> 801118.85
A45: 10180003 | B45: =Input!B48 -> 6636000 | C45: NORTH PLATTE RIVER ABOVE PATHFINDER RESERVOIR WY | D45: 56 | E45: WY | F45: I | G45: 7241 | H45: -106.87643 | I45: 42.178293 | J45: -106.87698 | K45: 42.178562 | L45: 53.853 | M45: N | N45: 35 | O45: 0.65 | P45: 0.16 | Q45: 1 | R45: 19110101 | S45: 19590930 | T45: 13148 | U45: 13148 | V45: 8 | W45: =Input!C48 -> 8.5 | X45: =W45*724.447 -> 6157.7995 | Y45: =Input!D48 -> 158 | Z45: =Y45*724.447 -> 114462.63 | AA45: =Input!E48 -> 245 | AB45: =AA45*724.447 -> 177489.52 | AC45: =Input!F48 -> 333 | AD45: =AC45*724.447 -> 241240.85 | AE45: 375 | AF45: 414 | AG45: 507 | AH45: 663 | AI45: 913 | AJ45: 1300 | AK45: 1580 | AL45: 1890 | AM45: 3670 | AN45: 6716.5 | AO45: 11351 | AP45: 18300 | AQ45: =Input!G48 -> 1494.93 | AR45: =AQ45*724.447 -> 1082997.6
A46: 10180004 | B46: =Input!B49 -> 6635000 | C46: MEDICINE BOW R AB SEMINOE RESERVOIR, NR HANNA, WY | D46: 56 | E46: WY | F46: A | G46: 2338 | H46: -106.51308 | I46: 42.009684 | J46: -106.51263 | K46: 42.009659 | L46: 37.654 | M46: Y | N46: 65 | O46: 0.581 | P46: 0.078 | Q46: 1 | R46: 19390701 | S46: 20040930 | T46: 23834 | U46: 23834 | V46: 0.04 | W46: =Input!C49 -> 3.2 | X46: =W46*724.447 -> 2318.2304 | Y46: =Input!D49 -> 9 | Z46: =Y46*724.447 -> 6520.023 | AA46: =Input!E49 -> 14 | AB46: =AA46*724.447 -> 10142.258 | AC46: =Input!F49 -> 22 | AD46: =AC46*724.447 -> 15937.834 | AE46: 26 | AF46: 29 | AG46: 38 | AH46: 51 | AI46: 70 | AJ46: 116 | AK46: 166 | AL46: 236 | AM46: 519 | AN46: 818.5 | AO46: 1560 | AP46: 5330 | AQ46: =Input!G49 -> 176.658 | AR46: =AQ46*724.447 -> 127979.36
A47: 10180005 | B47: =Input!B50 -> 6634620 | C47: L MEDICINE BOW R AT BOLES SPRING, NR MEDICINE BOW | D47: 56 | E47: WY | F47: A | G47: 969 | H47: -106.20918 | I47: 41.961076 | J47: -106.20924 | K47: 41.961014 | L47: 8.55 | M47: Y | N47: 20 | O47: 0.533 | P47: 0.067 | Q47: 1 | R47: 19840501 | S47: 20040930 | T47: 7458 | U47: 7458 | V47: 0.12 | W47: =Input!C50 -> 0.36 | X47: =W47*724.447 -> 260.80092 | Y47: =Input!D50 -> 0.87 | Z47: =Y47*724.447 -> 630.26889 | AA47: =Input!E50 -> 1.2 | AB47: =AA47*724.447 -> 869.3364 | AC47: =Input!F50 -> 2.2 | AD47: =AC47*724.447 -> 1593.7834 | AE47: 3 | AF47: 3.8 | AG47: 5.6 | AH47: 8.1 | AI47: 12 | AJ47: 21 | AK47: 30 | AL47: 44 | AM47: 124 | AN47: 218.05 | AO47: 483.1 | AP47: 1450 | AQ47: =Input!G50 -> 42.614 | AR47: =AQ47*724.447 -> 30871.584
A48: 10180006 | B48: =Input!B51 -> 6639000 | C48: SWEETWATER RIVER NEAR ALCOVA, WY | D48: 56 | E48: WY | F48: A | G48: 2327 | H48: -107.13394 | I48: 42.489959 | J48: -107.13337 | K48: 42.489572 | L48: 64.001 | M48: Y | N48: 62 | O48: 0.721 | P48: 0.09 | Q48: 1 | R48: 19131001 | S48: 20040930 | T48: 22886 | U48: 22886 | V48: 0.5 | W48: =Input!C51 -> 2.2 | X48: =W48*724.447 -> 1593.7834 | Y48: =Input!D51 -> 10 | Z48: =Y48*724.447 -> 7244.47 | AA48: =Input!E51 -> 18 | AB48: =AA48*724.447 -> 13040.046 | AC48: =Input!F51 -> 28 | AD48: =AC48*724.447 -> 20284.516 | AE48: 32 | AF48: 35 | AG48: 42 | AH48: 53 | AI48: 71 | AJ48: 104 | AK48: 141 | AL48: 194 | AM48: 384 | AN48: 608 | AO48: 1110 | AP48: 4290 | AQ48: =Input!G51 -> 141.205 | AR48: =AQ48*724.447 -> 102295.54
A49: 10180007 | B49: =Input!B52 -> 6646800 | C49: NORTH PLATTE RIVER NEAR GLENROCK, WY | D49: 56 | E49: WY | F49: I | G49: 13538 | H49: -105.75889 | I49: 42.836078 | J49: -105.75782 | K49: 42.835289 | L49: 123.718 | M49: Y | N49: 33 | O49: 0.855 | P49: 0.044 | Q49: 1 | R49: 19591001 | S49: 19920930 | T49: 12054 | U49: 12054 | V49: 176 | W49: =Input!C52 -> 473 | X49: =W49*724.447 -> 342663.43 | Y49: =Input!D52 -> 601 | Z49: =Y49*724.447 -> 435392.65 | AA49: =Input!E52 -> 676 | AB49: =AA49*724.447 -> 489726.17 | AC49: =Input!F52 -> 850 | AD49: =AC49*724.447 -> 615779.95 | AE49: 912 | AF49: 963 | AG49: 1050 | AH49: 1150 | AI49: 1350 | AJ49: 1680 | AK49: 1820 | AL49: 1980 | AM49: 2650 | AN49: 3520 | AO49: 6103.5 | AP49: 11000 | AQ49: =Input!G52 -> 1513.069 | AR49: =AQ49*724.447 -> 1096138.3
A50: 10180008 | B50: =Input!B53 -> 6656000 | C50: NORTH PLATTE RIVER BELOW GUERNSEY RESERVOIR, WY | D50: 56 | E50: WY | F50: I | G50: 16237 | H50: -104.75469 | I50: 42.280524 | J50: -104.75369 | K50: 42.280659 | L50: 83.447 | M50: Y | N50: 96 | O50: 0.765 | P50: 0.091 | Q50: 1 | R50: 19010401 | S50: 19980930 | T50: 35065 | U50: 35039 | V50: 0 | W50: =Input!C53 -> 1.4 | X50: =W50*724.447 -> 1014.2258 | Y50: =Input!D53 -> 2.2 | Z50: =Y50*724.447 -> 1593.7834 | AA50: =Input!E53 -> 4.4 | AB50: =AA50*724.447 -> 3187.5668 | AC50: =Input!F53 -> 18 | AD50: =AC50*724.447 -> 13040.046 | AE50: 84 | AF50: 174 | AG50: 330 | AH50: 740 | AI50: 1280 | AJ50: 2770 | AK50: 3370 | AL50: 4010 | AM50: 4940 | AN50: 5680 | AO50: 9420 | AP50: 30000 | AQ50: =Input!G53 -> 1834.313 | AR50: =AQ50*724.447 -> 1328862.5
A51: 10180009 | B51: =Input!B54 -> 6672000 | C51: NORTH PLATTE RIVER AT TORRINGTON WYO | D51: 56 | E51: WY | F51: I | G51: 25742 | H51: -104.20856 | I51: 42.053576 | J51: -104.20836 | K51: 42.053329 | L51: 32.221 | M51: N | N51: 12 | O51: 0.765 | P51: 0.103 | Q51: 1 | R51: 19180501 | S51: 19390930 | T51: 4508 | U51: 4508 | V51: 80 | W51: =Input!C54 -> 192 | X51: =W51*724.447 -> 139093.82 | Y51: =Input!D54 -> 273 | Z51: =Y51*724.447 -> 197774.03 | AA51: =Input!E54 -> 317 | AB51: =AA51*724.447 -> 229649.7 | AC51: =Input!F54 -> 407 | AD51: =AC51*724.447 -> 294849.93 | AE51: 436 | AF51: 469 | AG51: 550 | AH51: 740 | AI51: 1170 | AJ51: 1600 | AK51: 1877.5 | AL51: 2150 | AM51: 3200 | AN51: 4636.5 | AO51: 9750 | AP51: 24000 | AQ51: =Input!G54 -> 1486.858 | AR51: =AQ51*724.447 -> 1077149.8
... A54: 10180012 | B54: =Input!B57 -> 6677100 | C54: HORSE CREEK AT WYO- NEBR STATE LINE | D54: 56 | E54: WY | F54: I | G54: 1530 | H54: -104.05856 | I54: 41.914689 | J54: -104.05845 | K54: 41.914692 | L54: 9.234 | M54: Y | N54: 2 | O54: 0.599 | P54: 0.045 | Q54: 1 | R54: 19690501 | S54: 19710930 | T54: 883 | U54: 883 | V54: 3.4 | W54: =Input!C57 -> 4.2 | X54: =W54*724.447 -> 3042.6774 | Y54: =Input!D57 -> 8.2 | Z54: =Y54*724.447 -> 5940.4654 | AA54: =Input!E57 -> 9.5 | AB54: =AA54*724.447 -> 6882.2465 | AC54: =Input!F57 -> 11 | AD54: =AC54*724.447 -> 7968.917 | AE54: 12 | AF54: 13 | AG54: 17 | AH54: 22 | AI54: 29 | AJ54: 44 | AK54: 55 | AL54: 70 | AM54: 120 | AN54: 177 | AO54: 309.64 | AP54: 416 | AQ54: =Input!G57 -> 46.619 | AR54: =AQ54*724.447 -> 33772.995
A55: 10180013 | B55: =Input!B58 -> 0 | C55: No Streamgages | W55: =Input!C58 -> 0 | Y55: =Input!D58 -> 0 | AA55: =Input!E58 -> 0 | AC55: =Input!F58 -> 0 | AQ55: =Input!G58 -> 0
A56: 10190007 | B56: =Input!B59 -> 0 | C56: No Streamgages | W56: =Input!C59 -> 0 | Y56: =Input!D59 -> 0 | AA56: =Input!E59 -> 0 | AC56: =Input!F59 -> 0 | AQ56: =Input!G59 -> 0
A57: 10190008 | B57: =Input!B60 -> 6753000 | C57: LONETREE CREEK NR GRANITE CANYON WYO | D57: 56 | E57: WY | F57: I | G57: 24.3 | H57: -105.18665 | I57: 41.086094 | J57: -105.18643 | K57: 41.086212 | L57: 22.142 | M57: N | N57: 4 | O57: 0.679 | P57: 0.124 | Q57: 1 | R57: 19330501 | S57: 19380930 | T57: 1556 | U57: 1469 | V57: 0 | W57: =Input!C60 -> 0 | X57: =W57*724.447 -> 0 | Y57: =Input!D60 -> 0 | Z57: =Y57*724.447 -> 0 | AA57: =Input!E60 -> 0.1 | AB57: =AA57*724.447 -> 72.4447 | AC57: =Input!F60 -> 0.2 | AD57: =AC57*724.447 -> 144.8894 | AE57: 0.3 | AF57: 0.4 | AG57: 0.5 | AH57: 0.8 | AI57: 1.2 | AJ57: 1.6 | AK57: 2.4 | AL57: 3.2 | AM57: 5.2 | AN57: 8.7 | AO57: 25 | AP57: 42 | AQ57: =Input!G60 -> 2.218 | AR57: =AQ57*724.447 -> 1606.8234
A58: 10190009 | B58: =Input!B61 -> 6756100 | C58: CROW CREEK NEAR CARPENTER, WY | D58: 56 | E58: WY | F58: I | G58: 415 | H58: -104.3994 | I58: 41.08276 | J58: -104.39928 | K58: 41.082836 | L58: 13.001 | M58: Y | N58: 6 | O58: 0.498 | P58: 0.149 | Q58: 1 | R58: 19900501 | S58: 19960930 | T58: 2345 | U58: 2345 | V58: 0.48 | W58: =Input!C61 -> 0.645 | X58: =W58*724.447 -> 467.26832 | Y58: =Input!D61 -> 1 | Z58: =Y58*724.447 -> 724.447 | AA58: =Input!E61 -> 1.4 | AB58: =AA58*724.447 -> 1014.2258 | AC58: =Input!F61 -> 1.9 | AD58: =AC58*724.447 -> 1376.4493 | AE58: 2.2 | AF58: 2.8 | AG58: 4 | AH58: 5.5 | AI58: 9 | AJ58: 14 | AK58: 16 | AL58: 19 | AM58: 27 | AN58: 40 | AO58: 149 | AP58: 636 | AQ58: =Input!G61 -> 13.848 | AR58: =AQ58*724.447 -> 10032.142
A59: 10190015 | B59: =Input!B62 -> 6761000 | C59: LODGEPOLE CREEK NR FEDERAL WYO | D59: 56 | E59: WY | F59: I | G59: 25 | H59: -105.2172 | I59: 41.311091 | J59: -105.21754 | K59: 41.312092 | L59: 115.465 | M59: N | N59: 4 | O59: 0.633 | P59: 0.127 | Q59: 1 | R59: 19330601 | S59: 19380930 | T59: 1494 | U59: 1331 | V59: 0 | W59: =Input!C62 -> 0 | X59: =W59*724.447 -> 0 | Y59: =Input!D62 -> 0 | Z59: =Y59*724.447 -> 0 | AA59: =Input!E62 -> 0 | AB59: =AA59*724.447 -> 0 | AC59: =Input!F62 -> 0.3 | AD59: =AC59*724.447 -> 217.3341 | AE59: 0.4 | AF59: 0.5 | AG59: 0.7 | AH59: 1.1 | AI59: 1.4 | AJ59: 2 | AK59: 2.4 | AL59: 3 | AM59: 7 | AN59: 11 | AO59: 21 | AP59: 53 | AQ59: =Input!G62 -> 2.504 | AR59: =AQ59*724.447 -> 1814.0153
A60: 10190016 | B60: =Input!B63 -> 0 | C60: No Streamgages | W60: =Input!C63 -> 0 | Y60: =Input!D63 -> 0 | AA60: =Input!E63 -> 0 | AC60: =Input!F63 -> 0 | AQ60: =Input!G63 -> 0
A61: 10190017 | B61: =Input!B64 -> 0 | C61: No Streamgages | W61: =Input!C64 -> 0 | Y61: =Input!D64 -> 0 | AA61: =Input!E64 -> 0 | AC61: =Input!F64 -> 0 | AQ61: =Input!G64 -> 0
A62: 14040101 | B62: =Input!B65 -> 9209500 | C62: GREEN RIVER NEAR FONTENELLE, WY | D62: 56 | E62: WY | F62: I | G62: 3970 | H62: -110.18306 | I62: 42.129722 | J62: -110.18464 | K62: 42.129643 | L62: 130.589 | M62: Y | N62: 18 | O62: 0.758 | P62: 0.057 | Q62: 1 | R62: 19461001 | S62: 19650331 | T62: 6757 | U62: 6757 | V62: 200 | W62: =Input!C65 -> 280 | X62: =W62*724.447 -> 202845.16 | Y62: =Input!D65 -> 340 | Z62: =Y62*724.447 -> 246311.98 | AA62: =Input!E65 -> 380 | AB62: =AA62*724.447 -> 275289.86 | AC62: =Input!F65 -> 466 | AD62: =AC62*724.447 -> 337592.3 | AE62: 500 | AF62: 535 | AG62: 610 | AH62: 731 | AI62: 918 | AJ62: 1240 | AK62: 1560 | AL62: 2080 | AM62: 4210 | AN62: 5851 | AO62: 9824.2 | AP62: 13200 | AQ62: =Input!G65 -> 1545.051 | AR62: =AQ62*724.447 -> 1119307.6
A63: 14040102 | B63: =Input!B66 -> 9205000 | C63: NEW FORK RIVER NEAR BIG PINEY, WY | D63: 56 | E63: WY | F63: A | G63: 1230 | H63: -109.93015 | I63: 42.567166 | J63: -109.93012 | K63: 42.567169 | L63: 2.364 | M63: Y | N63: 50 | O63: 0.721 | P63: 0.071 | Q63: 1 | R63: 19540901 | S63: 20040930 | T63: 18293 | U63: 18293 | V63: 90 | W63: =Input!C66 -> 135 | X63: =W63*724.447 -> 97800.345 | Y63: =Input!D66 -> 165 | Z63: =Y63*724.447 -> 119533.76 | AA63: =Input!E66 -> 185 | AB63: =AA63*724.447 -> 134022.7 | AC63: =Input!F66 -> 215 | AD63: =AC63*724.447 -> 155756.11 | AE63: 230 | AF63: 250 | AG63: 280 | AH63: 329 | AI63: 390 | AJ63: 508 | AK63: 622 | AL63: 829.2 | AM63: 1790 | AN63: 3043 | AO63: 5390.6 | AP63: 9110 | AQ63: =Input!G66 -> 719.413 | AR63: =AQ63*724.447 -> 521176.59
A64: 14040103 | B64: =Input!B67 -> 9216500 | C64: GREEN RIVER AT GREEN RIVER, WYO. | D64: 56 | E64: WY | F64: I | G64: 7670 | H64: -109.48402 | I64: 41.533298 | J64: -109.48251 | K64: 41.535667 | L64: 293.227 | M64: N | N64: 35 | O64: 0.744 | P64: 0.072 | Q64: 1 | R64: 18951001 | S64: 19390930 | T64: 12783 | U64: 12783 | V64: 160 | W64: =Input!C67 -> 250 | X64: =W64*724.447 -> 181111.75 | Y64: =Input!D67 -> 300 | Z64: =Y64*724.447 -> 217334.1 | AA64: =Input!E67 -> 340 | AB64: =AA64*724.447 -> 246311.98 | AC64: =Input!F67 -> 430 | AD64: =AC64*724.447 -> 311512.21 | AE64: 470 | AF64: 500 | AG64: 620.6 | AH64: 820 | AI64: 1110 | AJ64: 1610 | AK64: 2020 | AL64: 2620 | AM64: 4560 | AN64: 7060 | AO64: 13000 | AP64: 21800 | AQ64: =Input!G67 -> 1848.641 | AR64: =AQ64*724.447 -> 1339242.4
A65: 14040104 | B65: =Input!B68 -> 9216050 | C65: BIG SANDY RIVER AT GASSON BRIDGE, NR EDEN, WY | D65: 56 | E65: WY | F65: A | G65: 1720 | H65: -109.68819 | I65: 41.947455 | J65: -109.68819 | K65: 41.947453 | L65: 0.282 | M65: Y | N65: 32 | O65: 0.756 | P65: 0.097 | Q65: 1 | R65: 19720501 | S65: 20040930 | T65: 11841 | U65: 11841 | V65: 6.4 | W65: =Input!C68 -> 11 | X65: =W65*724.447 -> 7968.917 | Y65: =Input!D68 -> 18 | Z65: =Y65*724.447 -> 13040.046 | AA65: =Input!E68 -> 23 | AB65: =AA65*724.447 -> 16662.281 | AC65: =Input!F68 -> 30 | AD65: =AC65*724.447 -> 21733.41 | AE65: 33 | AF65: 37 | AG65: 43 | AH65: 51 | AI65: 59 | AJ65: 70 | AK65: 78 | AL65: 85 | AM65: 107 | AN65: 169 | AO65: 483.16 | AP65: 5530 | AQ65: =Input!G68 -> 70.606 | AR65: =AQ65*724.447 -> 51150.305
A66: 14040105 | B66: =Input!B69 -> 9216562 | C66: BITTER C AB SALT WELLS C NR SALT WELLS WY | D66: 56 | E66: WY | F66: I | G66: 836 | H66: -108.9979 | I66: 41.647741 | J66: -108.9976 | K66: 41.647652 | L66: 26.154 | M66: Y | N66: 5 | O66: 0.17 | P66: 0.098 | Q66: 1 | R66: 19760601 | S66: 19810930 | T66: 1948 | U66: 1344 | V66: 0 | W66: =Input!C69 -> 0 | X66: =W66*724.447 -> 0 | Y66: =Input!D69 -> 0 | Z66: =Y66*724.447 -> 0 | AA66: =Input!E69 -> 0 | AB66: =AA66*724.447 -> 0 | AC66: =Input!F69 -> 0 | AD66: =AC66*724.447 -> 0 | AE66: 0 | AF66: 0 | AG66: 0.1 | AH66: 0.36 | AI66: 0.774 | AJ66: 2 | AK66: 2.8 | AL66: 3.9 | AM66: 15 | AN66: 33 | AO66: 109.53 | AP66: 411 | AQ66: =Input!G69 -> 6.377 | AR66: =AQ66*724.447 -> 4619.7985
A67: 14040106 | B67: =Input!B70 -> 9229500 | C67: HENRYS FORK NEAR MANILA, UT | D67: 56 | E67: WY | F67: A | G67: 520 | H67: -109.67293 | I67: 41.012459 | J67: -109.67336 | K67: 41.012653 | L67: 41.952 | M67: Y | N67: 68 | O67: 0.581 | P67: 0.115 | Q67: 1 | R67: 19281001 | S67: 20040930 | T67: 24990 | U67: 24753 | V67: 0 | W67: =Input!C70 -> 0.1 | X67: =W67*724.447 -> 72.4447 | Y67: =Input!D70 -> 1.7 | Z67: =Y67*724.447 -> 1231.5599 | AA67: =Input!E70 -> 4.2 | AB67: =AA67*724.447 -> 3042.6774 | AC67: =Input!F70 -> 17 | AD67: =AC67*724.447 -> 12315.599 | AE67: 25 | AF67: 30 | AG67: 40 | AH67: 47 | AI67: 56 | AJ67: 70 | AK67: 80 | AL67: 96 | AM67: 166 | AN67: 286 | AO67: 702.27 | AP67: 3780 | AQ67: =Input!G70 -> 81.635 | AR67: =AQ67*724.447 -> 59140.231
A68: 14040107 | B68: =Input!B71 -> 9225000 | C68: BLACKS FORK NEAR GREEN RIVER, WY | D68: 56 | E68: WY | F68: I | G68: 3670 | H68: -109.61153 | I68: 41.379129 | J68: -109.61156 | K68: 41.379536 | L68: 45.565 | M68: Y | N68: 14 | O68: 0.575 | P68: 0.086 | Q68: 1 | R68: 19471001 | S68: 19620731 | T68: 5418 | U68: 5124 | V68: 0 | W68: =Input!C71 -> 0 | X68: =W68*724.447 -> 0 | Y68: =Input!D71 -> 0 | Z68: =Y68*724.447 -> 0 | AA68: =Input!E71 -> 0.6 | AB68: =AA68*724.447 -> 434.6682 | AC68: =Input!F71 -> 10 | AD68: =AC68*724.447 -> 7244.47 | AE68: 17 | AF68: 24 | AG68: 42 | AH68: 69 | AI68: 100 | AJ68: 190 | AK68: 280 | AL68: 405 | AM68: 964 | AN68: 1450 | AO68: 2920 | AP68: 6490 | AQ68: =Input!G71 -> 301.091 | AR68: =AQ68*724.447 -> 218124.47
A69: 14040108 | B69: =Input!B72 -> 9222400 | C69: MUDDY CREEK NEAR HAMPTON WYO | D69: 56 | E69: WY | F69: I | G69: 963 | H69: -110.22932 | I69: 41.538008 | J69: -110.22913 | K69: 41.537884 | L69: 20.816 | M69: Y | N69: 6 | O69: 0.571 | P69: 0.089 | Q69: 1 | R69: 19750701 | S69: 19810930 | T69: 2284 | U69: 2194 | V69: 0 | W69: =Input!C72 -> 0 | X69: =W69*724.447 -> 0 | Y69: =Input!D72 -> 0.147 | Z69: =Y69*724.447 -> 106.49371 | AA69: =Input!E72 -> 1.1 | AB69: =AA69*724.447 -> 796.8917 | AC69: =Input!F72 -> 2.7 | AD69: =AC69*724.447 -> 1956.0069 | AE69: 3.5 | AF69: 4.3 | AG69: 7 | AH69: 10 | AI69: 15 | AJ69: 22 | AK69: 30 | AL69: 47 | AM69: 111.5 | AN69: 170 | AO69: 348.25 | AP69: 686 | AQ69: =Input!G72 -> 36.095 | AR69: =AQ69*724.447 -> 26148.914
A70: 14040109 | B70: =Input!B73 -> 9235300 | C70: VERMILLION CREEK NEAR HIAWATHA COLO | D70: 56 | E70: WY | F70: I | G70: 196 | H70: -108.64483 | I70: 41.014962 | J70: -108.64481 | K70: 41.015121 | L70: 17.922 | M70: Y | N70: 6 | O70: 0.424 | P70: 0.151 | Q70: 1 | R70: 19751001 | S70: 19810930 | T70: 2192 | U70: 1982 | V70: 0 | W70: =Input!C73 -> 0 | X70: =W70*724.447 -> 0 | Y70: =Input!D73 -> 0 | Z70: =Y70*724.447 -> 0 | AA70: =Input!E73 -> 0.01 | AB70: =AA70*724.447 -> 7.24447 | AC70: =Input!F73 -> 0.34 | AD70: =AC70*724.447 -> 246.31198 | AE70: 0.46 | AF70: 0.639 | AG70: 0.9 | AH70: 1.2 | AI70: 1.5 | AJ70: 2 | AK70: 2.3 | AL70: 2.7 | AM70: 5.3 | AN70: 12 | AO70: 36.07 | AP70: 196 | AQ70: =Input!G73 -> 3.23 | AR70: =AQ70*724.447 -> 2339.9638
A71: 14040200 | B71: =Input!B74 -> 9216527 | C71: SEPARATION C NR RINER WYO | D71: 56 | E71: WY | F71: I | G71: 53.3 | H71: -107.5584 | I71: 41.660516 | J71: -107.55827 | K71: 41.66048 | L71: 11.083 | M71: Y | N71: 6 | O71: 0.392 | P71: 0.09 | Q71: 1 | R71: 19751001 | S71: 19810930 | T71: 2192 | U71: 640 | V71: 0 | W71: =Input!C74 -> 0 | X71: =W71*724.447 -> 0 | Y71: =Input!D74 -> 0 | Z71: =Y71*724.447 -> 0 | AA71: =Input!E74 -> 0 | AB71: =AA71*724.447 -> 0 | AC71: =Input!F74 -> 0 | AD71: =AC71*724.447 -> 0 | AE71: 0 | AF71: 0 | AG71: 0 | AH71: 0 | AI71: 0 | AJ71: 0 | AK71: 0.48 | AL71: 0.974 | AM71: 5.4 | AN71: 10 | AO71: 30 | AP71: 76 | AQ71: =Input!G74 -> 1.797 | AR71: =AQ71*724.447 -> 1301.8313
A72: 14050003 | B72: =Input!B75 -> 9257000 | C72: LITTLE SNAKE RIVER NEAR DIXON, WY | D72: 56 | E72: WY | F72: I | G72: 988 | H72: -107.54923 | I72: 41.028298 | J72: -107.54886 | K72: 41.028446 | L72: 35.33 | M72: Y | N72: 59 | O72: 0.589 | P72: 0.099 | Q72: 1 | R72: 19101001 | S72: 19970930 | T72: 21898 | U72: 21888 | V72: 0 | W72: =Input!C75 -> 0.23 | X72: =W72*724.447 -> 166.62281 | Y72: =Input!D75 -> 1.5 | Z72: =Y72*724.447 -> 1086.6705 | AA72: =Input!E75 -> 4 | AB72: =AA72*724.447 -> 2897.788 | AC72: =Input!F75 -> 18 | AD72: =AC72*724.447 -> 13040.046 | AE72: 38 | AF72: 56.7 | AG72: 80 | AH72: 100 | AI72: 137 | AJ72: 310 | AK72: 541.25 | AL72: 930 | AM72: 2160 | AN72: 3030.5 | AO72: 4810 | AP72: 10400 | AQ72: =Input!G75 -> 594.225 | AR72: =AQ72*724.447 -> 430484.52
A73: 14050004 | B73: =Input!B76 -> 9259000 | C73: MUDDY CREEK NEAR BAGGS, WY | D73: 56 | E73: WY | F73: I | G73: 1257 | H73: -107.6509 | I73: 41.046909 | J73: -107.65063 | K73: 41.046928 | L73: 22.442 | M73: Y | N73: 4 | O73: 0.428 | P73: 0.036 | Q73: 1 | R73: 19871001 | S73: 19910930 | T73: 1461 | U73: 1461 | V73: 0.03 | W73: =Input!C76 -> 0.106 | X73: =W73*724.447 -> 76.791382 | Y73: =Input!D76 -> 0.26 | Z73: =Y73*724.447 -> 188.35622 | AA73: =Input!E76 -> 0.4 | AB73: =AA73*724.447 -> 289.7788 | AC73: =Input!F76 -> 0.53 | AD73: =AC73*724.447 -> 383.95691 | AE73: 0.6 | AF73: 0.706 | AG73: 1.1 | AH73: 2.8 | AI73: 6 | AJ73: 12 | AK73: 15 | AL73: 18 | AM73: 35 | AN73: 65.9 | AO73: 153.4 | AP73: 632 | AQ73: =Input!G76 -> 14.759 | AR73: =AQ73*724.447 -> 10692.113
... A75: 16010102 | B75: =Input!B78 -> 10038000 | C75: BEAR RIVER BELOW SMITHS FORK, NEAR COKEVILLE, WY | D75: 56 | E75: WY | F75: A | G75: 2447 | H75: -110.97324 | I75: 42.126602 | J75: -110.97335 | K75: 42.126311 | L75: 33.707 | M75: Y | N75: 49 | O75: 0.821 | P75: 0.054 | Q75: 1 | R75: 19540501 | S75: 20040930 | T75: 18170 | U75: 18170 | V75: 31 | W75: =Input!C78 -> 70 | X75: =W75*724.447 -> 50711.29 | Y75: =Input!D78 -> 90 | Z75: =Y75*724.447 -> 65200.23 | AA75: =Input!E78 -> 106 | AB75: =AA75*724.447 -> 76791.382 | AC75: =Input!F78 -> 132 | AD75: =AC75*724.447 -> 95627.004 | AE75: 145 | AF75: 157 | AG75: 185 | AH75: 220 | AI75: 277.6 | AJ75: 360 | AK75: 435 | AL75: 537 | AM75: 1010 | AN75: 1630 | AO75: 2540 | AP75: 5400 | AQ75: =Input!G78 -> 422.933 | AR75: =AQ75*724.447 -> 306392.54
A76: 16020101 | B76: =Input!B79 -> 0 | C76: No Streamgages | W76: =Input!C79 -> 0 | Y76: =Input!D79 -> 0 | AA76: =Input!E79 -> 0 | AC76: =Input!F79 -> 0 | AQ76: =Input!G79 -> 0
A77: 17040101 | B77: =Input!B80 -> 13013650 | C77: SNAKE RIVER AT MOOSE, WY | D77: 56 | E77: WY | F77: A | G77: 1677 | H77: -110.71521 | I77: 43.653821 | J77: -110.71513 | K77: 43.653793 | L77: 6.81 | M77: Y | N77: 9 | O77: 0.88 | P77: 0.04 | Q77: 1 | R77: 19950406 | S77: 20040930 | T77: 3466 | U77: 3466 | V77: 600 | W77: =Input!C80 -> 660 | X77: =W77*724.447 -> 478135.02 | Y77: =Input!D80 -> 720 | Z77: =Y77*724.447 -> 521601.84 | AA77: =Input!E80 -> 771.7 | AB77: =AA77*724.447 -> 559055.75 | AC77: =Input!F80 -> 911 | AD77: =AC77*724.447 -> 659971.22 | AE77: 975.75 | AF77: 1050 | AG77: 1250 | AH77: 1750 | AI77: 3100 | AJ77: 4159 | AK77: 4520 | AL77: 4920 | AM77: 6990 | AN77: 9773 | AO77: 15900 | AP77: 24500 | AQ77: =Input!G80 -> 3229.685 | AR77: =AQ77*724.447 -> 2339735.6
A78: 17040102 | B78: =Input!B81 -> 13015000 | C78: GROS VENTRE RIVER AT ZENITH WY | D78: 56 | E78: WY | F78: A | G78: 683 | H78: -110.76278 | I78: 43.557222 | J78: -110.76185 | K78: 43.556259 | L78: 130.802 | M78: Y | N78: 9 | O78: 0.506 | P78: 0.106 | Q78: 1 | R78: 19170713 | S78: 20040930 | T78: 3582 | U78: 3456 | V78: 0 | W78: =Input!C81 -> 0 | X78: =W78*724.447 -> 0 | Y78: =Input!D81 -> 0.95 | Z78: =Y78*724.447 -> 688.22465 | AA78: =Input!E81 -> 5.13 | AB78: =AA78*724.447 -> 3716.4131 | AC78: =Input!F81 -> 26 | AD78: =AC78*724.447 -> 18835.622 | AE78: 38 | AF78: 48 | AG78: 71 | AH78: 110 | AI78: 193 | AJ78: 320 | AK78: 466 | AL78: 635.4 | AM78: 1187 | AN78: 1748.5 | AO78: 3185.9 | AP78: 6170 | AQ78: =Input!G81 -> 402.222 | AR78: =AQ78*724.447 -> 291388.52
A79: 17040103 | B79: =Input!B82 -> 13023500 | C79: SNAKE RIVER BL GREYS RIVER AT ALPINE WY | D79: 56 | E79: WY | F79: I | G79: 3940 | H79: -111.04161 | I79: 43.172897 | J79: -111.04169 | K79: 43.173183 | L79: 32.508 | M79: Y | N79: 9 | O79: 0.828 | P79: 0.027 | Q79: 1 | R79: 19441001 | S79: 19540630 | T79: 3560 | U79: 3560 | V79: 1050 | W79: =Input!C82 -> 1206.1 | X79: =W79*724.447 -> 873755.53 | Y79: =Input!D82 -> 1360 | Z79: =Y79*724.447 -> 985247.92 | AA79: =Input!E82 -> 1440 | AB79: =AA79*724.447 -> 1043203.7 | AC79: =Input!F82 -> 1600 | AD79: =AC79*724.447 -> 1159115.2 | AE79: 1720 | AF79: 1883 | AG79: 2190 | AH79: 2670 | AI79: 4570 | AJ79: 6760 | AK79: 7850 | AL79: 9698 | AM79: 12600 | AN79: 16000 | AO79: 21800 | AP79: 26700 | AQ79: =Input!G82 -> 5389.452 | AR79: =AQ79*724.447 -> 3904372.3
A80: 17040104 | B80: =Input!B83 -> 13030000 | C80: INDIAN CREEK AB RESERVOIR NR ALPINE WY | D80: 16 | E80: ID | F80: I | G80: 36.8 | H80: -111.06744 | I80: 43.259644 | J80: -111.06747 | K80: 43.25946 | L80: 20.599 | M80: Y | N80: 8 | O80: 0.324 | P80: 0.223 | Q80: 1 | R80: 19170714 | S80: 19610930 | T80: 3086 | U80: 1287 | V80: 0 | W80: =Input!C83 -> 0 | X80: =W80*724.447 -> 0 | Y80: =Input!D83 -> 0 | Z80: =Y80*724.447 -> 0 | AA80: =Input!E83 -> 0 | AB80: =AA80*724.447 -> 0 | AC80: =Input!F83 -> 0 | AD80: =AC80*724.447 -> 0 | AE80: 0 | AF80: 0 | AG80: 0 | AH80: 0 | AI80: 0 | AJ80: 1 | AK80: 724 | AL80: 4 | AM80: 7 | AN80: 12 | AO80: 50 | AP80: 98 | AQ80: =Input!G83 -> 177 | AR80: =AQ80*724.447 -> 128227.12
A81: 17040105 | B81: =Input!B84 -> 13027500 | C81: SALT RIVER AB RESERVOIR NR ETNA WY | D81: 56 | E81: WY | F81: A | G81: 829 | H81: -111.03722 | I81: 43.079722 | J81: -111.03696 | K81: 43.079655 | L81: 22.784 | M81: Y | N81: 51 | O81: 0.915 | P81: 0.031 | Q81: 1 | R81: 19531001 | S81: 20040930 | T81: 18628 | U81: 18628 | V81: 180 | W81: =Input!C84 -> 294 | X81: =W81*724.447 -> 212987.42 | Y81: =Input!D84 -> 344 | Z81: =Y81*724.447 -> 249209.77 | AA81: =Input!E84 -> 372 | AB81: =AA81*724.447 -> 269494.28 | AC81: =Input!F84 -> 421 | AD81: =AC81*724.447 -> 304992.19 | AE81: 443 | AF81: 466.7 | AG81: 510 | AH81: 568 | AI81: 640 | AJ81: 722 | AK81: 787 | AL81: 887 | AM81: 1480 | AN81: 2070 | AO81: 3317.1 | AP81: 5030 | AQ81: =Input!G84 -> 764.642 | AR81: =AQ81*724.447 -> 553942.6
A82: 17040202 | B82: =Input!B85 -> 0 | C82: No Streamgages | W82: =Input!C85 -> 0 | Y82: =Input!D85 -> 0 | AA82: =Input!E85 -> 0 | AC82: =Input!F85 -> 0 | AQ82: =Input!G85 -> 0
A83: 17040203 | B83: =Input!B86 -> 13046680 | C83: BOUNDARY CREEK NR BECHLER RANGER STATION Y.N.P. WY | D83: 56 | E83: WY | F83: A | G83: 86.9 | H83: -111.00778 | I83: 44.185278 | J83: -111.00752 | K83: 44.185531 | L83: 35.092 | M83: Y | N83: 20 | O83: 0.877 | P83: 0.028 | Q83: 1 | R83: 19840809 | S83: 20040930 | T83: 7335 | U83: 7335 | V83: 50 | W83: =Input!C86 -> 55 | X83: =W83*724.447 -> 39844.585 | Y83: =Input!D86 -> 59 | Z83: =Y83*724.447 -> 42742.373 | AA83: =Input!E86 -> 61 | AB83: =AA83*724.447 -> 44191.267 | AC83: =Input!F86 -> 65 | AD83: =AC83*724.447 -> 47089.055 | AE83: 66 | AF83: 68 | AG83: 74 | AH83: 81 | AI83: 88 | AJ83: 97 | AK83: 104 | AL83: 120 | AM83: 217.4 | AN83: 290 | AO83: 516.4 | AP83: 810 | AQ83: =Input!G86 -> 111.079 | AR83: =AQ83*724.447 -> 80470.848
A84: 17040204 | B84: =Input!B87 -> 13051500 | C84: TETON CREEK NR DRIGGS ID | D84: 56 | E84: WY | F84: I | G84: 33.8 | H84: -110.968 | I84: 43.755202 | J84: -110.96796 | K84: 43.755264 | L84: 7.424 | M84: Y | N84: 6 | O84: 0.664 | P84: 0.057 | Q84: 1 | R84: 19460601 | S84: 19520930 | T84: 2314 | U84: 2314 | V84: 6.3 | W84: =Input!C87 -> 6.5 | X84: =W84*724.447 -> 4708.9055 | Y84: =Input!D87 -> 8.2 | Z84: =Y84*724.447 -> 5940.4654 | AA84: =Input!E87 -> 8.7 | AB84: =AA84*724.447 -> 6302.6889 | AC84: =Input!F87 -> 10 | AD84: =AC84*724.447 -> 7244.47 | AE84: 12 | AF84: 14 | AG84: 18 | AH84: 23 | AI84: 30 | AJ84: 59.5 | AK84: 101 | AL84: 210 | AM84: 423 | AN84: 562 | AO84: 764.95 | AP84: 906 | AQ84: =Input!G87 -> 114.572 | AR84: =AQ84*724.447 -> 83001.342

Sheet Water Use Current Detail
A1: Water Use Current Detail

Sheet Water Use Current M&I
A1: Water Consumptive Use M&I Current
A2: Municipal Wind/BigHorn Basin (Scroll down for more basins) | R2: Domestic Wind/Big Horn Basin (Scroll Down for more Basins | AL2: Industrial Wind/Bighorn Basin (Scroll down for more basins)
A3: Step a | F3: Step b | G3: Step c | I3: Step d | R3: Step a | W3: Step b | Y3: Step c | AB3: Step d | AD3: Step e | AL3: Step a
A4: Water System/ Location | B4: County | C4: HUC 8 | D4: Source | E4: Withdrawal gpd (by location) | F4: Withdrawal AFY (by location) | G4: CU % | H4: CU AFY (by location) | I4: HUC 8 | J4: CU AFY | R4: County | S4: HUC 8 | T4: County Population USCB 2010 | U4: HUC 8 by County Pop USCB 2010 | V4: Ratio | W4: Estimated Domestic Pop by County | X4: Estimated Domestic Pop by HUC 8 | Y4: Domestic Gallons per capita per day (Average 150 & 300 gpcpd) | Z4: Average use gpd | AA4: Average Use AFY | AB4: Consumptive Use % | AC4: Average CU AFY | AD4: HUC 8 | AE4: Average Use AFY | AL4: County | AM4: Industrial GW Wdwls mgd (Fresh) | AN4: Mining GW Wdwls mgd (Fresh) | AO4: Mining GW Wdwls mgd (Saline) | AP4: Industrial SW Wdwls mgd (Fresh) | AQ4: Mining SW Wdwls mgd (Fresh) | AR4: Industrial CU % Total GW Use (Fresh) | AS4: Mining CU% Total GW Use (Fresh) | AT4: Mining CU % Total GW Use (Saline) | AU4: Industrial SW Total Wdwls mgd | AV4: Industrial SW Consumptive Use | AW4: Mining SW Total Wdwls | AX4: Mining SW Consumptive Use | AY4: Industrial SW CU % Total Use | AZ4: Mining SW CU % Total Use | BA4: Industrial GW CU mgd (Fresh) | BB4: Mining GW CU mgd (Fresh) | BC4: Mining GW CU mgd (Saline) | BD4: Industrial SW CU mgd (Fresh) | BE4: Mining SW CU mgd (Fresh) | BF4: Industrial GW CU AFY (Fresh) | BG4: Mining GW CU AFY (Fresh) | BH4: Mining GW CU AFY (Saline) | BI4: Industrial SW CU AFY (Fresh) | BJ4: Mining SW CU AFY (Fresh)
A5: Basin | B5: Big Horn | C5: 10080007 | D5: Groundwater | E5: =Input!I5 -> 178082 | F5: =(E5/1000000)*1120.55 -> 199.54979 | G5: 0.41 | H5: =G5*F5 -> 81.815412 | I5: 10020007 | J5: =SUM(H56,H57) -> 0 | R5: Big Horn | S5: 10080007 | T5: 11668 | U5: 1944 | V5: =U5/T5 -> 0.16660953 | W5: =Input!L5 -> 598 | X5: =W5*V5 -> 99.632499 | Y5: =Input!M5 -> 225 | Z5: =Y5*X5 -> 22417.312 | AA5: =(Z5/1000000)*1120.55 -> 25.119719 | AB5: =Input!N5 -> 0.41 | AC5: =AA5*AB5 -> 10.299085 | AD5: 10020007 | AE5: 0 | AL5: Big Horn | AM5: =Input!P5 -> 0 | AN5: =Input!Q5 -> 0.43 | AO5: =Input!R5 -> 17.35 | AP5: =Input!S5 -> 0.03 | AQ5: =Input!T5 -> 0.15 | AR5: =Input!U5 -> 0.15 | AS5: =Input!V5 -> 0.33 | AT5: =Input!W5 -> 0.2 | AU5: =(SUM($AP$5:$AP$9))*1120.55 -> 448.22 | AV5: =Input!X5 -> 67 | AW5: =(SUM($AQ$5:$AQ$9))*1120.55 -> 201.699 | AX5: =Input!Y5 -> 66 | AY5: =AV5/AU5 -> 0.14948017 | AZ5: =AX5/AW5 -> 0.32722026 | BA5: =AM5*AR5 -> 0 | BB5: =AN5*AS5 -> 0.1419 | BC5: =AO5*AT5 -> 3.47 | BD5: =AP5*AY5 -> 0.004484405 | BE5: =AQ5*AZ5 -> 0.04908304 | BF5: =BA5*1120.55 -> 0 | BG5: =BB5*1120.55 -> 159.00605 | BH5: =BC5*1120.55 -> 3888.3085 | BI5: =BD5*1120.55 -> 5.025 | BJ5: =BE5*1120.55 -> 55
A6: Manderson | B6: Big Horn | C6: 10080007 | D6: Groundwater | E6: =Input!I6 -> 0 | F6: =IF(E6, 0, E6/1000000*1120.55) -> 0 | G6: 0.41 | H6: =G6*F6 -> 0 | I6: 10020008 | J6: 0 | R6: Big Horn | S6: 10080008 | T6: 11668 | U6: 274 | V6: =U6/T6 -> 0.023483031 | W6: =Input!L6 -> 598 | X6: =W6*V6 -> 14.042852 | Y6: =Input!M6 -> 225 | Z6: =Y6*X6 -> 3159.6418 | AA6: =(Z6/1000000)*1120.55 -> 3.5405366 | AB6: =Input!N6 -> 0.41 | AC6: =AA6*AB6 -> 1.45162 | AD6: 10020008 | AE6: 0 | AL6: Fremont | AM6: =Input!P6 -> 0.11 | AN6: =Input!Q6 -> 0 | AO6: =Input!R6 -> 6.29 | AP6: =Input!S6 -> 0.07 | AQ6: =Input!T6 -> 0 | AR6: =Input!U6 -> 0.16 | AS6: =Input!V6 -> 0.32 | AT6: =Input!W6 -> 0.21 | AU6: =(SUM($AP$5:$AP$9))*1120.55 -> 448.22 | AV6: =Input!X6 -> 67 | AW6: =(SUM($AQ$5:$AQ$9))*1120.55 -> 201.699 | AX6: =Input!Y6 -> 66 | AY6: =AV6/AU6 -> 0.14948017 | AZ6: =AX6/AW6 -> 0.32722026 | BA6: =AM6*AR6 -> 0.0176 | BB6: =AN6*AS6 -> 0 | BC6: =AO6*AT6 -> 1.3209 | BD6: =AP6*AY6 -> 0.010463612 | BE6: =AQ6*AZ6 -> 0 | BF6: =BA6*1120.55 -> 19.72168 | BG6: =BB6*1120.55 -> 0 | BH6: =BC6*1120.55 -> 1480.1345 | BI6: =BD6*1120.55 -> 11.725 | BJ6: =BE6*1120.55 -> 0
A7: South Big Horn Co. JPB | B7: Big Horn | C7: 10080007 | D7: Groundwater | E7: =Input!I7 -> 213699 | F7: =(E7/1000000)*1120.55 -> 239.46041 | G7: 0.41 | H7: =G7*F7 -> 98.17877 | I7: 10070001 | J7: 0 | R7: Big Horn | S7: 10080009 | T7: 11668 | U7: 906 | V7: =U7/T7 -> 0.077648269 | W7: =Input!L7 -> 598 | X7: =W7*V7 -> 46.433665 | Y7: =Input!M7 -> 225 | Z7: =Y7*X7 -> 10447.575 | AA7: =(Z7/1000000)*1120.55 -> 11.70703 | AB7: =Input!N7 -> 0.41 | AC7: =AA7*AB7 -> 4.7998822 | AD7: 10070001 | AE7: =AC22 -> 6.5516047 | AL7: Hot Springs | AM7: =Input!P7 -> 0 | AN7: =Input!Q7 -> 0 | AO7: =Input!R7 -> 12.67 | AP7: =Input!S7 -> 0 | AQ7: =Input!T7 -> 0 | AR7: =Input!U7 -> 0.21 | AS7: =Input!V7 -> 0.33 | AT7: =Input!W7 -> 0.21 | AU7: =(SUM($AP$5:$AP$9))*1120.55 -> 448.22 | AV7: =Input!X7 -> 67 | AW7: =(SUM($AQ$5:$AQ$9))*1120.55 -> 201.699 | AX7: =Input!Y7 -> 66 | AY7: =AV7/AU7 -> 0.14948017 | AZ7: =AX7/AW7 -> 0.32722026 | BA7: =AM7*AR7 -> 0 | BB7: =AN7*AS7 -> 0 | BC7: =AO7*AT7 -> 2.6607 | BD7: =AP7*AY7 -> 0 | BE7: =AQ7*AZ7 -> 0 | BF7: =BA7*1120.55 -> 0 | BG7: =BB7*1120.55 -> 0 | BH7: =BC7*1120.55 -> 2981.4474 | BI7: =BD7*1120.55 -> 0 | BJ7: =BE7*1120.55 -> 0
A8: Hyatville WC | B8: Big Horn | C8: 10080008 | D8: Groundwater | E8: =Input!I8 -> 2740 | F8: =(E8/1000000)*1120.55 -> 3.070307 | G8: 0.41 | H8: =G8*F8 -> 1.2588259 | I8: 10070002 | J8: 0 | R8: Big Horn | S8: 10080010 | T8: 11668 | U8: 2694 | V8: =U8/T8 -> 0.2308879 | W8: =Input!L8 -> 598 | X8: =W8*V8 -> 138.07096 | Y8: =Input!M8 -> 225 | Z8: =Y8*X8 -> 31065.967 | AA8: =(Z8/1000000)*1120.55 -> 34.810969 | AB8: =Input!N8 -> 0.41 | AC8: =AA8*AB8 -> 14.272497 | AD8: 10070002 | AE8: 0 | AL8: Park | AM8: =Input!P8 -> 0.07 | AN8: =Input!Q8 -> 0 | AO8: =Input!R8 -> 43.05 | AP8: =Input!S8 -> 0.04 | AQ8: =Input!T8 -> 0 | AR8: =Input!U8 -> 0.2 | AS8: =Input!V8 -> 0.3 | AT8: =Input!W8 -> 0.21 | AU8: =(SUM($AP$5:$AP$9))*1120.55 -> 448.22 | AV8: =Input!X8 -> 67 | AW8: =(SUM($AQ$5:$AQ$9))*1120.55 -> 201.699 | AX8: =Input!Y8 -> 66 | AY8: =AV8/AU8 -> 0.14948017 | AZ8: =AX8/AW8 -> 0.32722026 | BA8: =AM8*AR8 -> 0.014 | BB8: =AN8*AS8 -> 0 | BC8: =AO8*AT8 -> 9.0405 | BD8: =AP8*AY8 -> 0.0059792066 | BE8: =AQ8*AZ8 -> 0 | BF8: =BA8*1120.55 -> 15.6877 | BG8: =BB8*1120.55 -> 0 | BH8: =BC8*1120.55 -> 10130.332 | BI8: =BD8*1120.55 -> 6.7 | BJ8: =BE8*1120.55 -> 0
A9: Burlington | B9: Big Horn | C9: 10080009 | D9: Groundwater | E9: =Input!I9 -> 328767 | F9: =(E9/1000000)*1120.55 -> 368.39986 | G9: 0.41 | H9: =G9*F9 -> 151.04394 | I9: 10070006 | J9: 0 | R9: Big Horn | S9: 10080011 | T9: 11668 | U9: 301 | V9: =U9/T9 -> 0.025797052 | W9: =Input!L9 -> 598 | X9: =W9*V9 -> 15.426637 | Y9: =Input!M9 -> 225 | Z9: =Y9*X9 -> 3470.9933 | AA9: =(Z9/1000000)*1120.55 -> 3.8894216 | AB9: =Input!N9 -> 0.41 | AC9: =AA9*AB9 -> 1.5946628 | AD9: 10070006 | AE9: =AC23 -> 17.994476 | AL9: Washakie | AM9: =Input!P9 -> 0.02 | AN9: =Input!Q9 -> 0.09 | AO9: =Input!R9 -> 1.49 | AP9: =Input!S9 -> 0.26 | AQ9: =Input!T9 -> 0.03 | AR9: =Input!U9 -> 0.15 | AS9: =Input!V9 -> 0.32 | AT9: =Input!W9 -> 0.21 | AU9: =(SUM($AP$5:$AP$9))*1120.55 -> 448.22 | AV9: =Input!X9 -> 67 | AW9: =(SUM($AQ$5:$AQ$9))*1120.55 -> 201.699 | AX9: =Input!Y9 -> 66 | AY9: =AV9/AU9 -> 0.14948017 | AZ9: =AX9/AW9 -> 0.32722026 | BA9: =AM9*AR9 -> 0.003 | BB9: =AN9*AS9 -> 0.0288 | BC9: =AO9*AT9 -> 0.3129 | BD9: =AP9*AY9 -> 0.038864843 | BE9: =AQ9*AZ9 -> 0.0098166079 | BF9: =BA9*1120.55 -> 3.36165 | BG9: =BB9*1120.55 -> 32.27184 | BH9: =BC9*1120.55 -> 350.62009 | BI9: =BD9*1120.55 -> 43.55 | BJ9: =BE9*1120.55 -> 11
A10: Airport Bench Water & Sewer District | B10: Big Horn | C10: 10080010 | D10: Groundwater | E10: =Input!I10 -> 10406 | F10: =(E10/1000000)*1120.55 -> 11.660443 | G10: 0.41 | H10: =G10*F10 -> 4.7807818 | I10: 10080001 | J10: =SUM(H19:H33) -> 960.73774 | R10: Big Horn | S10: 10080014 | T10: 11668 | U10: 5549 | V10: =U10/T10 -> 0.47557422 | W10: =Input!L10 -> 598 | X10: =W10*V10 -> 284.39338 | Y10: =Input!M10 -> 225 | Z10: =Y10*X10 -> 63988.511 | AA10: =(Z10/1000000)*1120.55 -> 71.702326 | AB10: =Input!N10 -> 0.41 | AC10: =AA10*AB10 -> 29.397954 | AD10: 10080001 | AE10: =AC11 -> 826.68113
A11: Greybull | B11: Big Horn | C11: 10080010 | D11: Groundwater | E11: =Input!I11 -> 1000000 | F11: =(E11/1000000)*1120.55 -> 1120.55 | G11: 0.41 | H11: =G11*F11 -> 459.4255 | I11: 10080002 | J11: 0 | R11: Fremont | S11: 10080001 | T11: 39936 | U11: 18246 | V11: =U11/T11 -> 0.45688101 | W11: =Input!L11 -> 17504 | X11: =W11*V11 -> 7997.2452 | Y11: =Input!M11 -> 225 | Z11: =Y11*X11 -> 1799380.2 | AA11: =(Z11/1000000)*1120.55 -> 2016.2954 | AB11: =Input!N11 -> 0.41 | AC11: =AA11*AB11 -> 826.68113 | AD11: 10080002 | AE11: =AC12 -> 279.45683 | AL11: Step b | AQ11: Step c | AU11: Step d | AX11: Step e | BB11: Step f | BE11: Step g | BG11: Step h | BH11: Step i
A12: Shell Valley, West Water & Sewer | B12: Big Horn | C12: 10080010 | D12: Groundwater | E12: =Input!I12 -> 0 | F12: =(E12/1000000)*1120.55 -> 0 | G12: 0.41 | H12: =G12*F12 -> 0 | I12: 10080003 | J12: =SUM(H34,H35,H36,H37) -> 978.80603 | R12: Fremont | S12: 10080002 | T12: 39936 | U12: 6168 | V12: =U12/T12 -> 0.15444712 | W12: =Input!L12 -> 17504 | X12: =W12*V12 -> 2703.4423 | Y12: =Input!M12 -> 225 | Z12: =Y12*X12 -> 608274.52 | AA12: =(Z12/1000000)*1120.55 -> 681.60201 | AB12: =Input!N12 -> 0.41 | AC12: =AA12*AB12 -> 279.45683 | AD12: 10080003 | AE12: =AC13 -> 514.92004 | AL12: County | AM12: HUC 8 | AN12: 2010 County Pop | AO12: 2010 Pop by HUC 8 & County | AP12: Ratio | AQ12: Industrial GW CU AFY (Fresh) | AR12: Industrial SW CU AFY (Fresh) | AS12: Industrial Total CU AFY by County | AT12: Industrial Total CU AFY by HUC 8 & County | AU12: # of Wells by County | AV12: # of Wells by County and HUC 8 | AW12: Ratio | AX12: Mining GW CU AFY (Fresh) by County | AY12: Mining GW CU AFY (Saline) by County | AZ12: Mining GW CU AFY Total by County | BA12: Mining GW CU AFY Total by HUC 8 & County | BB12: Acres by County | BC12: Acres by HUC 8 and County | BD12: Ratio | BE12: Mining SW CU AFY by County | BF12: Mining SW CU AFY by HUC 8 & County | BG12: Total Industrial/Mining CU AFY by HUC 8 & County | BH12: HUC 8 | BI12: Total Industrial/Mining CU AFY by HUC 8
A13: Shell Water Users, Inc. | B13: Big Horn | C13: 10080010 | D13: Groundwater | E13: =Input!I13 -> 0 | F13: =(E13/1000000)*1120.55 -> 0 | G13: 0.41 | H13: =G13*F13 -> 0 | I13: 10080004 | J13: 0 | R13: Fremont | S13: 10080003 | T13: 39936 | U13: 11365 | V13: =U13/T13 -> 0.28458033 | W13: =Input!L13 -> 17504 | X13: =W13*V13 -> 4981.2941 | Y13: =Input!M13 -> 225 | Z13: =Y13*X13 -> 1120791.2 | AA13: =(Z13/1000000)*1120.55 -> 1255.9025 | AB13: =Input!N13 -> 0.41 | AC13: =AA13*AB13 -> 514.92004 | AD13: 10080004 | AE13: =AC14 -> 0.95145806 | AL13: Big Horn | AM13: 10080007 | AN13: 11668 | AO13: 1944 | AP13: 0.16660953 | AQ13: =BF5 -> 0 | AR13: =BI5 -> 5.025 | AS13: =SUM(AQ13:AR13) -> 5.025 | AT13: =AS13*AP13 -> 0.83721289 | AU13: 11 | AV13: 1 | AW13: 0.090909091 | AX13: =BG5 -> 159.00605 | AY13: =BH5 -> 3888.3085 | AZ13: =SUM(AX13:AY13) -> 4047.3145 | BA13: =AZ13*AW13 -> 367.93769 | BB13: 2030308 | BC13: 269793 | BD13: 0.13288279 | BE13: =BJ5 -> 55 | BF13: =BE13*BD13 -> 7.3085537 | BG13: =SUM(BF13,BA13,AT13) -> 376.08345 | BH13: 10020007 | BI13: =BG33 -> 0
A14: Byron, Town of | B14: Big Horn | C14: 10080014 | D14: Surface Water | E14: =Input!I14 -> 60000 | F14: =(E14/1000000)*1120.55 -> 67.233 | G14: 0.41 | H14: =G14*F14 -> 27.56553 | I14: 10080005 | J14: =SUM(H38,H39) -> 0.9693878 | R14: Fremont | S14: 10080004 | T14: 39936 | U14: 21 | V14: =U14/T14 -> 0.00052584135 | W14: =Input!L14 -> 17504 | X14: =W14*V14 -> 9.2043269 | Y14: =Input!M14 -> 225 | Z14: =Y14*X14 -> 2070.9736 | AA14: =(Z14/1000000)*1120.55 -> 2.3206294 | AB14: =Input!N14 -> 0.41 | AC14: =AA14*AB14 -> 0.95145806 | AD14: 10080005 | AE14: =SUM(AC15,AC17,AC20) -> 167.14709 | AL14: Big Horn | AM14: 10080008 | AN14: 11668 | AO14: 274 | AP14: 0.023483031 | AQ14: =$AQ$13 -> 0 | AR14: =$AR$13 -> 5.025 | AS14: =SUM(AQ14:AR14) -> 5.025 | AT14: =AS14*AP14 -> 0.11800223 | AU14: 11 | AV14: 0 | AW14: 0 | AX14: =$AX$13 -> 159.00605 | AY14: =$AY$13 -> 3888.3085 | AZ14: =SUM(AX14:AY14) -> 4047.3145 | BA14: =AZ14*AW14 -> 0 | BB14: 2030308 | BC14: 447868 | BD14: 0.22059116 | BE14: =$BE$13 -> 55 | BF14: =BE14*BD14 -> 12.132514 | BG14: =SUM(BF14,BA14,AT14) -> 12.250516 | BH14: 10020008 | BI14: =BG34 -> 0
A15: Cowley | B15: Big Horn | C15: 10080014 | D15: Groundwater | E15: =Input!I15 -> 0 | F15: =(E15/1000000)*1120.55 -> 0 | G15: 0.41 | H15: =G15*F15 -> 0 | I15: 10080006 | J15: =SUM(H40,H41) -> 81.579267 | R15: Fremont | S15: 10080005 | T15: 39936 | U15: 3601 | V15: =U15/T15 -> 0.090169271 | W15: =Input!L15 -> 17504 | X15: =W15*V15 -> 1578.3229 | Y15: =Input!M15 -> 225 | Z15: =Y15*X15 -> 355122.66 | AA15: =(Z15/1000000)*1120.55 -> 397.93269 | AB15: =Input!N15 -> 0.41 | AC15: =AA15*AB15 -> 163.1524 | AD15: 10080006 | AE15: =SUM(AC16,AC21) -> 28.472559 | AL15: Big Horn | AM15: 10080009 | AN15: 11668 | AO15: 906 | AP15: 0.077648269 | AQ15: =$AQ$13 -> 0 | AR15: =$AR$13 -> 5.025 | AS15: =SUM(AQ15:AR15) -> 5.025 | AT15: =AS15*AP15 -> 0.39018255 | AU15: 11 | AV15: 0 | AW15: 0 | AX15: =$AX$13 -> 159.00605 | AY15: =$AY$13 -> 3888.3085 | AZ15: =SUM(AX15:AY15) -> 4047.3145 | BA15: =AZ15*AW15 -> 0 | BB15: 2030308 | BC15: 149596 | BD15: 0.073681432 | BE15: =$BE$13 -> 55 | BF15: =BE15*BD15 -> 4.0524787 | BG15: =SUM(BF15,BA15,AT15) -> 4.4426613 | BH15: 10070001 | BI15: =BG35 -> 0.2317748
A16: Deaver Municipal Water System | B16: Big Horn | C16: 10080014 | D16: Surface Water | E16: =Input!I16 -> 32529 | F16: =(E16/1000000)*1120.55 -> 36.450371 | G16: 0.41 | H16: =G16*F16 -> 14.944652 | I16: 10080007 | J16: =SUM(H5,H6,H7,H42,H43,H44,H58,H59,H60) -> 1319.1429 | R16: Fremont | S16: 10080006 | T16: 39936 | U16: 535 | V16: =U16/T16 -> 0.013396434 | W16: =Input!L16 -> 17504 | X16: =W16*V16 -> 234.49119 | Y16: =Input!M16 -> 225 | Z16: =Y16*X16 -> 52760.517 | AA16: =(Z16/1000000)*1120.55 -> 59.120797 | AB16: =Input!N16 -> 0.41 | AC16: =AA16*AB16 -> 24.239527 | AD16: 10080007 | AE16: =SUM(AC5,AC18,AC24,AC30) -> 89.658364 | AL16: Big Horn | AM16: 10080010 | AN16: 11668 | AO16: 2694 | AP16: 0.2308879 | AQ16: =$AQ$13 -> 0 | AR16: =$AR$13 -> 5.025 | AS16: =SUM(AQ16:AR16) -> 5.025 | AT16: =AS16*AP16 -> 1.1602117 | AU16: 11 | AV16: 2 | AW16: 0.18181818 | AX16: =$AX$13 -> 159.00605 | AY16: =$AY$13 -> 3888.3085 | AZ16: =SUM(AX16:AY16) -> 4047.3145 | BA16: =AZ16*AW16 -> 735.87537 | BB16: 2030308 | BC16: 790526 | BD16: 0.3893626 | BE16: =$BE$13 -> 55 | BF16: =BE16*BD16 -> 21.414943 | BG16: =SUM(BF16,BA16,AT16) -> 758.45053 | BH16: 10070002 | BI16: 0
A17: Frannie, Town of | B17: Big Horn | C17: 10080014 | D17: Surface Water | E17: =Input!I17 -> 30137 | F17: =(E17/1000000)*1120.55 -> 33.770015 | G17: 0.41 | H17: =G17*F17 -> 13.845706 | I17: 10080008 | J17: =SUM(H8,H61) -> 7.1394723 | R17: Hot Springs | S17: 10080005 | T17: 4804 | U17: 23 | V17: =U17/T17 -> 0.0047876769 | W17: =Input!L17 -> 333 | X17: =W17*V17 -> 1.5942964 | Y17: =Input!M17 -> 225 | Z17: =Y17*X17 -> 358.71669 | AA17: =(Z17/1000000)*1120.55 -> 0.40195999 | AB17: =Input!N17 -> 0.41 | AC17: =AA17*AB17 -> 0.1648036 | AD17: 10080008 | AE17: =SUM(AC6,AC19,AC31) -> 7.4495918 | AL17: Big Horn | AM17: 10080011 | AN17: 11668 | AO17: 301 | AP17: 0.025797052 | AQ17: =$AQ$13 -> 0 | AR17: =$AR$13 -> 5.025 | AS17: =SUM(AQ17:AR17) -> 5.025 | AT17: =AS17*AP17 -> 0.12963019 | AU17: 11 | AV17: 0 | AW17: 0 | AX17: =$AX$13 -> 159.00605 | AY17: =$AY$13 -> 3888.3085 | AZ17: =SUM(AX17:AY17) -> 4047.3145 | BA17: =AZ17*AW17 -> 0 | BB17: 2030308 | BC17: 89101 | BD17: 0.04388546 | BE17: =$BE$13 -> 55 | BF17: =BE17*BD17 -> 2.4137003 | BG17: =SUM(BF17,BA17,AT17) -> 2.5433305 | BH17: 10070006 | BI17: =BG36 -> 1208.2259
A18: Lovell, Town of | B18: Big Horn | C18: 10080014 | D18: Surface Water | E18: =Input!I18 -> 222000 | F18: =(E18/1000000)*1120.55 -> 248.7621 | G18: 0.41 | H18: =G18*F18 -> 101.99246 | I18: 10080009 | J18: =SUM(H9,H45,H46) -> 176.9073 | R18: Hot Springs | S18: 10080007 | T18: 4804 | U18: 4781 | V18: =U18/T18 -> 0.99521232 | W18: =Input!L18 -> 333 | X18: =W18*V18 -> 331.4057 | Y18: =Input!M18 -> 225 | Z18: =Y18*X18 -> 74566.283 | AA18: =(Z18/1000000)*1120.55 -> 83.555249 | AB18: =Input!N18 -> 0.41 | AC18: =AA18*AB18 -> 34.257652 | AD18: 10080009 | AE18: =SUM(AC7,AC25) -> 21.537886 | AL18: Big Horn | AM18: 10080014 | AN18: 11668 | AO18: 5549 | AP18: 0.47557422 | AQ18: =$AQ$13 -> 0 | AR18: =$AR$13 -> 5.025 | AS18: =SUM(AQ18:AR18) -> 5.025 | AT18: =AS18*AP18 -> 2.3897605 | AU18: 11 | AV18: 8 | AW18: 0.72727273 | AX18: =$AX$13 -> 159.00605 | AY18: =$AY$13 -> 3888.3085 | AZ18: =SUM(AX18:AY18) -> 4047.3145 | BA18: =AZ18*AW18 -> 2943.5015 | BB18: 2030308 | BC18: 283424 | BD18: 0.13959655 | BE18: =$BE$13 -> 55 | BF18: =BE18*BD18 -> 7.6778105 | BG18: =SUM(BF18,BA18,AT18) -> 2953.5691 | BH18: 10080001 | BI18: =SUM(BG19,BG27) -> 250.69139
A19: B&K Mobile Home Park | B19: Fremont | C19: 10080001 | D19: Groundwater | E19: =Input!I19 -> 0 | F19: =(E19/1000000)*1120.55 -> 0 | G19: 0.41 | H19: =G19*F19 -> 0 | I19: 10080010 | J19: =SUM(H10,H11,H12,H13) -> 464.20628 | R19: Johnson | S19: 10080008 | T19: 0 | U19: 0 | V19: 1 | W19: =Input!L19 -> 18 | X19: =W19*V19 -> 18 | Y19: =Input!M19 -> 225 | Z19: =Y19*X19 -> 4050 | AA19: =(Z19/1000000)*1120.55 -> 4.5382275 | AB19: =Input!N19 -> 0.41 | AC19: =AA19*AB19 -> 1.8606733 | AD19: 10080010 | AE19: =AC8 -> 14.272497 | AL19: Fremont | AM19: 10080001 | AN19: 39936 | AO19: 18246 | AP19: 0.45688101 | AQ19: =$BF$6 -> 19.72168 | AR19: =BI6 -> 11.725 | AS19: =SUM(AQ19:AR19) -> 31.44668 | AT19: =AS19*AP19 -> 14.367391 | AU19: 119 | AV19: 19 | AW19: 0.15966387 | AX19: =BG6 -> 0 | AY19: =BH6 -> 1480.1345 | AZ19: =SUM(AX19:AY19) -> 1480.1345 | BA19: =AZ19*AW19 -> 236.32399 | BB19: 4598519 | BC19: 1619129 | BD19: 0.35209793 | BE19: =BJ6 -> 0 | BF19: =BE19*BD19 -> 0 | BG19: =SUM(BF19,BA19,AT19) -> 250.69139 | BH19: 10080002 | BI19: =BG20 -> 651.63831
A20: Cozy Mobile Home Park | B20: Fremont | C20: 10080001 | D20: Groundwater | E20: =Input!I20 -> 0 | F20: =(E20/1000000)*1120.55 -> 0 | G20: 0.41 | H20: =G20*F20 -> 0 | I20: 10080011 | J20: 0 | R20: Natrona | S20: 10080005 | T20: 40 | U20: 19 | V20: =U20/T20 -> 0.475 | W20: =Input!L20 -> 78 | X20: =W20*V20 -> 37.05 | Y20: =Input!M20 -> 225 | Z20: =Y20*X20 -> 8336.25 | AA20: =(Z20/1000000)*1120.55 -> 9.3411849 | AB20: =Input!N20 -> 0.41 | AC20: =AA20*AB20 -> 3.8298858 | AD20: 10080011 | AE20: =SUM(AC9,AC26) -> 4.8255912 | AL20: Fremont | AM20: 10080002 | AN20: 39936 | AO20: 6168 | AP20: 0.15444711 | AQ20: =$BF$6 -> 19.72168 | AR20: =$AR$19 -> 11.725 | AS20: =SUM(AQ20:AR20) -> 31.44668 | AT20: =AS20*AP20 -> 4.856849 | AU20: 119 | AV20: 52 | AW20: 0.43697479 | AX20: =$AX$19 -> 0 | AY20: =$AY$19 -> 1480.1345 | AZ20: =SUM(AX20:AY20) -> 1480.1345 | BA20: =AZ20*AW20 -> 646.78146 | BB20: 4598519 | BC20: 713640 | BD20: 0.15518909 | BE20: =$BE$19 -> 0 | BF20: =BE20*BD20 -> 0 | BG20: =SUM(BF20,BA20,AT20) -> 651.63831 | BH20: 10080003 | BI20: =BG21 -> 158.20637
A21: Dubois Water System | B21: Fremont | C21: 10080001 | D21: Groundwater | E21: =Input!I21 -> 211992 | F21: =(E21/1000000)*1120.55 -> 237.54764 | G21: 0.41 | H21: =G21*F21 -> 97.394531 | I21: 10080012 | J21: 0 | R21: Natrona | S21: 10080006 | T21: 40 | U21: 21 | V21: =U21/T21 -> 0.525 | W21: =Input!L21 -> 78 | X21: =W21*V21 -> 40.95 | Y21: =Input!M21 -> 225 | Z21: =Y21*X21 -> 9213.75 | AA21: =(Z21/1000000)*1120.55 -> 10.324468 | AB21: =Input!N21 -> 0.41 | AC21: =AA21*AB21 -> 4.2330317 | AD21: 10080012 | AE21: =AC27 -> 15.144977 | AL21: Fremont | AM21: 10080003 | AN21: 39936 | AO21: 11365 | AP21: 0.28458033 | AQ21: =$BF$6 -> 19.72168 | AR21: =$AR$19 -> 11.725 | AS21: =SUM(AQ21:AR21) -> 31.44668 | AT21: =AS21*AP21 -> 8.9491065 | AU21: 119 | AV21: 12 | AW21: 0.10084034 | AX21: =$AX$19 -> 0 | AY21: =$AY$19 -> 1480.1345 | AZ21: =SUM(AX21:AY21) -> 1480.1345 | BA21: =AZ21*AW21 -> 149.25726 | BB21: 4598519 | BC21: 506955 | BD21: 0.1102431 | BE21: =$BE$19 -> 0 | BF21: =BE21*BD21 -> 0 | BG21: =SUM(BF21,BA21,AT21) -> 158.20637 | BH21: 10080004 | BI21: =BG22 -> 310.96916
A22: First Fike Subdivision | B22: Fremont | C22: 10080001 | D22: Groundwater | E22: =Input!I22 -> 0 | F22: =(E22/1000000)*1120.55 -> 0 | G22: 0.41 | H22: =G22*F22 -> 0 | I22: 10080013 | J22: 0 | R22: Park | S22: 10070001 | T22: 28205 | U22: 292 | V22: =U22/T22 -> 0.010352774 | W22: =Input!L22 -> 6122 | X22: =W22*V22 -> 63.379684 | Y22: =Input!M22 -> 225 | Z22: =Y22*X22 -> 14260.429 | AA22: =(Z22/1000000)*1120.55 -> 15.979524 | AB22: =Input!N22 -> 0.41 | AC22: =AA22*AB22 -> 6.5516047 | AD22: 10080013 | AE22: =AC28 -> 34.822228 | AL22: Fremont | AM22: 10080004 | AN22: 39936 | AO22: 21 | AP22: 0.000525841 | AQ22: =$BF$6 -> 19.72168 | AR22: =$AR$19 -> 11.725 | AS22: =SUM(AQ22:AR22) -> 31.44668 | AT22: =AS22*AP22 -> 0.016535954 | AU22: 119 | AV22: 25 | AW22: 0.21008403 | AX22: =$AX$19 -> 0 | AY22: =$AY$19 -> 1480.1345 | AZ22: =SUM(AX22:AY22) -> 1480.1345 | BA22: =AZ22*AW22 -> 310.95262 | BB22: 4598519 | BC22: 471031 | BD22: 0.10243102 | BE22: =$BE$19 -> 0 | BF22: =BE22*BD22 -> 0 | BG22: =SUM(BF22,BA22,AT22) -> 310.96916 | BH22: 10080005 | BI22: =SUM(BG23,BG28) -> 65.026049
A23: Gardens North Homeowners Association | B23: Fremont | C23: 10080001 | D23: Groundwater | E23: =Input!I23 -> 35068 | F23: =(E23/1000000)*1120.55 -> 39.295447 | G23: 0.41 | H23: =G23*F23 -> 16.111133 | I23: 10080014 | J23: =SUM(H14,H15,H16,H17,H18,H47,H48,H49,H50,H51,H52,H53,H54,H55) -> 1479.714 | R23: Park | S23: 10070006 | T23: 28205 | U23: 802 | V23: =U23/T23 -> 0.028434675 | W23: =Input!L23 -> 6122 | X23: =W23*V23 -> 174.07708 | Y23: =Input!M23 -> 225 | Z23: =Y23*X23 -> 39167.343 | AA23: =(Z23/1000000)*1120.55 -> 43.888966 | AB23: =Input!N23 -> 0.41 | AC23: =AA23*AB23 -> 17.994476 | AD23: 10080014 | AE23: =SUM(AC10,AC29) -> 566.7866 | AL23: Fremont | AM23: 10080005 | AN23: 39936 | AO23: 3601 | AP23: 0.090169271 | AQ23: =$BF$6 -> 19.72168 | AR23: =$AR$19 -> 11.725 | AS23: =SUM(AQ23:AR23) -> 31.44668 | AT23: =AS23*AP23 -> 2.8355242 | AU23: 119 | AV23: 5 | AW23: 0.042016807 | AX23: =$AX$19 -> 0 | AY23: =$AY$19 -> 1480.1345 | AZ23: =SUM(AX23:AY23) -> 1480.1345 | BA23: =AZ23*AW23 -> 62.190525 | BB23: 4598519 | BC23: 931802 | BD23: 0.20263089 | BE23: =$BE$19 -> 0 | BF23: =BE23*BD23 -> 0 | BG23: =SUM(BF23,BA23,AT23) -> 65.026049 | BH23: 10080006 | BI23: =SUM(BG24,BG29) -> 75.049903
A24: Mountain View Acres | B24: Fremont | C24: 10080001 | D24: Groundwater | E24: =Input!I24 -> 0 | F24: =(E24/1000000)*1120.55 -> 0 | G24: 0.41 | H24: =G24*F24 -> 0 | R24: Park | S24: 10080007 | T24: 28205 | U24: 43 | V24: =U24/T24 -> 0.0015245524 | W24: =Input!L24 -> 6122 | X24: =W24*V24 -> 9.3333097 | Y24: =Input!M24 -> 225 | Z24: =Y24*X24 -> 2099.9947 | AA24: =(Z24/1000000)*1120.55 -> 2.353149 | AB24: =Input!N24 -> 0.41 | AC24: =AA24*AB24 -> 0.96479111 | AL24: Fremont | AM24: 10080006 | AN24: 39936 | AO24: 535 | AP24: 0.013396434 | AQ24: =$BF$6 -> 19.72168 | AR24: =$AR$19 -> 11.725 | AS24: =SUM(AQ24:AR24) -> 31.44668 | AT24: =AS24*AP24 -> 0.42127337 | AU24: 119 | AV24: 6 | AW24: 0.050420168 | AX24: =$AX$19 -> 0 | AY24: =$AY$19 -> 1480.1345 | AZ24: =SUM(AX24:AY24) -> 1480.1345 | BA24: =AZ24*AW24 -> 74.62863 | BB24: 4598519 | BC24: 322977 | BD24: 0.070235004 | BE24: =$BE$19 -> 0 | BF24: =BE24*BD24 -> 0 | BG24: =SUM(BF24,BA24,AT24) -> 75.049903 | BH24: 10080007 | BI24: =SUM(BG13,BG25,BG30,BG37,BG43) -> 4634.9188
A25: Redd Fox Park HOA | B25: Fremont | C25: 10080001 | D25: Surface Water | E25: =Input!I25 -> 0 | F25: =(E25/1000000)*1120.55 -> 0 | G25: 0.41 | H25: =G25*F25 -> 0 | R25: Park | S25: 10080009 | T25: 28205 | U25: 746 | V25: =U25/T25 -> 0.026449211 | W25: =Input!L25 -> 6122 | X25: =W25*V25 -> 161.92207 | Y25: =Input!M25 -> 225 | Z25: =Y25*X25 -> 36432.466 | AA25: =(Z25/1000000)*1120.55 -> 40.8244 | AB25: =Input!N25 -> 0.41 | AC25: =AA25*AB25 -> 16.738004 | AL25: Fremont | AM25: 10080007 | AN25: 39936 | AO25: 0 | AP25: 0 | AQ25: =$BF$6 -> 19.72168 | AR25: =$AR$19 -> 11.725 | AS25: =SUM(AQ25:AR25) -> 31.44668 | AT25: =AS25*AP25 -> 0 | AU25: 119 | AV25: 0 | AW25: 0 | AX25: =$AX$19 -> 0 | AY25: =$AY$19 -> 1480.1345 | AZ25: =SUM(AX25:AY25) -> 1480.1345 | BA25: =AZ25*AW25 -> 0 | BB25: 4598519 | BC25: 26663 | BD25: 0.0057981711 | BE25: =$BE$19 -> 0 | BF25: =BE25*BD25 -> 0 | BG25: =SUM(BF25,BA25,AT25) -> 0 | BH25: 10080008 | BI25: =SUM(BG14,BG26,BG31,BG44) -> 249.11292
A26: Riverton, City of | B26: Fremont | C26: 10080001 | D26: Groundwater | E26: =Input!I26 -> 951621 | F26: =(E26/1000000)*1120.55 -> 1066.3389 | G26: 0.41 | H26: =G26*F26 -> 437.19895 | R26: Park | S26: 10080011 | T26: 28205 | U26: 144 | V26: =U26/T26 -> 0.0051054778 | W26: =Input!L26 -> 6122 | X26: =W26*V26 -> 31.255735 | Y26: =Input!M26 -> 225 | Z26: =Y26*X26 -> 7032.5403 | AA26: =(Z26/1000000)*1120.55 -> 7.8803131 | AB26: =Input!N26 -> 0.41 | AC26: =AA26*AB26 -> 3.2309284 | AL26: Fremont | AM26: 10080008 | AN26: 39936 | AO26: 0 | AP26: 0 | AQ26: =$BF$6 -> 19.72168 | AR26: =$AR$19 -> 11.725 | AS26: =SUM(AQ26:AR26) -> 31.44668 | AT26: =AS26*AP26 -> 0 | AU26: 119 | AV26: 0 | AW26: 0 | AX26: =$AX$19 -> 0 | AY26: =$AY$19 -> 1480.1345 | AZ26: =SUM(AX26:AY26) -> 1480.1345 | BA26: =AZ26*AW26 -> 0 | BB26: 4598519 | BC26: 6322 | BD26: 0.0013747904 | BE26: =$BE$19 -> 0 | BF26: =BE26*BD26 -> 0 | BG26: =SUM(BF26,BA26,AT26) -> 0 | BH26: 10080009 | BI26: =SUM(BG15,BG32,BG38) -> 273.38797
A27: Riverton, Town of | B27: Fremont | C27: 10080001 | D27: Surface Water | E27: =Input!I27 -> 880991 | F27: =(E27/1000000)*1120.55 -> 987.19447 | G27: 0.41 | H27: =G27*F27 -> 404.74973 | R27: Park | S27: 10080012 | T27: 28205 | U27: 675 | V27: =U27/T27 -> 0.023931927 | W27: =Input!L27 -> 6122 | X27: =W27*V27 -> 146.51126 | Y27: =Input!M27 -> 225 | Z27: =Y27*X27 -> 32965.033 | AA27: =(Z27/1000000)*1120.55 -> 36.938967 | AB27: =Input!N27 -> 0.41 | AC27: =AA27*AB27 -> 15.144977 | AL27: Hot Springs | AM27: 10080001 | AN27: 4804 | AO27: 0 | AP27: 0 | AQ27: =$BF$7 -> 0 | AR27: =BI7 -> 0 | AS27: =SUM(AQ27:AR27) -> 0 | AT27: =AS27*AP27 -> 0 | AU27: 67 | AV27: 0 | AW27: 0 | AX27: =BG7 -> 0 | AY27: =BH7 -> 2981.4474 | AZ27: =SUM(AX27:AY27) -> 2981.4474 | BA27: =AZ27*AW27 -> 0 | BB27: 1268259 | BC27: 643 | BD27: 0.00050699423 | BE27: =BJ7 -> 0 | BF27: =BE27*BD27 -> 0 | BG27: =SUM(BF27,BA27,AT27) -> 0 | BH27: 10080010 | BI27: =BG16 -> 758.45053
A28: Second Fike Subdivision | B28: Fremont | C28: 10080001 | D28: Groundwater | E28: =Input!I28 -> 0 | F28: =(E28/1000000)*1120.55 -> 0 | G28: 0.41 | H28: =G28*F28 -> 0 | R28: Park | S28: 10080013 | T28: 28205 | U28: 1552 | V28: =U28/T28 -> 0.055025705 | W28: =Input!L28 -> 6122 | X28: =W28*V28 -> 336.86736 | Y28: =Input!M28 -> 225 | Z28: =Y28*X28 -> 75795.157 | AA28: =(Z28/1000000)*1120.55 -> 84.932263 | AB28: =Input!N28 -> 0.41 | AC28: =AA28*AB28 -> 34.822228 | AL28: Hot Springs | AM28: 10080005 | AN28: 4804 | AO28: 23 | AP28: 0.004787677 | AQ28: =$BF$7 -> 0 | AR28: =$AR$27 -> 0 | AS28: =SUM(AQ28:AR28) -> 0 | AT28: =AS28*AP28 -> 0 | AU28: 67 | AV28: 0 | AW28: 0 | AX28: =$AX$27 -> 0 | AY28: =$AY$27 -> 2981.4474 | AZ28: =SUM(AX28:AY28) -> 2981.4474 | BA28: =AZ28*AW28 -> 0 | BB28: 1268259 | BC28: 50433 | BD28: 0.039765537 | BE28: =$BE$27 -> 0 | BF28: =BE28*BD28 -> 0 | BG28: =SUM(BF28,BA28,AT28) -> 0 | BH28: 10080011 | BI28: =SUM(BG17,BG39) -> 941.89374
A29: Spencer Homesites | B29: Fremont | C29: 10080001 | D29: Groundwater | E29: =Input!I29 -> 0 | F29: =(E29/1000000)*1120.55 -> 0 | G29: 0.41 | H29: =G29*F29 -> 0 | R29: Park | S29: 10080014 | T29: 28205 | U29: 23951 | V29: =U29/T29 -> 0.84917568 | W29: =Input!L29 -> 6122 | X29: =W29*V29 -> 5198.6535 | Y29: =Input!M29 -> 225 | Z29: =Y29*X29 -> 1169697 | AA29: =(Z29/1000000)*1120.55 -> 1310.704 | AB29: =Input!N29 -> 0.41 | AC29: =AA29*AB29 -> 537.38865 | AL29: Hot Springs | AM29: 10080006 | AN29: 4804 | AO29: 0 | AP29: 0 | AQ29: =$BF$7 -> 0 | AR29: =$AR$27 -> 0 | AS29: =SUM(AQ29:AR29) -> 0 | AT29: =AS29*AP29 -> 0 | AU29: 67 | AV29: 0 | AW29: 0 | AX29: =$AX$27 -> 0 | AY29: =$AY$27 -> 2981.4474 | AZ29: =SUM(AX29:AY29) -> 2981.4474 | BA29: =AZ29*AW29 -> 0 | BB29: 1268259 | BC29: 37315 | BD29: 0.029422224 | BE29: =$BE$27 -> 0 | BF29: =BE29*BD29 -> 0 | BG29: =SUM(BF29,BA29,AT29) -> 0 | BH29: 10080012 | BI29: =BG40 -> 67.624074
A30: Warm Springs Water District | B30: Fremont | C30: 10080001 | D30: Groundwater | E30: =Input!I30 -> 11500 | F30: =(E30/1000000)*1120.55 -> 12.886325 | G30: 0.41 | H30: =G30*F30 -> 5.2833932 | R30: Washakie | S30: 10080007 | T30: 8541 | U30: 7809 | V30: =U30/T30 -> 0.91429575 | W30: =Input!L30 -> 467 | X30: =W30*V30 -> 426.97612 | Y30: =Input!M30 -> 225 | Z30: =Y30*X30 -> 96069.626 | AA30: =(Z30/1000000)*1120.55 -> 107.65082 | AB30: =Input!N30 -> 0.41 | AC30: =AA30*AB30 -> 44.136836 | AL30: Hot Springs | AM30: 10080007 | AN30: 4804 | AO30: 4781 | AP30: 0.99521232 | AQ30: =$BF$7 -> 0 | AR30: =$AR$27 -> 0 | AS30: =SUM(AQ30:AR30) -> 0 | AT30: =AS30*AP30 -> 0 | AU30: 67 | AV30: 67 | AW30: 1 | AX30: =$AX$27 -> 0 | AY30: =$AY$27 -> 2981.4474 | AZ30: =SUM(AX30:AY30) -> 2981.4474 | BA30: =AZ30*AW30 -> 2981.4474 | BB30: 1268259 | BC30: 1151940 | BD30: 0.90828451 | BE30: =$BE$27 -> 0 | BF30: =BE30*BD30 -> 0 | BG30: =SUM(BF30,BA30,AT30) -> 2981.4474 | BH30: 10080013 | BI30: =BG41 -> 1.231899
A31: Monroe Ave Mobile Home Park | B31: Fremont | C31: 10080001 | D31: Groundwater | E31: =Input!I31 -> 0 | F31: =(E31/1000000)*1120.55 -> 0 | G31: 0.41 | H31: =G31*F31 -> 0 | R31: Washakie | S31: 10080008 | T31: 8541 | U31: 732 | V31: =U31/T31 -> 0.08570425 | W31: =Input!L31 -> 467 | X31: =W31*V31 -> 40.023885 | Y31: =Input!M31 -> 225 | Z31: =Y31*X31 -> 9005.3741 | AA31: =(Z31/1000000)*1120.55 -> 10.090972 | AB31: =Input!N31 -> 0.41 | AC31: =AA31*AB31 -> 4.1372985 | AL31: Hot Springs | AM31: 10080008 | AN31: 4804 | AO31: 0 | AP31: 0 | AQ31: =$BF$7 -> 0 | AR31: =$AR$27 -> 0 | AS31: =SUM(AQ31:AR31) -> 0 | AT31: =AS31*AP31 -> 0 | AU31: 67 | AV31: 0 | AW31: 0 | AX31: =$AX$27 -> 0 | AY31: =$AY$27 -> 2981.4474 | AZ31: =SUM(AX31:AY31) -> 2981.4474 | BA31: =AZ31*AW31 -> 0 | BB31: 1268259 | BC31: 6635 | BD31: 0.0052315812 | BE31: =$BE$27 -> 0 | BF31: =BE31*BD31 -> 0 | BG31: =SUM(BF31,BA31,AT31) -> 0 | BH31: 10080014 | BI31: =SUM(BG18,BG42) -> 9748.4978
A32: North Riverton Water & Sewer | B32: Fremont | C32: 10080001 | D32: Groundwater | E32: =Input!I32 -> 0 | F32: =(E32/1000000)*1120.55 -> 0 | G32: 0.41 | H32: =G32*F32 -> 0 | R32: Domestic Snake Salt River Basin (Scroll down for more basins) | AL32: Hot Springs | AM32: 10080009 | AN32: 4804 | AO32: 0 | AP32: 0 | AQ32: =$BF$7 -> 0 | AR32: =$AR$27 -> 0 | AS32: =SUM(AQ32:AR32) -> 0 | AT32: =AS32*AP32 -> 0 | AU32: 67 | AV32: 0 | AW32: 0 | AX32: =$AX$27 -> 0 | AY32: =$AY$27 -> 2981.4474 | AZ32: =SUM(AX32:AY32) -> 2981.4474 | BA32: =AZ32*AW32 -> 0 | BB32: 1268259 | BC32: 21293 | BD32: 0.016789157 | BE32: =$BE$27 -> 0 | BF32: =BE32*BD32 -> 0 | BG32: =SUM(BF32,BA32,AT32) -> 0
A33: Sunnyside Mobile Home Park | B33: Fremont | C33: 10080001 | D33: Groundwater | E33: =Input!I33 -> 0 | F33: =(E33/1000000)*1120.55 -> 0 | G33: 0.41 | H33: =G33*F33 -> 0 | R33: Step a | W33: Step b | Y33: Step c | AB33: Step d | AE33: Step e | AL33: Park | AM33: 10020007 | AN33: 28205 | AO33: 0 | AP33: 0 | AQ33: =BF8 -> 15.6877 | AR33: =BI8 -> 6.7 | AS33: =SUM(AQ33:AR33) -> 22.3877 | AT33: =AS33*AP33 -> 0 | AU33: 151 | AV33: 0 | AW33: 0 | AX33: =BG8 -> 0 | AY33: =BH8 -> 10130.332 | AZ33: =SUM(AX33:AY33) -> 10130.332 | BA33: =AZ33*AW33 -> 0 | BB33: 4426838 | BC33: 177414 | BD33: 0.040076913 | BE33: =BJ8 -> 0 | BF33: =BE33*BD33 -> 0 | BG33: =SUM(BF33,BA33,AT33) -> 0
A34: Hudson, Town of | B34: Fremont | C34: 10080003 | D34: Groundwater | E34: =Input!I34 -> 125000 | F34: =(E34/1000000)*1120.55 -> 140.06875 | G34: 0.41 | H34: =G34*F34 -> 57.428187 | R34: Subbasin | S34: HUC 8 | T34: Total Pop by Subbasin 2000 | U34: Pop in HUC 8 2000 | V34: Ratio | W34: Domestic Water Use by Subbasin gpd | X34: Domestic Water Use by HUC 8 gpd | Y34: Decimal multiplier for CU | Z34: Domestic Water CU gpd | AA34: Domestic Water CU AFY 2000 | AB34: 2010 Pop by HUC 8 | AC34: Growth Rate using 2000 and 2010 Pop | AD34: Domestic Water CU AFY 2010 | AE34: HUC 8 | AF34: Average Use AFY | AL34: Park | AM34: 10020008 | AN34: 28205 | AO34: 0 | AP34: 0 | AQ34: =$AQ$33 -> 15.6877 | AR34: =$AR$33 -> 6.7 | AS34: =SUM(AQ34:AR34) -> 22.3877 | AT34: =AS34*AP34 -> 0 | AU34: 151 | AV34: 0 | AW34: 0 | AX34: =$AX$33 -> 0 | AY34: =$AY$33 -> 10130.332 | AZ34: =SUM(AX34:AY34) -> 10130.332 | BA34: =AZ34*AW34 -> 0 | BB34: 4426838 | BC34: 38688 | BD34: 0.0087394208 | BE34: =$BE$33 -> 0 | BF34: =BE34*BD34 -> 0 | BG34: =SUM(BF34,BA34,AT34) -> 0
A35: Juniper Park Water Association | B35: Fremont | C35: 10080003 | D35: Groundwater | E35: =Input!I35 -> 0 | F35: =(E35/1000000)*1120.55 -> 0 | G35: 0.41 | H35: =G35*F35 -> 0 | R35: Salt | S35: 17040105 | T35: 8537 | U35: 8537 | V35: =U35/T35 -> 1 | W35: =Input!N65 -> 800000 | X35: =W35*V35 -> 800000 | Y35: =Input!O65 -> 1 | Z35: =Y35*X35 -> 800000 | AA35: =(Z35/1000000)*1120.55 -> 896.44 | AB35: 11276 | AC35: =(LN(AB35/U35))/10 -> 0.027826692 | AD35: =AA35*EXP(AC35*10) -> 1184.0526 | AE35: 17040101 | AF35: =AD36 -> 60.75605 | AL35: Park | AM35: 10070001 | AN35: 28205 | AO35: 292 | AP35: 0.010352774 | AQ35: =$AQ$33 -> 15.6877 | AR35: =$AR$33 -> 6.7 | AS35: =SUM(AQ35:AR35) -> 22.3877 | AT35: =AS35*AP35 -> 0.2317748 | AU35: 151 | AV35: 0 | AW35: 0 | AX35: =$AX$33 -> 0 | AY35: =$AY$33 -> 10130.332 | AZ35: =SUM(AX35:AY35) -> 10130.332 | BA35: =AZ35*AW35 -> 0 | BB35: 4426838 | BC35: 1062318 | BD35: 0.23997219 | BE35: =$BE$33 -> 0 | BF35: =BE35*BD35 -> 0 | BG35: =SUM(BF35,BA35,AT35) -> 0.2317748
A36: Lander, City of | B36: Fremont | C36: 10080003 | D36: Surface Water | E36: =Input!I36 -> 2000000 | F36: =(E36/1000000)*1120.55 -> 2241.1 | G36: 0.41 | H36: =G36*F36 -> 918.851 | R36: Snake | S36: 17040101 | T36: 19124 | U36: 1402 | V36: =U36/T36 -> 0.073311023 | W36: =Input!N66 -> 1441000 | X36: =W36*V36 -> 105641.18 | Y36: =Input!O66 -> 0.47 | Z36: =Y36*X36 -> 49651.356 | AA36: =(Z36/1000000)*1120.55 -> 55.636827 | AB36: 1531 | AC36: =(LN(AB36/U36))/10 -> 0.0088021328 | AD36: =AA36*EXP(AC36*10) -> 60.75605 | AE36: 17040102 | AF36: =AD37 -> 11.944854 | AL36: Park | AM36: 10070006 | AN36: 28205 | AO36: 802 | AP36: 0.028434675 | AQ36: =$AQ$33 -> 15.6877 | AR36: =$AR$33 -> 6.7 | AS36: =SUM(AQ36:AR36) -> 22.3877 | AT36: =AS36*AP36 -> 0.63658697 | AU36: 151 | AV36: 18 | AW36: 0.1192053 | AX36: =$AX$33 -> 0 | AY36: =$AY$33 -> 10130.332 | AZ36: =SUM(AX36:AY36) -> 10130.332 | BA36: =AZ36*AW36 -> 1207.5893 | BB36: 4426838 | BC36: 798877 | BD36: 0.18046222 | BE36: =$BE$33 -> 0 | BF36: =BE36*BD36 -> 0 | BG36: =SUM(BF36,BA36,AT36) -> 1208.2259
A37: Raintree Estates | B37: Fremont | C37: 10080003 | D37: Groundwater | E37: =Input!I37 -> 5500 | F37: =(E37/1000000)*1120.55 -> 6.163025 | G37: 0.41 | H37: =G37*F37 -> 2.5268402 | R37: Snake | S37: 17040102 | T37: 19124 | U37: 252 | V37: =U37/T37 -> 0.01317716 | W37: =Input!N67 -> 1441000 | X37: =W37*V37 -> 18988.287 | Y37: =Input!O67 -> 0.47 | Z37: =Y37*X37 -> 8924.4949 | AA37: =(Z37/1000000)*1120.55 -> 10.000343 | AB37: 301 | AC37: =(LN(AB37/U37))/10 -> 0.017768118 | AD37: =AA37*EXP(AC37*10) -> 11.944854 | AE37: 17040103 | AF37: =AD42 -> 800.46394 | AL37: Park | AM37: 10080007 | AN37: 28205 | AO37: 43 | AP37: 0.001524552 | AQ37: =$AQ$33 -> 15.6877 | AR37: =$AR$33 -> 6.7 | AS37: =SUM(AQ37:AR37) -> 22.3877 | AT37: =AS37*AP37 -> 0.034131213 | AU37: 151 | AV37: 16 | AW37: 0.10596026 | AX37: =$AX$33 -> 0 | AY37: =$AY$33 -> 10130.332 | AZ37: =SUM(AX37:AY37) -> 10130.332 | BA37: =AZ37*AW37 -> 1073.4127 | BB37: 4426838 | BC37: 137052 | BD37: 0.030959344 | BE37: =$BE$33 -> 0 | BF37: =BE37*BD37 -> 0 | BG37: =SUM(BF37,BA37,AT37) -> 1073.4468
A38: Pavillion | B38: Fremont | C38: 10080005 | D38: Groundwater | E38: =Input!I38 -> 1918 | F38: =(E38/1000000)*1120.55 -> 2.1492149 | G38: 0.41 | H38: =G38*F38 -> 0.88117811 | R38: Snake | S38: 17040104 | T38: 19124 | U38: 141 | V38: =U38/T38 -> 0.0073729345 | W38: =Input!N68 -> 1441000 | X38: =W38*V38 -> 10624.399 | Y38: =Input!O68 -> 0.47 | Z38: =Y38*X38 -> 4993.4674 | AA38: =(Z38/1000000)*1120.55 -> 5.5954299 | AB38: 230 | AC38: =(LN(AB38/U38))/10 -> 0.048931942 | AD38: =AA38*EXP(AC38*10) -> 9.1272969 | AE38: 17040104 | AF38: =AD38 -> 9.1272969 | AL38: Park | AM38: 10080009 | AN38: 28205 | AO38: 746 | AP38: 0.026449211 | AQ38: =$AQ$33 -> 15.6877 | AR38: =$AR$33 -> 6.7 | AS38: =SUM(AQ38:AR38) -> 22.3877 | AT38: =AS38*AP38 -> 0.592137 | AU38: 151 | AV38: 4 | AW38: 0.026490066 | AX38: =$AX$33 -> 0 | AY38: =$AY$33 -> 10130.332 | AZ38: =SUM(AX38:AY38) -> 10130.332 | BA38: =AZ38*AW38 -> 268.35317 | BB38: 4426838 | BC38: 563521 | BD38: 0.1272965 | BE38: =$BE$33 -> 0 | BF38: =BE38*BD38 -> 0 | BG38: =SUM(BF38,BA38,AT38) -> 268.94531
A39: Sunridge Estates | B39: Fremont | C39: 10080005 | D39: Groundwater | E39: =Input!I39 -> 192 | F39: =(E39/1000000)*1120.55 -> 0.2151456 | G39: 0.41 | H39: =G39*F39 -> 0.088209696 | R39: Snake | S39: 17040202 | T39: 19124 | U39: 0 | V39: =U39/T39 -> 0 | W39: =Input!N69 -> 1441000 | X39: =W39*V39 -> 0 | Y39: =Input!O69 -> 0.47 | Z39: =Y39*X39 -> 0 | AA39: =(Z39/1000000)*1120.55 -> 0 | AB39: 3 | AC39: 0 | AD39: =AA39*EXP(AC39*10) -> 0 | AE39: 17040105 | AF39: =AD35 -> 1184.0526 | AL39: Park | AM39: 10080011 | AN39: 28205 | AO39: 144 | AP39: 0.005105478 | AQ39: =$AQ$33 -> 15.6877 | AR39: =$AR$33 -> 6.7 | AS39: =SUM(AQ39:AR39) -> 22.3877 | AT39: =AS39*AP39 -> 0.11429991 | AU39: 151 | AV39: 14 | AW39: 0.092715232 | AX39: =$AX$33 -> 0 | AY39: =$AY$33 -> 10130.332 | AZ39: =SUM(AX39:AY39) -> 10130.332 | BA39: =AZ39*AW39 -> 939.2361 | BB39: 4426838 | BC39: 189880 | BD39: 0.042892918 | BE39: =$BE$33 -> 0 | BF39: =BE39*BD39 -> 0 | BG39: =SUM(BF39,BA39,AT39) -> 939.3504
A40: Shoshoni | B40: Fremont | C40: 10080006 | D40: Groundwater | E40: =Input!I40 -> 177568 | F40: =(E40/1000000)*1120.55 -> 198.97382 | G40: 0.41 | H40: =G40*F40 -> 81.579267 | R40: Snake | S40: 17040203 | T40: 19124 | U40: 0 | V40: =U40/T40 -> 0 | W40: =Input!N70 -> 1441000 | X40: =W40*V40 -> 0 | Y40: =Input!O70 -> 0.47 | Z40: =Y40*X40 -> 0 | AA40: =(Z40/1000000)*1120.55 -> 0 | AB40: 5 | AC40: 0 | AD40: =AA40*EXP(AC40*10) -> 0 | AE40: 17040202 | AF40: =AD39 -> 0 | AL40: Park | AM40: 10080012 | AN40: 28205 | AO40: 675 | AP40: 0.023931927 | AQ40: =$AQ$33 -> 15.6877 | AR40: =$AR$33 -> 6.7 | AS40: =SUM(AQ40:AR40) -> 22.3877 | AT40: =AS40*AP40 -> 0.5357808 | AU40: 151 | AV40: 1 | AW40: 0.0066225166 | AX40: =$AX$33 -> 0 | AY40: =$AY$33 -> 10130.332 | AZ40: =SUM(AX40:AY40) -> 10130.332 | BA40: =AZ40*AW40 -> 67.088293 | BB40: 4426838 | BC40: 546146 | BD40: 0.12337158 | BE40: =$BE$33 -> 0 | BF40: =BE40*BD40 -> 0 | BG40: =SUM(BF40,BA40,AT40) -> 67.624074
A41: Jeffrey City Water & Sewer District | B41: Fremont | C41: 10180006 | D41: Groundwater | E41: =Input!I41 -> 0 | F41: =(E41/1000000)*1120.55 -> 0 | G41: 0.41 | H41: =G41*F41 -> 0 | R41: Snake | S41: 17040204 | T41: 19124 | U41: 402 | V41: =U41/T41 -> 0.021020707 | W41: =Input!N71 -> 1441000 | X41: =W41*V41 -> 30290.839 | Y41: =Input!O71 -> 0.47 | Z41: =Y41*X41 -> 14236.694 | AA41: =(Z41/1000000)*1120.55 -> 15.952928 | AB41: 536 | AC41: =(LN(AB41/U41))/10 -> 0.028768207 | AD41: =AA41*EXP(AC41*10) -> 21.27057 | AE41: 17040203 | AF41: =AD40 -> 0 | AL41: Park | AM41: 10080013 | AN41: 28205 | AO41: 1552 | AP41: 0.055025705 | AQ41: =$AQ$33 -> 15.6877 | AR41: =$AR$33 -> 6.7 | AS41: =SUM(AQ41:AR41) -> 22.3877 | AT41: =AS41*AP41 -> 1.231899 | AU41: 151 | AV41: 0 | AW41: 0 | AX41: =$AX$33 -> 0 | AY41: =$AY$33 -> 10130.332 | AZ41: =SUM(AX41:AY41) -> 10130.332 | BA41: =AZ41*AW41 -> 0 | BB41: 4426838 | BC41: 414200 | BD41: 0.093565656 | BE41: =$BE$33 -> 0 | BF41: =BE41*BD41 -> 0 | BG41: =SUM(BF41,BA41,AT41) -> 1.231899
A42: Red Lane Domestic Water, Inc. | B42: Hot Springs | C42: 10080007 | D42: Surface Water | E42: =Input!I42 -> 8000 | F42: =(E42/1000000)*1120.55 -> 8.9644 | G42: 0.41 | H42: =G42*F42 -> 3.675404 | R42: Snake | S42: 17040103 | T42: 19124 | U42: 16927 | V42: =U42/T42 -> 0.88511818 | W42: =Input!N72 -> 1441000 | X42: =W42*V42 -> 1275455.3 | Y42: =Input!O72 -> 0.47 | Z42: =Y42*X42 -> 599463.99 | AA42: =(Z42/1000000)*1120.55 -> 671.72937 | AB42: 20171 | AC42: =(LN(AB42/U42))/10 -> 0.017533595 | AD42: =AA42*EXP(AC42*10) -> 800.46394 | AE42: 17040204 | AF42: =AD41 -> 21.27057 | AL42: Park | AM42: 10080014 | AN42: 28205 | AO42: 23951 | AP42: 0.84917568 | AQ42: =$AQ$33 -> 15.6877 | AR42: =$AR$33 -> 6.7 | AS42: =SUM(AQ42:AR42) -> 22.3877 | AT42: =AS42*AP42 -> 19.01109 | AU42: 151 | AV42: 101 | AW42: 0.66887417 | AX42: =$AX$33 -> 0 | AY42: =$AY$33 -> 10130.332 | AZ42: =SUM(AX42:AY42) -> 10130.332 | BA42: =AZ42*AW42 -> 6775.9176 | BB42: 4426838 | BC42: 498742 | BD42: 0.11266326 | BE42: =$BE$33 -> 0 | BF42: =BE42*BD42 -> 0 | BG42: =SUM(BF42,BA42,AT42) -> 6794.9287
A43: Thermopolis | B43: Hot Springs | C43: 10080007 | D43: Surface Water | E43: =Input!I43 -> 844932 | F43: =(E43/1000000)*1120.55 -> 946.78855 | G43: 0.41 | H43: =G43*F43 -> 388.18331 | R43: Domestic Powder Tongue River Basin (Scroll down for more basins) | AL43: Washakie | AM43: 10080007 | AN43: 8541 | AO43: 7809 | AP43: 0.91429575 | AQ43: =BF9 -> 3.36165 | AR43: =BI9 -> 43.55 | AS43: =SUM(AQ43:AR43) -> 46.91165 | AT43: =AS43*AP43 -> 42.891122 | AU43: 27 | AV43: 11 | AW43: 0.40740741 | AX43: =BG9 -> 32.27184 | AY43: =BH9 -> 350.62009 | AZ43: =SUM(AX43:AY43) -> 382.89193 | BA43: =AZ43*AW43 -> 155.99301 | BB43: 1387576 | BC43: 637912 | BD43: 0.45973121 | BE43: =BJ9 -> 11 | BF43: =BE43*BD43 -> 5.0570434 | BG43: =SUM(BF43,BA43,AT43) -> 203.94118
A44: Thermopolis, Town of | B44: Hot Springs | C44: 10080007 | D44: Groundwater | E44: =Input!I44 -> 46575 | F44: =(E44/1000000)*1120.55 -> 52.189616 | G44: 0.41 | H44: =G44*F44 -> 21.397743 | R44: Step a | U44: Step b | X44: Step c | AB44: Step d | AL44: Washakie | AM44: 10080008 | AN44: 8541 | AO44: 732 | AP44: 0.08570425 | AQ44: =$AQ$43 -> 3.36165 | AR44: =$AR$43 -> 43.55 | AS44: =SUM(AQ44:AR44) -> 46.91165 | AT44: =AS44*AP44 -> 4.0205278 | AU44: 27 | AV44: 16 | AW44: 0.59259259 | AX44: =$AX$43 -> 32.27184 | AY44: =$AY$43 -> 350.62009 | AZ44: =SUM(AX44:AY44) -> 382.89193 | BA44: =AZ44*AW44 -> 226.89892 | BB44: 1387576 | BC44: 749664 | BD44: 0.54026879 | BE44: =$BE$43 -> 11 | BF44: =BE44*BD44 -> 5.9429566 | BG44: =SUM(BF44,BA44,AT44) -> 236.86241
A45: Big Valley & Crossed Arrows Improvement District | B45: Park | C45: 10080009 | D45: Groundwater | E45: =Input!I45 -> 1500 | F45: =(E45/1000000)*1120.55 -> 1.680825 | G45: 0.41 | H45: =G45*F45 -> 0.68913825 | R45: County | S45: HUC 8 | T45: 2000 Domestic Pop | U45: Domestic Gallons per capita per day (Average 150 & 300 gpcpd) | V45: 2000 Average Water Use/CU gpd | W45: 2000 Average Water Use/CU Afy | X45: 2000 Total Pop by County and HUC 8 | Y45: 2010 Total Pop by County and HUC 8 | Z45: Growth Rate | AA45: 2010 Average CU AFY | AB45: HUC 8 | AC45: Average Use AFY | AL45: Industrial Snake/Salt River Basin (Scroll down for more basins)
A46: Meeteetse, Town of | B46: Park | C46: 10080009 | D46: Surface Water | E46: =Input!I46 -> 54795 | F46: =(E46/1000000)*1120.55 -> 61.400537 | G46: 0.41 | H46: =G46*F46 -> 25.17422 | R46: Sheridan | S46: 10080016 | T46: 100 | U46: =Input!L119 -> 225 | V46: =U46*T46 -> 22500 | W46: =(V46/1000000)*1120.55 -> 25.212375 | X46: 122 | Y46: 97 | Z46: =(LN(Y46/X46))/10 -> -0.022931007 | AA46: =W46*EXP(Z46*10) -> 20.045905 | AB46: 10080016 | AC46: =AA46 -> 20.045905 | AL46: Step a | AQ46: Step b
A47: Cody, City of | B47: Park | C47: 10080014 | D47: Surface Water | E47: =Input!I47 -> 1440000 | F47: =(E47/1000000)*1120.55 -> 1613.592 | G47: 0.41 | H47: =G47*F47 -> 661.57272 | R47: Sheridan | S47: 10090101 | T47: 4891 | U47: =Input!L120 -> 225 | V47: =U47*T47 -> 1100475 | W47: =(V47/1000000)*1120.55 -> 1233.1373 | X47: 25170 | Y47: 27715 | Z47: =(LN(Y47/X47))/10 -> 0.0096320974 | AA47: =W47*EXP(Z47*10) -> 1357.8228 | AB47: 10090101 | AC47: =AA47 -> 1357.8228 | AL47: Entity | AM47: Location | AN47: County | AO47: HUC 8 | AP47: Estimated Use AFY | AQ47: HUC 8 | AR47: Industrial CU AFY
A48: Cooper Sub Mobile Home Park | B48: Park | C48: 10080014 | D48: Groundwater | E48: =Input!I48 -> 0 | F48: =(E48/1000000)*1120.55 -> 0 | G48: 0.41 | H48: =G48*F48 -> 0 | R48: Sheridan | S48: 10090207 | T48: 1 | U48: =Input!L121 -> 225 | V48: =U48*T48 -> 225 | W48: =(V48/1000000)*1120.55 -> 0.25212375 | X48: 1 | Y48: 5 | Z48: =(LN(Y48/X48))/10 -> 0.16094379 | AA48: =W48*EXP(Z48*10) -> 1.2606187 | AB48: 10090201 | AC48: =AA54 -> 62.168702 | AL48: Star Valley Cheese Corporation | AM48: Thayne | AN48: Lincoln | AO48: 17040105 | AP48: =Input!Q65 -> 16 | AQ48: 17040101 | AR48: 0
A49: Green Acres Village | B49: Park | C49: 10080014 | D49: Surface Water | E49: =Input!I49 -> 0 | F49: =(E49/1000000)*1120.55 -> 0 | G49: 0.41 | H49: =G49*F49 -> 0 | R49: Sheridan | S49: 10090206 | T49: 1057 | U49: =Input!L122 -> 225 | V49: =U49*T49 -> 237825 | W49: =(V49/1000000)*1120.55 -> 266.4948 | X49: 1182 | Y49: 1202 | Z49: =(LN(Y49/X49))/10 -> 0.0016778917 | AA49: =W49*EXP(Z49*10) -> 271.00402 | AB49: 10090202 | AC49: =SUM(AA50,AA53,AA57) -> 413.75134 | AL49: Northern Foods | AM49: Afton | AN49: Lincoln | AO49: 17040105 | AP49: =Input!Q66 -> 24 | AQ49: 17040102 | AR49: 0
A50: Juby's MHP | B50: Park | C50: 10080014 | D50: Surface Water | E50: =Input!I50 -> 0 | F50: =(E50/1000000)*1120.55 -> 0 | G50: 0.41 | H50: =G50*F50 -> 0 | R50: Sheridan | S50: 10090202 | T50: 85 | U50: =Input!L123 -> 225 | V50: =U50*T50 -> 19125 | W50: =(V50/1000000)*1120.55 -> 21.430519 | X50: 85 | Y50: 97 | Z50: =(LN(Y50/X50))/10 -> 0.013205972 | AA50: =W50*EXP(Z50*10) -> 24.456004 | AB50: 10090203 | AC50: =SUM(AA55,AA60) -> 7.204302 | AL50: Water Star Bottling Company | AM50: Afton | AN50: Lincoln | AO50: 17040105 | AP50: =Input!Q67 -> 8.289 | AQ50: 17040103 | AR50: 0
A51: North End Water Users | B51: Park | C51: 10080014 | D51: Groundwater | E51: =Input!I51 -> 162000 | F51: =(E51/1000000)*1120.55 -> 181.5291 | G51: 0.41 | H51: =G51*F51 -> 74.426931 | R51: Johnson | S51: 10090206 | T51: 1995 | U51: =Input!L124 -> 225 | V51: =U51*T51 -> 448875 | W51: =(V51/1000000)*1120.55 -> 502.98688 | X51: 5895 | Y51: 7193 | Z51: =(LN(Y51/X51))/10 -> 0.01990038 | AA51: =W51*EXP(Z51*10) -> 613.73785 | AB51: 10090204 | AC51: =AA56 -> 4.70631 | AL51: Smoky Canyon Mine | AM51: 10 miles west of Afton | AN51: Caribou, ID | AO51: 17040105 | AP51: =Input!Q68 -> 871.266 | AQ51: 17040104 | AR51: 0
A52: Northwest Rural Water District | B52: Park | C52: 10080014 | D52: Surface Water | E52: =Input!I52 -> 421918 | F52: =(E52/1000000)*1120.55 -> 472.78021 | G52: 0.41 | H52: =G52*F52 -> 193.83989 | R52: Johnson | S52: 10090205 | T52: 375 | U52: =Input!L125 -> 225 | V52: =U52*T52 -> 84375 | W52: =(V52/1000000)*1120.55 -> 94.546406 | X52: 375 | Y52: 545 | Z52: =(LN(Y52/X52))/10 -> 0.037385977 | AA52: =W52*EXP(Z52*10) -> 137.40744 | AB52: 10090205 | AC52: =AA52 -> 137.40744 | AQ52: 17040105 | AR52: =SUM(AP48:AP51) -> 919.555
A53: Powell, City of | B53: Park | C53: 10080014 | D53: Surface Water | E53: =Input!I53 -> 849036 | F53: =(E53/1000000)*1120.55 -> 951.38729 | G53: 0.41 | H53: =G53*F53 -> 390.06879 | R53: Johnson | S53: 10090202 | T53: 209 | U53: =Input!L126 -> 225 | V53: =U53*T53 -> 47025 | W53: =(V53/1000000)*1120.55 -> 52.693864 | X53: 209 | Y53: 233 | Z53: =(LN(Y53/X53))/10 -> 0.01087042 | AA53: =W53*EXP(Z53*10) -> 58.744834 | AB53: 10090206 | AC53: =SUM(AA49,AA51) -> 884.74187 | AQ53: 17040202 | AR53: 0
A54: Rivers Bend Trailer Court | B54: Park | C54: 10080014 | D54: Surface Water | E54: =Input!I54 -> 0 | F54: =(E54/1000000)*1120.55 -> 0 | G54: 0.41 | H54: =G54*F54 -> 0 | R54: Johnson | S54: 10090201 | T54: 243 | U54: =Input!L127 -> 225 | V54: =U54*T54 -> 54675 | W54: =(V54/1000000)*1120.55 -> 61.266071 | X54: 543 | Y54: 551 | Z54: =(LN(Y54/X54))/10 -> 0.0014625489 | AA54: =W54*EXP(Z54*10) -> 62.168702 | AB54: 10090207 | AC54: =SUM(AA48,AA58) -> 40.591924 | AQ54: 17040203 | AR54: 0
A55: Shoshone Municipal Pipeline | B55: Park | C55: 10080014 | D55: Surface Water | E55: =Input!I55 -> 3172 | F55: =(E55/1000000)*1120.55 -> 3.5543846 | G55: 0.41 | H55: =G55*F55 -> 1.4572977 | R55: Johnson | S55: 10090203 | T55: 5 | U55: =Input!L128 -> 225 | V55: =U55*T55 -> 1125 | W55: =(V55/1000000)*1120.55 -> 1.2606187 | X55: 5 | Y55: 12 | Z55: =(LN(Y55/X55))/10 -> 0.087546874 | AA55: =W55*EXP(Z55*10) -> 3.025485 | AB55: 10090208 | AC55: =AA59 -> 380.88092 | AQ55: 17040204 | AR55: 0
A56: Yellowstone NP Mammoth Hot Spring | B56: Teton | C56: 10020007 | D56: Surface Water | E56: =Input!I56 -> 0 | F56: =(E56/1000000)*1120.55 -> 0 | G56: 0.41 | H56: =G56*F56 -> 0 | R56: Johnson | S56: 10090204 | T56: 28 | U56: =Input!L129 -> 225 | V56: =U56*T56 -> 6300 | W56: =(V56/1000000)*1120.55 -> 7.059465 | X56: 48 | Y56: 32 | Z56: =(LN(Y56/X56))/10 -> -0.040546511 | AA56: =W56*EXP(Z56*10) -> 4.70631 | AL56: Industrial Powder Tongue River Basin (Scroll down for more basins)
A57: Yellowstone NP Old Faithful | B57: Teton | C57: 10020007 | D57: Surface Water | E57: =Input!I57 -> 0 | F57: =(E57/1000000)*1120.55 -> 0 | G57: 0.41 | H57: =G57*F57 -> 0 | R57: Campbell | S57: 10090202 | T57: 838 | U57: =Input!L130 -> 225 | V57: =U57*T57 -> 188550 | W57: =(V57/1000000)*1120.55 -> 211.2797 | X57: 868 | Y57: 1358 | Z57: =(LN(Y57/X57))/10 -> 0.044757659 | AA57: =W57*EXP(Z57*10) -> 330.5505 | AL57: Step a | AP57: Step b | AR57: Step c
A58: South Worland Water Users, Inc. | B58: Washakie | C58: 10080007 | D58: Groundwater | E58: =Input!I58 -> 0 | F58: =(E58/1000000)*1120.55 -> 0 | G58: 0.41 | H58: =G58*F58 -> 0 | R58: Campbell | S58: 10090207 | T58: 130 | U58: =Input!L131 -> 225 | V58: =U58*T58 -> 29250 | W58: =(V58/1000000)*1120.55 -> 32.776088 | X58: 130 | Y58: 156 | Z58: =(LN(Y58/X58))/10 -> 0.018232156 | AA58: =W58*EXP(Z58*10) -> 39.331305 | AL58: Reservoir | AM58: Water Right Holder | AN58: HUC 8 | AO58: Wdwl AFY | AP58: Ratio of Wdwl to CU from 1995 USGS | AQ58: CU AFY | AR58: HUC 8 | AS58: Industrial CU AFY
A59: Washakie Rural Water System | B59: Washakie | C59: 10080007 | D59: Groundwater | E59: =Input!I59 -> 80000 | F59: =(E59/1000000)*1120.55 -> 89.644 | G59: 0.41 | H59: =G59*F59 -> 36.75404 | R59: Campbell | S59: 10090208 | T59: 771 | U59: =Input!L132 -> 225 | V59: =U59*T59 -> 173475 | W59: =(V59/1000000)*1120.55 -> 194.38741 | X59: 2758 | Y59: 5404 | Z59: =(LN(Y59/X59))/10 -> 0.067263364 | AA59: =W59*EXP(Z59*10) -> 380.88092 | AL59: Healy Reservoir | AM59: Texaco, Inc. | AN59: 10090206 | AO59: =Input!N119 -> 41974 | AP59: 0 | AQ59: =AP59*AO59 -> 0 | AR59: 10080016 | AS59: =AQ61 -> 0
A60: Worland Utilities Commission | B60: Washakie | C60: 10080007 | D60: Groundwater | E60: =Input!I60 -> 1500000 | F60: =(E60/1000000)*1120.55 -> 1680.825 | G60: 0.41 | H60: =G60*F60 -> 689.13825 | R60: Natrona | S60: 10090203 | T60: 19 | U60: =Input!L133 -> 225 | V60: =U60*T60 -> 4275 | W60: =(V60/1000000)*1120.55 -> 4.7903512 | X60: 94 | Y60: 82 | Z60: =(LN(Y60/X60))/10 -> -0.013657554 | AA60: =W60*EXP(Z60*10) -> 4.178817 | AL60: Lake DeSmet Reservoir | AM60: Texaco, Inc. | AN60: 10090206 | AO60: =Input!N120 -> 38960 | AP60: 0 | AQ60: =AP60*AO60 -> 0 | AR60: 10090101 | AS60: =SUM(AQ67,AQ68) -> 340.66735
A61: Ten Sleep | B61: Washakie | C61: 10080008 | D61: Groundwater | E61: =Input!I61 -> 12800 | F61: =(E61/1000000)*1120.55 -> 14.34304 | G61: 0.41 | H61: =G61*F61 -> 5.8806464 | R61: Domestic Platte River Basin (Scroll down for more basins) | AL61: Reynolds High Dam | AM61: Texaco, Inc. | AN61: 10080016 | AO61: =Input!N121 -> 37340 | AP61: 0 | AQ61: =AP61*AO61 -> 0 | AR61: 10090201 | AS61: 0
A62: Municipal Snake Salt River Basin (Scroll down for more basins) | R62: Step a | Z62: Step b | AD62: Step c | AG62: Step d | AH62: Step e | AL62: Lake DeSmet Reservoir | AM62: Reynolds Mining Corporation | AN62: 10090206 | AO62: =Input!N122 -> 30129 | AP62: 0 | AQ62: =AP62*AO62 -> 0 | AR62: 10090202 | AS62: 0
A63: Step a | E63: Step b | I63: Step c | K63: Step d | N63: Step e | O63: Step f | R63: Subbasin | S63: County | T63: Number of Wells by County and Subbasin from Memorandum | U63: Estimated Avg Water Use gpd | V63: HUC | W63: # of wells by County & Subbasin from ArcMap | X63: # of Wells by County, subbasin, HUC 8 from Arc | Y63: Ratio of HUC 8/County wells from Arc | Z63: Estimated Avg Water Use gpd by HUC 8/County/Subbasin | AA63: Estimated Avg Water Use AFY by HUC 8/County/Subbasin | AB63: CU % | AC63: 2000 CU AFY | AD63: 2000 Population | AE63: 2010 Population | AF63: Growth Rate | AG63: 2010 CU AFY | AH63: HUC 8 | AI63: 2010 CU AFY | AL63: Lake DeSmet Reservoir | AM63: Texaco, Inc. | AN63: 10090206 | AO63: =Input!N123 -> 17738 | AP63: 0 | AQ63: =AP63*AO63 -> 0 | AR63: 10090203 | AS63: 0
