Workbook

Sheet Input
A1: Streamflow | H1: Current (2010) Consumptive Use M&I | Z1: Consumptive Use (2010) Agriculture | AE1: Consumptive Use (2030) M&I | AJ1: Consumptive Use (2030) Agriculture | AM1: Available Water
H2: Wind Bighorn Basin (Scroll down for more basins) | Z2: Wind Bighorn Basin (Scroll down for more basins) | AE2: Wind Bighorn Basin (Scroll down for more basins) | AJ2: Wind Bighorn River Basin (Scroll down for more basins) | AM2: Wind Bighorn River Basin (Scroll down for more basins)
H3: Municipal | K3: Domestic | O3: Industrial | Z3: Agriculture | AE3: Municipal and Domestic | AG3: Industrial | AJ3: Agriculture | AM3: Subbasin | AN3: HUC 8 | AO3: Reach # | AP3: Reach Name | AQ3: Available Flow
A4: HUC 8 | B4: Station # | C4: P1 CFS | D4: P5 CFS | E4: P10 CFS | F4: P20 CFS | G4: Avg CFS | H4: Water System/ Location | I4: Withdrawal gpd (by location) | J4: CU % | K4: HUC 8 | L4: Estimated Domestic Pop by County | M4: Domestic Gallons per capita per day (Average 150 & 300 gpcpd) | N4: Consumptive Use % | O4: County | P4: Industrial GW Wdwls mgd (Fresh) | Q4: Mining GW Wdwls mgd (Fresh) | R4: Mining GW Wdwls mgd (Saline) | S4: Industrial SW Wdwls mgd (Fresh) | T4: Mining SW Wdwls mgd (Fresh) | U4: Industrial CU % Total GW Use (Fresh) | V4: Mining CU% Total GW Use (Fresh) | W4: Mining CU % Total GW Use (Saline) | X4: Industrial SW Consumptive Use | Y4: Mining SW Consumptive Use | Z4: HUC 8 | AA4: Basin Annual CIR AFY | AB4: Basin Stock Water Use from Report AFY | AE4: 2020 CU AFY by Basin | AF4: 2020 New Requirements AFY by Basin | AG4: Year | AH4: Mining CU | AI4: Industry CU | AJ4: 2020 Full Supply Diversions AFY (Medium Scenario) | AK4: 2040 Full Supply Diversions AFY (Medium Scenario) | AQ4: Dry | AR4: Average | AS4: Wet
A5: 10020007 | B5: 6037100 | C5: 79 | D5: 81 | E5: 84 | F5: 87 | G5: 121.407 | H5: Basin | I5: 178082 | J5: 0.41 | K5: 10080007 | L5: 598 | M5: 225 | N5: 0.41 | O5: Big Horn | P5: 0 | Q5: 0.43 | R5: 17.35 | S5: 0.03 | T5: 0.15 | U5: 0.15 | V5: 0.33 | W5: 0.2 | X5: 67 | Y5: 66 | Z5: 10020007 | AA5: 1178607 | AB5: 6370 | AE5: 7170 | AF5: 500 | AG5: 2020 | AH5: 26500 | AI5: 150 | AJ5: 3155900 | AK5: 3156000 | AM5: Yellowstone | AN5: 10020007 | AO5: 600 | AP5: Madison River | AQ5: 327292 | AR5: 362240 | AS5: 428664
A6: 10020008 | H6: Manderson | I6: 0 | J6: 0.41 | K6: 10080008 | L6: 598 | M6: 225 | N6: 0.41 | O6: Fremont | P6: 0.11 | Q6: 0 | R6: 6.29 | S6: 0.07 | T6: 0 | U6: 0.16 | V6: 0.32 | W6: 0.21 | X6: 67 | Y6: 66 | Z6: 10020008 | AA6: 1178607 | AB6: 6370 | AG6: 2040 | AH6: 45500 | AI6: 290 | AJ6: Snake Salt River Basin (Scroll down for more basins) | AN6: 10020008 | AO6: 800 | AP6: Gallatin River | AQ6: 484920 | AR6: 606325 | AS6: 697306
A7: 10070001 | B7: 6188000 | C7: 70 | D7: 85 | E7: 90 | F7: 110 | G7: 879.089 | H7: South Big Horn Co. JPB | I7: 213699 | J7: 0.41 | K7: 10080009 | L7: 598 | M7: 225 | N7: 0.41 | O7: Hot Springs | P7: 0 | Q7: 0 | R7: 12.67 | S7: 0 | T7: 0 | U7: 0.21 | V7: 0.33 | W7: 0.21 | X7: 67 | Y7: 66 | Z7: 10070001 | AA7: 1178607 | AB7: 6370 | AE7: Snake Salt River Basin (Scroll down for more basins) | AJ7: Agriculture | AN7: 10070001 | AO7: 500 | AP7: Yellowstone River below Lamar River Confluence | AQ7: 1610549 | AR7: 2064723 | AS7: 2524621
A8: 10070002 | H8: Hyatville WC | I8: 2740 | J8: 0.41 | K8: 10080010 | L8: 598 | M8: 225 | N8: 0.41 | O8: Park | P8: 0.07 | Q8: 0 | R8: 43.05 | S8: 0.04 | T8: 0 | U8: 0.2 | V8: 0.3 | W8: 0.21 | X8: 67 | Y8: 66 | Z8: 10070002 | AA8: 1178607 | AB8: 6370 | AE8: Municipal and Domestic | AG8: Industrial | AJ8: 2032 Agricultural CU AFY by Basin | AN8: 10070002 | AP8: No reaches are found within this HUC | AQ8: 0 | AR8: 0 | AS8: 0
A9: 10070006 | B9: 6207000 | C9: 140 | D9: 150 | E9: 160 | F9: 170 | G9: 895.282 | H9: Burlington | I9: 328767 | J9: 0.41 | K9: 10080011 | L9: 598 | M9: 225 | N9: 0.41 | O9: Washakie | P9: 0.02 | Q9: 0.09 | R9: 1.49 | S9: 0.26 | T9: 0.03 | U9: 0.15 | V9: 0.32 | W9: 0.21 | X9: 67 | Y9: 66 | Z9: 10070006 | AA9: 1178607 | AB9: 6370 | AE9: County | AF9: 2032 CU AFY Mid by County (Normal Year) | AG9: Entity | AH9: Estimated 2030 Use AFY | AJ9: 107446 | AM9: Clarks Fork | AN9: 10070006 | AO9: 300 | AP9: Clarks Fork River below Bennett Creek Confluence | AQ9: 338022 | AR9: 420270 | AS9: 498294
A10: 10080001 | B10: 6236100 | C10: 152.68 | D10: 242 | E10: 310 | F10: 400 | G10: 1096.788 | H10: Airport Bench Water & Sewer District | I10: 10406 | J10: 0.41 | K10: 10080014 | L10: 598 | M10: 225 | N10: 0.41 | Z10: 10080001 | AA10: 1178607 | AB10: 6370 | AE10: Lincoln | AF10: 4387 | AG10: Star Valley Cheese Corporation | AH10: 16 | AJ10: Powder Tongue River Basin (Scroll down for more basins) | AM10: Wind | AN10: 10080001 | AO10: 400 | AP10: Wind River from Bull Lake Creek to Little Wind | AQ10: 0 | AR10: 0 | AS10: 0
A11: 10080002 | B11: 6235500 | C11: 58 | D11: 114 | E11: 140 | F11: 172 | G11: 565.278 | H11: Greybull | I11: 1000000 | J11: 0.41 | K11: 10080001 | L11: 17504 | M11: 225 | N11: 0.41 | Z11: 10080002 | AA11: 1178607 | AB11: 6370 | AE11: Teton | AF11: 7156 | AG11: Northern Foods | AH11: 24 | AJ11: Agriculture | AN11: 10080002 | AO11: 500 | AP11: Little Wind River | AQ11: 0 | AR11: 0 | AS11: 0
A12: 10080003 | B12: 6233900 | C12: 43 | D12: 76 | E12: 90 | F12: 106 | G12: 333.212 | H12: Shell Valley, West Water & Sewer | I12: 0 | J12: 0.41 | K12: 10080002 | L12: 17504 | M12: 225 | N12: 0.41 | Z12: 10080003 | AA12: 1178607 | AB12: 6370 | AG12: Water Star Bottling Company | AH12: 8 | AJ12: 2030 Irrigation CU AFY by Basin | AN12: 10080003 | AO12: 580 | AP12: Popo Agie River | AQ12: 126384 | AR12: 229330 | AS12: 326104
A13: 10080004 | B13: 6239000 | C13: 0 | D13: 0 | E13: 0 | F13: 0 | G13: 3.546 | H13: Shell Water Users, Inc. | I13: 0 | J13: 0.41 | K13: 10080003 | L13: 17504 | M13: 225 | N13: 0.41 | Z13: 10080004 | AA13: 1178607 | AB13: 6370 | AG13: Smoky Canyon Mine | AH13: 871.266 | AJ13: 194400 | AN13: 10080004 | AO13: 640 | AP13: Muskrat Creek | AQ13: 17278 | AR13: 15684 | AS13: 15763
A14: 10080005 | B14: 6259000 | C14: 295 | D14: 358.1 | E14: 596 | F14: 840 | G14: 1398.102 | H14: Byron, Town of | I14: 60000 | J14: 0.41 | K14: 10080004 | L14: 17504 | M14: 225 | N14: 0.41 | Z14: 10080005 | AA14: 1178607 | AB14: 6370 | AE14: Powder Tongue River Basin (Scroll down for more basins) | AJ14: Platte River Basin (Scroll down for more basins) | AN14: 10080005 | AO14: 600 | AP14: Wind River from Little Wind Confluence to Boysen Reservoir | AQ14: 368451 | AR14: 723990 | AS14: 984337
A15: 10080006 | B15: 6257000 | C15: 0 | D15: 0 | E15: 0 | F15: 0 | G15: 23.171 | H15: Cowley | I15: 0 | J15: 0.41 | K15: 10080005 | L15: 17504 | M15: 225 | N15: 0.41 | Z15: 10080006 | AA15: 1178607 | AB15: 6370 | AE15: Municipal and Domestic | AJ15: Agriculture | AN15: 10080006 | AO15: 800 | AP15: Badwater Creek | AQ15: 0 | AR15: 0 | AS15: 0
A16: 10080007 | B16: 6274300 | C16: 383 | D16: 518 | E16: 589 | F16: 720 | G16: 1626.453 | H16: Deaver Municipal Water System | I16: 32529 | J16: 0.41 | K16: 10080006 | L16: 17504 | M16: 225 | N16: 0.41 | Z16: 10080007 | AA16: 1178607 | AB16: 6370 | AE16: 2030 Population Mid Scenario Domestic Total | AF16: Domestic Gallons per capita per day (Average 150 & 300 gpcpd) | AG16: Municipality | AH16: 2030 Use gpd Mid Scenario | AJ16: Subbasin | AK16: Future (2035) Livestock CU AFY | AM16: Bighorn | AN16: 10080007 | AO16: 900 | AP16: Bighorn River from Nowood River to USGS gage | AQ16: 802761 | AR16: 1172511 | AS16: 1700980
A17: 10080008 | B17: 6274000 | C17: 37.3 | D17: 92.5 | E17: 140 | F17: 170 | G17: 494.523 | H17: Frannie, Town of | I17: 30137 | J17: 0.41 | K17: 10080005 | L17: 333 | M17: 225 | N17: 0.41 | Z17: 10080008 | AA17: 1178607 | AB17: 6370 | AE17: 18088 | AF17: 225 | AG17: Clearmont | AH17: 30609 | AJ17: Above Pathfinder | AK17: 1200 | AN17: 10080008 | AO17: 800 | AP17: Nowood River from Paint Rock Creek to Bighorn River | AQ17: 248963 | AR17: 316886 | AS17: 374819
A18: 10080009 | B18: 6277500 | C18: 0.7 | D18: 5.1 | E18: 10 | F18: 27 | G18: 180.406 | H18: Lovell, Town of | I18: 222000 | J18: 0.41 | K18: 10080007 | L18: 333 | M18: 225 | N18: 0.41 | Z18: 10080009 | AA18: 1178607 | AB18: 6370 | AG18: Kaycee | AH18: 69831 | AJ18: Pathfinder to Guernsey | AK18: 1800 | AN18: 10080009 | AO18: 1400 | AP18: Greybull River below Roach Gulch | AQ18: 0 | AR18: 0 | AS18: 0
A19: 10080010 | B19: 6279500 | C19: 390.51 | D19: 620 | E19: 743.1 | F19: 960 | G19: 2184.59 | H19: B&K Mobile Home Park | I19: 0 | J19: 0.41 | K19: 10080008 | L19: 18 | M19: 225 | N19: 0.41 | Z19: 10080010 | AA19: 1178607 | AB19: 6370 | AG19: Ranchester | AH19: 239906 | AJ19: Upper Laramie | AK19: 600 | AN19: 10080010 | AO19: 1700 | AP19: Bighorn River at Yellowtail | AQ19: 902512 | AR19: 1331142 | AS19: 1886436
A20: 10080011 | B20: 6278000 | C20: 0 | D20: 2 | E20: 4 | F20: 6 | G20: 26.074 | H20: Cozy Mobile Home Park | I20: 0 | J20: 0.41 | K20: 10080005 | L20: 78 | M20: 225 | N20: 0.41 | Z20: 10080011 | AA20: 1178607 | AB20: 6370 | AG20: Dayton | AH20: 203175 | AJ20: Northeast River Basins (Scroll down fore more basins) | AN20: 10080011 | AO20: 1550 | AP20: Dry Creek | AQ20: 21686 | AR20: 20867 | AS20: 18355
A21: 10080012 | B21: 6280000 | C21: 90 | D21: 129.3 | E21: 144 | F21: 165 | G21: 864.141 | H21: Dubois Water System | I21: 211992 | J21: 0.41 | K21: 10080006 | L21: 78 | M21: 225 | N21: 0.41 | Z21: 10080012 | AA21: 1178607 | AB21: 6370 | AG21: Buffalo | AH21: 1652855 | AJ21: Agriculture | AN21: 10080012 | AO21: 2100 | AP21: North Fork Shoshone River below Wapiti | AQ21: 324952 | AR21: 476366 | AS21: 571620
A22: 10080013 | B22: 6281000 | C22: 0.29 | D22: 5 | E22: 22 | F22: 77 | G22: 387.144 | H22: First Fike Subdivision | I22: 0 | J22: 0.41 | K22: 10070001 | L22: 6122 | M22: 225 | N22: 0.41 | Z22: 10080013 | AA22: 1178607 | AB22: 6370 | AG22: Sheridan | AH22: 6178068 | AJ22: 2030 SW CU AFY by Basin | AN22: 10080013 | AO22: 1900 | AP22: South Fork Shoshone River below Bob Cat Creek | AQ22: 179299 | AR22: 292339 | AS22: 406277
A23: 10080014 | B23: 6286200 | C23: 226 | D23: 342 | E23: 450 | F23: 610 | G23: 1139.099 | H23: Gardens North Homeowners Association | I23: 35068 | J23: 0.41 | K23: 10070006 | L23: 6122 | M23: 225 | N23: 0.41 | Z23: 10080014 | AA23: 1178607 | AB23: 6370 | AE23: Platte River Basin (Scroll down for more basins) | AJ23: 72800 | AN23: 10080014 | AO23: 2500 | AP23: Shoshone River below Bitter Creek | AQ23: 569919 | AR23: 855715 | AS23: 1023558
A24: 10080016 | B24: 6289600 | C24: 3.8 | D24: 4.6 | E24: 5.2 | F24: 6 | G24: 11.724 | H24: Mountain View Acres | I24: 0 | J24: 0.41 | K24: 10080007 | L24: 6122 | M24: 225 | N24: 0.41 | Z24: Snake Salt River Basin (Scroll down for more basins) | AE24: Municpal and Domestic | AG24: Industrial | AJ24: Green River Basin (Scroll down for more basins) | AM24: Snake Salt River Basin (Scroll down for more basins)
A25: 10090101 | B25: 6306000 | C25: 23 | D25: 63 | E25: 90 | F25: 120 | G25: 402.639 | H25: Redd Fox Park HOA | I25: 0 | J25: 0.41 | K25: 10080009 | L25: 6122 | M25: 225 | N25: 0.41 | Z25: Agriculture | AE25: Subbasin | AF25: 2030 CU AFY by Basin | AG25: Subbasin | AH25: 2030 CU AFY by Subbasin | AJ25: Agriculture | AM25: Subbasin | AN25: HUC 8 | AO25: Reach # | AP25: Reach Name | AQ25: Available Flow
A26: 10090201 | B26: 6310500 | C26: 10 | D26: 32 | E26: 36 | F26: 50 | G26: 141.207 | H26: Riverton, City of | I26: 951621 | J26: 0.41 | K26: 10080011 | L26: 6122 | M26: 225 | N26: 0.41 | Z26: Subbasin | AA26: Depletions AFY | AE26: Above Pathfinder | AF26: 2800 | AG26: Above Pathfinder | AH26: 18800 | AJ26: 2035 Irrigation CU AFY by Basin (Moderate Growth Scenario) | AK26: 2035 Livestock CU AFY by Basin | AQ26: Dry | AR26: Average | AS26: Wet
A27: 10090202 | B27: 6317000 | C27: 0 | D27: 0.1 | E27: 15 | F27: 48 | G27: 269.822 | H27: Riverton, Town of | I27: 880991 | J27: 0.41 | K27: 10080012 | L27: 6122 | M27: 225 | N27: 0.41 | Z27: Upper Salt | AA27: 30987 | AE27: Guernsey to State Line | AF27: 1800 | AG27: Guernsey to State Line | AH27: 2100 | AJ27: 400218 | AK27: 1930 | AM27: Snake | AN27: 17040101 | AO27: 11 | AP27: Snake River below Ditch Creek | AQ27: 1006976 | AR27: 1749710 | AS27: 2582509
A28: 10090203 | B28: 6313000 | C28: 0 | D28: 0.7 | E28: 2.2 | F28: 5 | G28: 37.389 | H28: Second Fike Subdivision | I28: 0 | J28: 0.41 | K28: 10080013 | L28: 6122 | M28: 225 | N28: 0.41 | Z28: Lower Salt | AA28: 29785 | AE28: Horse Creek | AF28: 367 | AG28: Horse Creek | AH28: 7500 | AJ28: Bear River Basin | AN28: 17040102 | AO28: 12 | AP28: Gros Ventre River | AQ28: 223059 | AR28: 337525 | AS28: 465532
A29: 10090204 | B29: 6313400 | C29: 7.428 | D29: 12 | E29: 15 | F29: 22 | G29: 45.259 | H29: Spencer Homesites | I29: 0 | J29: 0.41 | K29: 10080014 | L29: 6122 | M29: 225 | N29: 0.41 | Z29: Upper Snake | AA29: 8029 | AE29: Lower Laramie | AF29: 500 | AG29: Lower Laramie | AH29: 1000 | AJ29: Agriculture | AN29: 17040103 | AO29: 30 | AP29: Snake River below Hoback River | AQ29: 1768960 | AR29: 2887630 | AS29: 4158807
A30: 10090205 | B30: 6316500 | C30: 0 | D30: 0 | E30: 0 | F30: 0.4 | G30: 39.998 | H30: Warm Springs Water District | I30: 11500 | J30: 0.41 | K30: 10080007 | L30: 467 | M30: 225 | N30: 0.41 | Z30: Lower Snake | AA30: 29577 | AE30: Pathfinder to Guernsey | AF30: 13000 | AG30: Pathfinder to Guernsey | AH30: 38900 | AJ30: 2030 Irrigation Cu by Basin | AK30: 2030 Livestock CU by Basin | AN30: 17040104 | AP30: No reaches are found within this HUC | AQ30: 0 | AR30: 0 | AS30: 0
A31: 10090206 | B31: 6324000 | C31: 0.8 | D31: 7.4 | E31: 20 | F31: 44 | G31: 184.188 | H31: Monroe Ave Mobile Home Park | I31: 0 | J31: 0.41 | K31: 10080008 | L31: 467 | M31: 225 | N31: 0.41 | Z31: Teton | AA31: 4036 | AE31: South Platte | AF31: 13200 | AG31: South Platte | AH31: 8000 | AJ31: 93877 | AK31: 543 | AM31: Salt | AN31: 17040105 | AO31: 25 | AP31: Salt River below Birch Creek Confluence | AQ31: 216249 | AR31: 458153 | AS31: 694494
A32: 10090207 | B32: 6324500 | C32: 3.418 | D32: 19 | E32: 45 | F32: 90 | G32: 3740 | H32: North Riverton Water & Sewer | I32: 0 | J32: 0.41 | Z32: Powder Tongue River Basin (Scroll down for more basins) | AE32: Upper Laramie | AF32: 6300 | AG32: Upper Laramie | AH32: 3000 | AN32: 17040202 | AP32: No reaches are found within this HUC | AQ32: 0 | AR32: 0 | AS32: 0
A33: 10090208 | B33: 6324970 | C33: 0 | D33: 0.01 | E33: 0.02 | F33: 0.31 | G33: 20.112 | H33: Sunnyside Mobile Home Park | I33: 0 | J33: 0.41 | Z33: Agriculture | AE33: Northeast River Basins (Scroll down for more basins) | AN33: 17040203 | AP33: No reaches are found within this HUC | AQ33: 0 | AR33: 0 | AS33: 0
A34: 10110201 | H34: Hudson, Town of | I34: 125000 | J34: 0.41 | Z34: Source of Supply/Climatic Area | AA34: Total Depletions AFY Normal Year by Climatic Area | AE34: Municipal and Domestic | AN34: 17040204 | AP34: No reaches are found within this HUC | AQ34: 0 | AR34: 0 | AS34: 0
A35: 10120101 | B35: 6364700 | C35: 0 | D35: 0.01 | E35: 0.05 | F35: 0.16 | G35: 9.748 | H35: Juniper Park Water Association | I35: 0 | J35: 0.41 | Z35: Little Bighorn Basin | AA35: 2064 | AE35: 2030 Population Mid Scenario Domestic Total | AF35: Domestic Gallons per capita per day (Average 150 & 300 gpcpd) | AG35: Municipality/ Sector | AH35: 2030 Use gpd Mid Scenario | AM35: Powder Tongue River Basin (Scroll down for more basins)
A36: 10120102 | B36: 6365300 | C36: 0 | D36: 0 | E36: 0 | F36: 0 | G36: 0.834 | H36: Lander, City of | I36: 2000000 | J36: 0.41 | Z36: Tongue River Basin | AA36: 71369 | AE36: 20205 | AF36: 225 | AG36: Hulett | AH36: 55305 | AM36: Subbasin | AN36: HUC 8 | AO36: Reach # | AP36: Reach Name | AQ36: Available Flow
A37: 10120103 | B37: 6375600 | C37: 0 | D37: 0 | E37: 0 | F37: 0 | G37: 1.969 | H37: Raintree Estates | I37: 5500 | J37: 0.41 | Z37: Upper Clear Creek | AA37: 47931 | AG37: Pine Haven | AH37: 60500 | AQ37: Dry | AR37: Average | AS37: Wet
A38: 10120104 | H38: Pavillion | I38: 1918 | J38: 0.41 | Z38: Lower Clear Creek | AA38: 8812 | AG38: Manville | AH38: 84770 | AM38: Little Bighorn | AN38: 10080016 | AO38: 4 | AP38: Red Canyon Creek below USGS gage 06289100 | AQ38: 702 | AR38: 1313 | AS38: 2268
A39: 10120105 | H39: Sunridge Estates | I39: 192 | J39: 0.41 | Z39: Upper Crazy Woman Creek | AA39: 15180 | AG39: Upton | AH39: 213750 | AM39: Tongue River | AN39: 10090101 | AO39: 19 | AP39: Tongue River above State Line | AQ39: 217843 | AR39: 326123 | AS39: 473035
A40: 10120106 | B40: 6386500 | C40: 0 | D40: 0 | E40: 0 | F40: 0 | G40: 56.022 | H40: Shoshoni | I40: 177568 | J40: 0.41 | Z40: Lower Crazy Woman Creek | AA40: 1561 | AG40: Sundance | AH40: 226313 | AM40: Powder River | AN40: 10090201 | AO40: 9 | AP40: Middle Fork Powder River above North Fork Powder River | AQ40: 46258 | AR40: 71587 | AS40: 86718
...

Sheet Output
A1: Streamflow | H1: Current Consumptive Use AFY | K1: Current Groundwater Pumping AFY | L1: Future Consumptive Use AFY | N1: Recharge | O1: Storage | P1: Species | Q1: Available Water AFY
A4: HUC 8 | B4: Station # | C4: P1 AFY | D4: P5 AFY | E4: P10 AFY | F4: P20 AFY | G4: Avg AFY | H4: M&I | I4: Agriculture | J4: Thermoelectric | K4: AFY | L4: M&I | M4: Agriculture | N4: AFY | O4: AF | P4: # Per HUC | Q4: Dry | R4: Normal | S4: Wet
A5: 10020007 | B5: 6037100 | C5: ='Physical Supply by HUC 8'!X2 -> 57231.313 | D5: ='Physical Supply by HUC 8'!Z2 -> 58680.207 | E5: ='Physical Supply by HUC 8'!AB2 -> 60853.548 | F5: ='Physical Supply by HUC 8'!AD2 -> 63026.889 | G5: ='Physical Supply by HUC 8'!AR2 -> 121.407 | H5: =SUM('Water Use Current M&I'!J5,'Water Use Current M&I'!AE5,'Water Use Current M&I'!BI13) -> 0 | I5: ='Water Use Current Ag'!L4 -> 31.691542 | J5: ='Water Use Current Thermo'!BJ6 -> 0 | K5: ='Current Groundwater Pumping'!L3 -> 8.0611127 | L5: =SUM('Water Use Future M&I'!L5,'Water Use Future M&I'!Z5) -> 0 | M5: ='Water Use Future Agriculture'!M5 -> 31.588357 | N5: =Recharge!B2 -> 477929 | O5: =Storage!H3 -> 0 | P5: =Species!B2 -> 1 | Q5: ='Available Water'!E6 -> 327292 | R5: ='Available Water'!F6 -> 362240 | S5: ='Available Water'!G6 -> 428664
A6: 10020008 | C6: ='Physical Supply by HUC 8'!X3 -> 0 | D6: ='Physical Supply by HUC 8'!Z3 -> 0 | E6: ='Physical Supply by HUC 8'!AB3 -> 0 | F6: ='Physical Supply by HUC 8'!AD3 -> 0 | G6: ='Physical Supply by HUC 8'!AR3 -> 0 | H6: =SUM('Water Use Current M&I'!J6,'Water Use Current M&I'!AE6,'Water Use Current M&I'!BI14) -> 0 | I6: ='Water Use Current Ag'!L5 -> 21.127695 | J6: ='Water Use Current Thermo'!BJ7 -> 0 | K6: 0 | L6: =SUM('Water Use Future M&I'!L6,'Water Use Future M&I'!Z6) -> 0 | M6: ='Water Use Future Agriculture'!M6 -> 21.058905 | N6: =Recharge!B3 -> 40948 | O6: =Storage!H4 -> 0 | P6: =Species!B3 -> 1 | Q6: ='Available Water'!E7 -> 484920 | R6: ='Available Water'!F7 -> 606325 | S6: ='Available Water'!G7 -> 697306
A7: 10070001 | B7: 6188000 | C7: ='Physical Supply by HUC 8'!X4 -> 50711.29 | D7: ='Physical Supply by HUC 8'!Z4 -> 61577.995 | E7: ='Physical Supply by HUC 8'!AB4 -> 65200.23 | F7: ='Physical Supply by HUC 8'!AD4 -> 79689.17 | G7: ='Physical Supply by HUC 8'!AR4 -> 636853.39 | H7: =SUM('Water Use Current M&I'!J7,'Water Use Current M&I'!AE7,'Water Use Current M&I'!BI15) -> 6.7833795 | I7: ='Water Use Current Ag'!L6 -> 84.510779 | J7: ='Water Use Current Thermo'!BJ8 -> 0 | K7: ='Current Groundwater Pumping'!L4 -> 6.2431452 | L7: =SUM('Water Use Future M&I'!L7,'Water Use Future M&I'!Z7) -> 6.3417243 | M7: ='Water Use Future Agriculture'!M7 -> 84.235619 | N7: =Recharge!B4 -> 1640768 | O7: =Storage!H5 -> 0 | P7: =Species!B4 -> 2 | Q7: ='Available Water'!E8 -> 1610549 | R7: ='Available Water'!F8 -> 2064723 | S7: ='Available Water'!G8 -> 2524621
A8: 10070002 | C8: ='Physical Supply by HUC 8'!X5 -> 0 | D8: ='Physical Supply by HUC 8'!Z5 -> 0 | E8: ='Physical Supply by HUC 8'!AB5 -> 0 | F8: ='Physical Supply by HUC 8'!AD5 -> 0 | G8: ='Physical Supply by HUC 8'!AR5 -> 0 | H8: =SUM('Water Use Current M&I'!J8,'Water Use Current M&I'!AE8,'Water Use Current M&I'!BI16) -> 0 | I8: ='Water Use Current Ag'!L7 -> 0 | J8: ='Water Use Current Thermo'!BJ9 -> 0 | K8: 0 | L8: =SUM('Water Use Future M&I'!L8,'Water Use Future M&I'!Z8) -> 0 | M8: ='Water Use Future Agriculture'!M8 -> 0 | N8: =Recharge!B5 -> 1332 | O8: =Storage!H6 -> 0 | P8: =Species!B5 -> 1 | Q8: ='Available Water'!E9 -> 0 | R8: ='Available Water'!F9 -> 0 | S8: ='Available Water'!G9 -> 0
A9: 10070006 | B9: 6207000 | C9: ='Physical Supply by HUC 8'!X6 -> 101422.58 | D9: ='Physical Supply by HUC 8'!Z6 -> 108667.05 | E9: ='Physical Supply by HUC 8'!AB6 -> 115911.52 | F9: ='Physical Supply by HUC 8'!AD6 -> 123155.99 | G9: ='Physical Supply by HUC 8'!AR6 -> 648584.36 | H9: =SUM('Water Use Current M&I'!J9,'Water Use Current M&I'!AE9,'Water Use Current M&I'!BI17) -> 1226.2203 | I9: ='Water Use Current Ag'!L8 -> 39977.676 | J9: ='Water Use Current Thermo'!BJ10 -> 0 | K9: 0 | L9: =SUM('Water Use Future M&I'!L9,'Water Use Future M&I'!Z9) -> 2192.3984 | M9: ='Water Use Future Agriculture'!M9 -> 39847.512 | N9: =Recharge!B6 -> 538124 | O9: =Storage!H7 -> 2047 | P9: =Species!B6 -> 1 | Q9: ='Available Water'!E10 -> 338022 | R9: ='Available Water'!F10 -> 420270 | S9: ='Available Water'!G10 -> 498294
A10: 10080001 | B10: 6236100 | C10: ='Physical Supply by HUC 8'!X7 -> 110608.57 | D10: ='Physical Supply by HUC 8'!Z7 -> 175316.17 | E10: ='Physical Supply by HUC 8'!AB7 -> 224578.57 | F10: ='Physical Supply by HUC 8'!AD7 -> 289778.8 | G10: ='Physical Supply by HUC 8'!AR7 -> 794564.78 | H10: =SUM('Water Use Current M&I'!J10,'Water Use Current M&I'!AE10,'Water Use Current M&I'!BI18) -> 2038.1103 | I10: ='Water Use Current Ag'!L9 -> 71652.35 | J10: ='Water Use Current Thermo'!BJ11 -> 0 | K10: 0 | L10: =SUM('Water Use Future M&I'!L10,'Water Use Future M&I'!Z10) -> 2067.789 | M10: ='Water Use Future Agriculture'!M10 -> 71419.055 | N10: =Recharge!B7 -> 908899 | O10: =Storage!H8 -> 190537 | P10: =Species!B7 -> 3 | Q10: ='Available Water'!E11 -> 0 | R10: ='Available Water'!F11 -> 0 | S10: ='Available Water'!G11 -> 0
A11: 10080002 | B11: 6235500 | C11: ='Physical Supply by HUC 8'!X8 -> 42017.926 | D11: ='Physical Supply by HUC 8'!Z8 -> 82586.958 | E11: ='Physical Supply by HUC 8'!AB8 -> 101422.58 | F11: ='Physical Supply by HUC 8'!AD8 -> 124604.88 | G11: ='Physical Supply by HUC 8'!AR8 -> 409513.95 | H11: =SUM('Water Use Current M&I'!J11,'Water Use Current M&I'!AE11,'Water Use Current M&I'!BI19) -> 931.09513 | I11: ='Water Use Current Ag'!L10 -> 35784.177 | J11: ='Water Use Current Thermo'!BJ12 -> 0 | K11: 0 | L11: =SUM('Water Use Future M&I'!L11,'Water Use Future M&I'!Z11) -> 1426.3595 | M11: ='Water Use Future Agriculture'!M11 -> 35667.666 | N11: =Recharge!B8 -> 357948 | O11: =Storage!H9 -> 63788 | P11: =Species!B8 -> 3 | Q11: ='Available Water'!E12 -> 0 | R11: ='Available Water'!F12 -> 0 | S11: ='Available Water'!G12 -> 0
A12: 10080003 | B12: 6233900 | C12: ='Physical Supply by HUC 8'!X9 -> 31151.221 | D12: ='Physical Supply by HUC 8'!Z9 -> 55057.972 | E12: ='Physical Supply by HUC 8'!AB9 -> 65200.23 | F12: ='Physical Supply by HUC 8'!AD9 -> 76791.382 | G12: ='Physical Supply by HUC 8'!AR9 -> 241394.43 | H12: =SUM('Water Use Current M&I'!J12,'Water Use Current M&I'!AE12,'Water Use Current M&I'!BI20) -> 1651.9324 | I12: ='Water Use Current Ag'!L11 -> 51446.584 | J12: ='Water Use Current Thermo'!BJ13 -> 0 | K12: 0 | L12: =SUM('Water Use Future M&I'!L12,'Water Use Future M&I'!Z12) -> 1635.6437 | M12: ='Water Use Future Agriculture'!M12 -> 51279.078 | N12: =Recharge!B9 -> 364471 | O12: =Storage!H10 -> 17821 | P12: =Species!B9 -> 3 | Q12: ='Available Water'!E13 -> 126384 | R12: ='Available Water'!F13 -> 229330 | S12: ='Available Water'!G13 -> 326104
A13: 10080004 | B13: 6239000 | C13: ='Physical Supply by HUC 8'!X10 -> 0 | D13: ='Physical Supply by HUC 8'!Z10 -> 0 | E13: ='Physical Supply by HUC 8'!AB10 -> 0 | F13: ='Physical Supply by HUC 8'!AD10 -> 0 | G13: ='Physical Supply by HUC 8'!AR10 -> 2568.8891 | H13: =SUM('Water Use Current M&I'!J13,'Water Use Current M&I'!AE13,'Water Use Current M&I'!BI21) -> 311.92062 | I13: ='Water Use Current Ag'!L12 -> 105.63847 | J13: ='Water Use Current Thermo'!BJ14 -> 0 | K13: 0 | L13: =SUM('Water Use Future M&I'!L13,'Water Use Future M&I'!Z13) -> 560.94468 | M13: ='Water Use Future Agriculture'!M13 -> 105.29452 | N13: =Recharge!B10 -> 15476 | O13: =Storage!H11 -> 0 | P13: =Species!B10 -> 2 | Q13: ='Available Water'!E14 -> 17278 | R13: ='Available Water'!F14 -> 15684 | S13: ='Available Water'!G14 -> 15763
A14: 10080005 | B14: 6259000 | C14: ='Physical Supply by HUC 8'!X11 -> 213711.86 | D14: ='Physical Supply by HUC 8'!Z11 -> 259424.47 | E14: ='Physical Supply by HUC 8'!AB11 -> 431770.41 | F14: ='Physical Supply by HUC 8'!AD11 -> 608535.48 | G14: ='Physical Supply by HUC 8'!AR11 -> 1012850.8 | H14: =SUM('Water Use Current M&I'!J14,'Water Use Current M&I'!AE14,'Water Use Current M&I'!BI22) -> 233.14253 | I14: ='Water Use Current Ag'!L13 -> 160737.69 | J14: ='Water Use Current Thermo'!BJ15 -> 0 | K14: 0 | L14: =SUM('Water Use Future M&I'!L14,'Water Use Future M&I'!Z14) -> 269.13699 | M14: ='Water Use Future Agriculture'!M14 -> 160214.34 | N14: =Recharge!B11 -> 54733 | O14: =Storage!H12 -> 84591 | P14: =Species!B11 -> 3 | Q14: ='Available Water'!E15 -> 368451 | R14: ='Available Water'!F15 -> 723990 | S14: ='Available Water'!G15 -> 984337
A15: 10080006 | B15: 6257000 | C15: ='Physical Supply by HUC 8'!X12 -> 0 | D15: ='Physical Supply by HUC 8'!Z12 -> 0 | E15: ='Physical Supply by HUC 8'!AB12 -> 0 | F15: ='Physical Supply by HUC 8'!AD12 -> 0 | G15: ='Physical Supply by HUC 8'!AR12 -> 16786.161 | H15: =SUM('Water Use Current M&I'!J15,'Water Use Current M&I'!AE15,'Water Use Current M&I'!BI23) -> 185.10173 | I15: ='Water Use Current Ag'!L14 -> 19573.865 | J15: ='Water Use Current Thermo'!BJ16 -> 0 | K15: 0 | L15: =SUM('Water Use Future M&I'!L15,'Water Use Future M&I'!Z15) -> 234.68603 | M15: ='Water Use Future Agriculture'!M15 -> 19510.134 | N15: =Recharge!B12 -> 16701 | O15: =Storage!H13 -> 2808 | P15: =Species!B12 -> 3 | Q15: ='Available Water'!E16 -> 0 | R15: ='Available Water'!F16 -> 0 | S15: ='Available Water'!G16 -> 0
A16: 10080007 | B16: 6274300 | C16: ='Physical Supply by HUC 8'!X13 -> 277463.2 | D16: ='Physical Supply by HUC 8'!Z13 -> 375263.55 | E16: ='Physical Supply by HUC 8'!AB13 -> 426699.28 | F16: ='Physical Supply by HUC 8'!AD13 -> 521601.84 | G16: ='Physical Supply by HUC 8'!AR13 -> 1178279 | H16: =SUM('Water Use Current M&I'!J16,'Water Use Current M&I'!AE16,'Water Use Current M&I'!BI24) -> 6043.7201 | I16: ='Water Use Current Ag'!L15 -> 182926.86 | J16: ='Water Use Current Thermo'!BJ17 -> 0 | K16: 0 | L16: =SUM('Water Use Future M&I'!L16,'Water Use Future M&I'!Z16) -> 9621.8254 | M16: ='Water Use Future Agriculture'!M16 -> 182331.26 | N16: =Recharge!B13 -> 122496 | O16: =Storage!H14 -> 21864 | P16: =Species!#REF! -> #REF! | Q16: ='Available Water'!E17 -> 802761 | R16: ='Available Water'!F17 -> 1172511 | S16: ='Available Water'!G17 -> 1700980
A17: 10080008 | B17: 6274000 | C17: ='Physical Supply by HUC 8'!X14 -> 27021.873 | D17: ='Physical Supply by HUC 8'!Z14 -> 67011.348 | E17: ='Physical Supply by HUC 8'!AB14 -> 101422.58 | F17: ='Physical Supply by HUC 8'!AD14 -> 123155.99 | G17: ='Physical Supply by HUC 8'!AR14 -> 358255.7 | H17: =SUM('Water Use Current M&I'!J17,'Water Use Current M&I'!AE17,'Water Use Current M&I'!BI25) -> 263.70199 | I17: ='Water Use Current Ag'!L16 -> 44713.809 | J17: ='Water Use Current Thermo'!BJ18 -> 0 | K17: 0 | L17: =SUM('Water Use Future M&I'!L17,'Water Use Future M&I'!Z17) -> 461.86764 | M17: ='Water Use Future Agriculture'!M17 -> 44568.224 | N17: =Recharge!B14 -> 245090 | O17: =Storage!H15 -> 5780 | P17: =Species!#REF! -> #REF! | Q17: ='Available Water'!E18 -> 248963 | R17: ='Available Water'!F18 -> 316886 | S17: ='Available Water'!G18 -> 374819
A18: 10080009 | B18: 6277500 | C18: ='Physical Supply by HUC 8'!X15 -> 507.1129 | D18: ='Physical Supply by HUC 8'!Z15 -> 3694.6797 | E18: ='Physical Supply by HUC 8'!AB15 -> 7244.47 | F18: ='Physical Supply by HUC 8'!AD15 -> 19560.069 | G18: ='Physical Supply by HUC 8'!AR15 -> 130694.59 | H18: =SUM('Water Use Current M&I'!J18,'Water Use Current M&I'!AE18,'Water Use Current M&I'!BI26) -> 471.83316 | I18: ='Water Use Current Ag'!L17 -> 164055.24 | J18: ='Water Use Current Thermo'!BJ19 -> 0 | K18: 0 | L18: =SUM('Water Use Future M&I'!L18,'Water Use Future M&I'!Z18) -> 671.84086 | M18: ='Water Use Future Agriculture'!M18 -> 163521.09 | N18: =Recharge!B15 -> 218691 | O18: =Storage!H16 -> 151744 | P18: =Species!#REF! -> #REF! | Q18: ='Available Water'!E19 -> 0 | R18: ='Available Water'!F19 -> 0 | S18: ='Available Water'!G19 -> 0
A19: 10080010 | B19: 6279500 | C19: ='Physical Supply by HUC 8'!X16 -> 282903.8 | D19: ='Physical Supply by HUC 8'!Z16 -> 449157.14 | E19: ='Physical Supply by HUC 8'!AB16 -> 538336.57 | F19: ='Physical Supply by HUC 8'!AD16 -> 695469.12 | G19: ='Physical Supply by HUC 8'!AR16 -> 1582619.7 | H19: =SUM('Water Use Current M&I'!J19,'Water Use Current M&I'!AE19,'Water Use Current M&I'!BI27) -> 1236.9293 | I19: ='Water Use Current Ag'!L18 -> 56853.002 | J19: ='Water Use Current Thermo'!BJ20 -> 0 | K19: 0 | L19: =SUM('Water Use Future M&I'!L19,'Water Use Future M&I'!Z19) -> 1798.7035 | M19: ='Water Use Future Agriculture'!M19 -> 56667.893 | N19: =Recharge!B16 -> 218570 | O19: =Storage!H17 -> 10043 | P19: =Species!#REF! -> #REF! | Q19: ='Available Water'!E20 -> 902512 | R19: ='Available Water'!F20 -> 1331142 | S19: ='Available Water'!G20 -> 1886436
A20: 10080011 | B20: 6278000 | C20: ='Physical Supply by HUC 8'!X17 -> 0 | D20: ='Physical Supply by HUC 8'!Z17 -> 1448.894 | E20: ='Physical Supply by HUC 8'!AB17 -> 2897.788 | F20: ='Physical Supply by HUC 8'!AD17 -> 4346.682 | G20: ='Physical Supply by HUC 8'!AR17 -> 18889.231 | H20: =SUM('Water Use Current M&I'!J20,'Water Use Current M&I'!AE20,'Water Use Current M&I'!BI28) -> 946.71933 | I20: ='Water Use Current Ag'!L19 -> 40879.928 | J20: ='Water Use Current Thermo'!BJ21 -> 0 | K20: 0 | L20: =SUM('Water Use Future M&I'!L20,'Water Use Future M&I'!Z20) -> 1700.8016 | M20: ='Water Use Future Agriculture'!M20 -> 40746.826 | N20: =Recharge!B17 -> 16889 | O20: =Storage!H18 -> 4544 | P20: =Species!#REF! -> #REF! | Q20: ='Available Water'!E21 -> 21686 | R20: ='Available Water'!F21 -> 20867 | S20: ='Available Water'!G21 -> 18355
A21: 10080012 | B21: 6280000 | C21: ='Physical Supply by HUC 8'!X18 -> 65200.23 | D21: ='Physical Supply by HUC 8'!Z18 -> 93670.997 | E21: ='Physical Supply by HUC 8'!AB18 -> 104320.37 | F21: ='Physical Supply by HUC 8'!AD18 -> 119533.76 | G21: ='Physical Supply by HUC 8'!AR18 -> 626024.36 | H21: =SUM('Water Use Current M&I'!J21,'Water Use Current M&I'!AE21,'Water Use Current M&I'!BI29) -> 82.769051 | I21: ='Water Use Current Ag'!L20 -> 6946.9179 | J21: ='Water Use Current Thermo'!BJ22 -> 0 | K21: 0 | L21: =SUM('Water Use Future M&I'!L21,'Water Use Future M&I'!Z21) -> 135.49204 | M21: ='Water Use Future Agriculture'!M21 -> 6924.2993 | N21: =Recharge!B18 -> 485339 | O21: =Storage!H19 -> 707 | P21: =Species!#REF! -> #REF! | Q21: ='Available Water'!E22 -> 324952 | R21: ='Available Water'!F22 -> 476366 | S21: ='Available Water'!G22 -> 571620
A22: 10080013 | B22: 6281000 | C22: ='Physical Supply by HUC 8'!X19 -> 210.08963 | D22: ='Physical Supply by HUC 8'!Z19 -> 3622.235 | E22: ='Physical Supply by HUC 8'!AB19 -> 15937.834 | F22: ='Physical Supply by HUC 8'!AD19 -> 55782.419 | G22: ='Physical Supply by HUC 8'!AR19 -> 280465.31 | H22: =SUM('Water Use Current M&I'!J22,'Water Use Current M&I'!AE22,'Water Use Current M&I'!BI30) -> 36.054127 | I22: ='Water Use Current Ag'!L21 -> 44105.857 | J22: ='Water Use Current Thermo'!BJ23 -> 0 | K22: 0 | L22: =SUM('Water Use Future M&I'!L22,'Water Use Future M&I'!Z22) -> 33.706706 | M22: ='Water Use Future Agriculture'!M22 -> 43962.252 | N22: =Recharge!B19 -> 427544 | O22: =Storage!H20 -> 1416 | P22: =Species!#REF! -> #REF! | Q22: ='Available Water'!E23 -> 179299 | R22: ='Available Water'!F23 -> 292339 | S22: ='Available Water'!G23 -> 406277
A23: 10080014 | B23: 6286200 | C23: ='Physical Supply by HUC 8'!X20 -> 163725.02 | D23: ='Physical Supply by HUC 8'!Z20 -> 247760.87 | E23: ='Physical Supply by HUC 8'!AB20 -> 326001.15 | F23: ='Physical Supply by HUC 8'!AD20 -> 441912.67 | G23: ='Physical Supply by HUC 8'!AR20 -> 825216.85 | H23: =SUM('Water Use Current M&I'!J23,'Water Use Current M&I'!AE23,'Water Use Current M&I'!BI31) -> 11794.998 | I23: ='Water Use Current Ag'!L22 -> 265019.29 | J23: ='Water Use Current Thermo'!BJ24 -> 0 | K23: 0 | L23: =SUM('Water Use Future M&I'!L23,'Water Use Future M&I'!Z23) -> 19408.494 | M23: ='Water Use Future Agriculture'!M23 -> 264156.41 | N23: =Recharge!B20 -> 165665 | O23: =Storage!H21 -> 6451 | P23: =Species!#REF! -> #REF! | Q23: ='Available Water'!E24 -> 569919 | R23: ='Available Water'!F24 -> 855715 | S23: ='Available Water'!G24 -> 1023558
A24: 10080016 | B24: 6289600 | C24: ='Physical Supply by HUC 8'!X21 -> 2752.8986 | D24: ='Physical Supply by HUC 8'!Z21 -> 3332.4562 | E24: ='Physical Supply by HUC 8'!AB21 -> 3767.1244 | F24: ='Physical Supply by HUC 8'!AD21 -> 4346.682 | G24: ='Physical Supply by HUC 8'!AR21 -> 8493.4166 | H24: =SUM('Water Use Current M&I'!L119,'Water Use Current M&I'!AC46,'Water Use Current M&I'!AS59) -> 20.045905 | I24: ='Water Use Current Ag'!I37 -> 2064 | J24: ='Water Use Current Thermo'!BJ25 -> 0 | K24: 0 | L24: =SUM('Water Use Future M&I'!M81,'Water Use Future M&I'!R38) -> 32.858379 | M24: ='Water Use Future Agriculture'!F38 -> 2180.1869 | N24: =Recharge!B21 -> 89881 | O24: =Storage!H22 -> 1556 | P24: =Species!#REF! -> #REF! | Q24: ='Available Water'!Q41 -> 702 | R24: ='Available Water'!R41 -> 1313 | S24: ='Available Water'!S41 -> 2268
A25: 10090101 | B25: 6306000 | C25: ='Physical Supply by HUC 8'!X22 -> 16662.281 | D25: ='Physical Supply by HUC 8'!Z22 -> 45640.161 | E25: ='Physical Supply by HUC 8'!AB22 -> 65200.23 | F25: ='Physical Supply by HUC 8'!AD22 -> 86933.64 | G25: ='Physical Supply by HUC 8'!AR22 -> 291690.62 | H25: =SUM('Water Use Current M&I'!L120,'Water Use Current M&I'!AC47,'Water Use Current M&I'!AS60) -> 7941.3894 | I25: ='Water Use Current Ag'!I38 -> 71369 | J25: ='Water Use Current Thermo'!BJ26 -> 0 | K25: 0 | L25: =SUM('Water Use Future M&I'!M82,'Water Use Future M&I'!R39) -> 9498.5327 | M25: ='Water Use Future Agriculture'!F39 -> 75386.512 | N25: =Recharge!B22 -> 362803 | O25: =Storage!H23 -> 41560 | P25: =Species!#REF! -> #REF! | Q25: ='Available Water'!Q42 -> 39971.193 | R25: ='Available Water'!R42 -> 90033.957 | S25: ='Available Water'!S42 -> 163012.06
A26: 10090201 | B26: 6310500 | C26: ='Physical Supply by HUC 8'!X23 -> 7244.47 | D26: ='Physical Supply by HUC 8'!Z23 -> 23182.304 | E26: ='Physical Supply by HUC 8'!AB23 -> 26080.092 | F26: ='Physical Supply by HUC 8'!AD23 -> 36222.35 | G26: ='Physical Supply by HUC 8'!AR23 -> 102296.99 | H26: =SUM('Water Use Current M&I'!L121,'Water Use Current M&I'!AC48,'Water Use Current M&I'!AS61) -> 188.21964 | I26: ='Water Use Current Ag'!I39 -> 11328.468 | J26: ='Water Use Current Thermo'!BJ27 -> 0 | K26: 0 | L26: =SUM('Water Use Future M&I'!M83,'Water Use Future M&I'!R40) -> 158.09499 | M26: ='Water Use Future Agriculture'!F40 -> 11966.171 | N26: =Recharge!B23 -> 150458 | O26: =Storage!H24 -> 5106 | P26: =Species!#REF! -> #REF! | Q26: ='Available Water'!Q43 -> 17716.337 | R26: ='Available Water'!R43 -> 28966.221 | S26: ='Available Water'!S43 -> 33529.903
A27: 10090202 | B27: 6317000 | C27: ='Physical Supply by HUC 8'!X24 -> 0 | D27: ='Physical Supply by HUC 8'!Z24 -> 72.4447 | E27: ='Physical Supply by HUC 8'!AB24 -> 10866.705 | F27: ='Physical Supply by HUC 8'!AD24 -> 34773.456 | G27: ='Physical Supply by HUC 8'!AR24 -> 195471.74 | H27: =SUM('Water Use Current M&I'!L122,'Water Use Current M&I'!AC49,'Water Use Current M&I'!AS62) -> 413.75134 | I27: ='Water Use Current Ag'!I40 -> 11316.852 | J27: ='Water Use Current Thermo'!BJ28 -> 0 | K27: 0 | L27: =SUM('Water Use Future M&I'!M84,'Water Use Future M&I'!R41) -> 371.95685 | M27: ='Water Use Future Agriculture'!F41 -> 11953.902 | N27: =Recharge!B24 -> 60224 | O27: =Storage!H25 -> 5943 | P27: =Species!#REF! -> #REF! | Q27: ='Available Water'!Q44 -> 42501.515 | R27: ='Available Water'!R44 -> 78910.061 | S27: ='Available Water'!S44 -> 127011.74
A28: 10090203 | B28: 6313000 | C28: ='Physical Supply by HUC 8'!X25 -> 0 | D28: ='Physical Supply by HUC 8'!Z25 -> 507.1129 | E28: ='Physical Supply by HUC 8'!AB25 -> 1593.7834 | F28: ='Physical Supply by HUC 8'!AD25 -> 3622.235 | G28: ='Physical Supply by HUC 8'!AR25 -> 27086.349 | H28: =SUM('Water Use Current M&I'!L123,'Water Use Current M&I'!AC50,'Water Use Current M&I'!AS63) -> 7.204302 | I28: ='Water Use Current Ag'!I41 -> 1337 | J28: ='Water Use Current Thermo'!BJ29 -> 0 | K28: 0 | L28: =SUM('Water Use Future M&I'!M85,'Water Use Future M&I'!R42) -> 7.8860109 | M28: ='Water Use Future Agriculture'!F42 -> 1412.2625 | N28: =Recharge!B25 -> 31712 | O28: =Storage!H26 -> 4617 | P28: =Species!#REF! -> #REF! | Q28: ='Available Water'!Q45 -> 4988.8237 | R28: ='Available Water'!R45 -> 10811.704 | S28: ='Available Water'!S45 -> 17332.56
A29: 10090204 | B29: 6313400 | C29: ='Physical Supply by HUC 8'!X26 -> 5381.1923 | D29: ='Physical Supply by HUC 8'!Z26 -> 8693.364 | E29: ='Physical Supply by HUC 8'!AB26 -> 10866.705 | F29: ='Physical Supply by HUC 8'!AD26 -> 15937.834 | G29: ='Physical Supply by HUC 8'!AR26 -> 32787.747 | H29: =SUM('Water Use Current M&I'!L124,'Water Use Current M&I'!AC51,'Water Use Current M&I'!AS64) -> 132.80707 | I29: ='Water Use Current Ag'!I42 -> 0 | J29: ='Water Use Current Thermo'!BJ30 -> 0 | K29: 0 | L29: =SUM('Water Use Future M&I'!M86,'Water Use Future M&I'!R43) -> 253.99527 | M29: ='Water Use Future Agriculture'!F43 -> 0 | N29: =Recharge!B26 -> 19533 | O29: =Storage!H27 -> 1645 | P29: =Species!#REF! -> #REF! | Q29: ='Available Water'!Q46 -> 8439.1778 | R29: ='Available Water'!R46 -> 13644.92 | S29: ='Available Water'!S46 -> 19091.838
A30: 10090205 | B30: 6316500 | C30: ='Physical Supply by HUC 8'!X27 -> 0 | D30: ='Physical Supply by HUC 8'!Z27 -> 0 | E30: ='Physical Supply by HUC 8'!AB27 -> 0 | F30: ='Physical Supply by HUC 8'!AD27 -> 289.7788 | G30: ='Physical Supply by HUC 8'!AR27 -> 28976.431 | H30: =SUM('Water Use Current M&I'!L125,'Water Use Current M&I'!AC52,'Water Use Current M&I'!AS65) -> 137.40744 | I30: ='Water Use Current Ag'!I43 -> 16741 | J30: ='Water Use Current Thermo'!BJ31 -> 0 | K30: 0 | L30: =SUM('Water Use Future M&I'!M87,'Water Use Future M&I'!R44) -> 123.21892 | M30: ='Water Use Future Agriculture'!F44 -> 17683.386 | N30: =Recharge!B27 -> 81787 | O30: =Storage!H28 -> 11705 | P30: =Species!#REF! -> #REF! | Q30: ='Available Water'!Q47 -> 15520 | R30: ='Available Water'!R47 -> 30610 | S30: ='Available Water'!S47 -> 61498
A31: 10090206 | B31: 6324000 | C31: ='Physical Supply by HUC 8'!X28 -> 579.5576 | D31: ='Physical Supply by HUC 8'!Z28 -> 5360.9078 | E31: ='Physical Supply by HUC 8'!AB28 -> 14488.94 | F31: ='Physical Supply by HUC 8'!AD28 -> 31875.668 | G31: ='Physical Supply by HUC 8'!AR28 -> 133434.44 | H31: =SUM('Water Use Current M&I'!L126,'Water Use Current M&I'!AC53,'Water Use Current M&I'!AS66) -> 2525.8204 | I31: ='Water Use Current Ag'!I44 -> 56743 | J31: ='Water Use Current Thermo'!BJ32 -> 0 | K31: 0 | L31: =SUM('Water Use Future M&I'!M88,'Water Use Future M&I'!R45) -> 2889.2433 | M31: ='Water Use Future Agriculture'!F45 -> 59937.183 | N31: =Recharge!B28 -> 239882 | O31: =Storage!H29 -> 366732 | P31: =Species!#REF! -> #REF! | Q31: ='Available Water'!Q48 -> 0 | R31: ='Available Water'!R48 -> 0 | S31: ='Available Water'!S48 -> 0
A32: 10090207 | B32: 6324500 | C32: ='Physical Supply by HUC 8'!X29 -> 2476.1598 | D32: ='Physical Supply by HUC 8'!Z29 -> 13764.493 | E32: ='Physical Supply by HUC 8'!AB29 -> 32600.115 | F32: ='Physical Supply by HUC 8'!AD29 -> 65200.23 | G32: ='Physical Supply by HUC 8'!AR29 -> 2709431.8 | H32: =SUM('Water Use Current M&I'!L127,'Water Use Current M&I'!AC54,'Water Use Current M&I'!AS67) -> 40.591924 | I32: ='Water Use Current Ag'!I45 -> 2141.6803 | J32: ='Water Use Current Thermo'!BJ33 -> 0 | K32: 0 | L32: =SUM('Water Use Future M&I'!M89,'Water Use Future M&I'!R46) -> 43.044476 | M32: ='Water Use Future Agriculture'!F46 -> 2262.24 | N32: =Recharge!B29 -> 7187 | O32: =Storage!H30 -> 547 | P32: =Species!#REF! -> #REF! | Q32: ='Available Water'!Q49 -> 193770 | R32: ='Available Water'!R49 -> 324023 | S32: ='Available Water'!S49 -> 546537
A33: 10090208 | B33: 6324970 | C33: ='Physical Supply by HUC 8'!X30 -> 0 | D33: ='Physical Supply by HUC 8'!Z30 -> 7.24447 | E33: ='Physical Supply by HUC 8'!AB30 -> 14.48894 | F33: ='Physical Supply by HUC 8'!AD30 -> 224.57857 | G33: ='Physical Supply by HUC 8'!AR30 -> 14570.078 | H33: =SUM('Water Use Current M&I'!L128,'Water Use Current M&I'!AC55,'Water Use Current M&I'!AS68) -> 691.31714 | I33: ='Water Use Current Ag'!I46 -> 10999 | J33: ='Water Use Current Thermo'!BJ34 -> 0 | K33: 0 | L33: =SUM('Water Use Future M&I'!M90,'Water Use Future M&I'!R47) -> 906.23409 | M33: ='Water Use Future Agriculture'!F47 -> 11618.157 | N33: =Recharge!B30 -> 27874 | O33: =Storage!H31 -> 3742 | P33: =Species!#REF! -> #REF! | Q33: ='Available Water'!Q50 -> 0 | R33: ='Available Water'!R50 -> 0 | S33: ='Available Water'!S50 -> 0
A34: 10110201 | C34: ='Physical Supply by HUC 8'!X31 -> 0 | D34: ='Physical Supply by HUC 8'!Z31 -> 0 | E34: ='Physical Supply by HUC 8'!AB31 -> 0 | F34: ='Physical Supply by HUC 8'!AD31 -> 0 | G34: ='Physical Supply by HUC 8'!AR31 -> 0 | H34: =SUM('Water Use Current M&I'!M197,'Water Use Current M&I'!AH110,'Water Use Current M&I'!AS209) -> 73.620135 | I34: ='Water Use Current Ag'!K73 -> 10455 | J34: ='Water Use Current Thermo'!BJ35 -> 0 | K34: 0 | L34: =SUM('Water Use Future M&I'!L217,'Water Use Future M&I'!R188) -> 114.1306 | M34: ='Water Use Future Agriculture'!K72 -> 10958.993 | N34: =Recharge!B31 -> 19824 | O34: =Storage!H32 -> 5839 | P34: =Species!#REF! -> #REF! | Q34: ='Available Water'!E57 -> 0 | R34: ='Available Water'!F57 -> 0 | S34: ='Available Water'!G57 -> 0
A35: 10120101 | B35: 6364700 | C35: ='Physical Supply by HUC 8'!X32 -> 0 | D35: ='Physical Supply by HUC 8'!Z32 -> 7.24447 | E35: ='Physical Supply by HUC 8'!AB32 -> 36.22235 | F35: ='Physical Supply by HUC 8'!AD32 -> 115.91152 | G35: ='Physical Supply by HUC 8'!AR32 -> 7061.9094 | H35: =SUM('Water Use Current M&I'!M198,'Water Use Current M&I'!AH111,'Water Use Current M&I'!AS210) -> 975.45067 | I35: ='Water Use Current Ag'!K74 -> 926.7256 | J35: ='Water Use Current Thermo'!BJ36 -> 0 | K35: 0 | L35: =SUM('Water Use Future M&I'!L218,'Water Use Future M&I'!R189) -> 976.85788 | M35: ='Water Use Future Agriculture'!K73 -> 971.3993 | N35: =Recharge!B32 -> 19841 | O35: =Storage!H33 -> 3744 | P35: =Species!#REF! -> #REF! | Q35: ='Available Water'!E58 -> 534 | R35: ='Available Water'!F58 -> 2837 | S35: ='Available Water'!G58 -> 21427
A36: 10120102 | B36: 6365300 | C36: ='Physical Supply by HUC 8'!X33 -> 0 | D36: ='Physical Supply by HUC 8'!Z33 -> 0 | E36: ='Physical Supply by HUC 8'!AB33 -> 0 | F36: ='Physical Supply by HUC 8'!AD33 -> 0 | G36: ='Physical Supply by HUC 8'!AR33 -> 604.1888 | H36: =SUM('Water Use Current M&I'!M199,'Water Use Current M&I'!AH112,'Water Use Current M&I'!AS211) -> 17.648663 | I36: ='Water Use Current Ag'!K75 -> 1545.544 | J36: ='Water Use Current Thermo'!BJ37 -> 0 | K36: 0 | L36: =SUM('Water Use Future M&I'!L219,'Water Use Future M&I'!R190) -> 23.613226 | M36: ='Water Use Future Agriculture'!K74 -> 1620.0484 | N36: =Recharge!B33 -> 9253 | O36: =Storage!H34 -> 770 | P36: =Species!#REF! -> #REF! | Q36: ='Available Water'!E59 -> 0 | R36: ='Available Water'!F59 -> 0 | S36: ='Available Water'!G59 -> 0
A37: 10120103 | B37: 6375600 | C37: ='Physical Supply by HUC 8'!X34 -> 0 | D37: ='Physical Supply by HUC 8'!Z34 -> 0 | E37: ='Physical Supply by HUC 8'!AB34 -> 0 | F37: ='Physical Supply by HUC 8'!AD34 -> 0 | G37: ='Physical Supply by HUC 8'!AR34 -> 1426.4361 | H37: =SUM('Water Use Current M&I'!M200,'Water Use Current M&I'!AH113,'Water Use Current M&I'!AS212) -> 936.86538 | I37: ='Water Use Current Ag'!K76 -> 5465.0358 | J37: ='Water Use Current Thermo'!BJ38 -> 0 | K37: 0 | L37: =SUM('Water Use Future M&I'!L220,'Water Use Future M&I'!R191) -> 959.44991 | M37: ='Water Use Future Agriculture'!K75 -> 5728.483 | N37: =Recharge!B34 -> 32394 | O37: =Storage!H35 -> 5479 | P37: =Species!#REF! -> #REF! | Q37: ='Available Water'!E60 -> 1515 | R37: ='Available Water'!F60 -> 12895 | S37: ='Available Water'!G60 -> 57621
A38: 10120104 | C38: ='Physical Supply by HUC 8'!X35 -> 0 | D38: ='Physical Supply by HUC 8'!Z35 -> 0 | E38: ='Physical Supply by HUC 8'!AB35 -> 0 | F38: ='Physical Supply by HUC 8'!AD35 -> 0 | G38: ='Physical Supply by HUC 8'!AR35 -> 0 | H38: =SUM('Water Use Current M&I'!M201,'Water Use Current M&I'!AH114,'Water Use Current M&I'!AS213) -> 78.232194 | I38: ='Water Use Current Ag'!K77 -> 8192.0961 | J38: ='Water Use Current Thermo'!BJ39 -> 0 | K38: ='Current Groundwater Pumping'!L5 -> 26.137646 | L38: =SUM('Water Use Future M&I'!L221,'Water Use Future M&I'!R192) -> 116.49192 | M38: ='Water Use Future Agriculture'!K76 -> 8587.0039 | N38: =Recharge!B35 -> 24692 | O38: =Storage!H36 -> 5375 | P38: =Species!#REF! -> #REF! | Q38: ='Available Water'!E61 -> 3184 | R38: ='Available Water'!F61 -> 18323 | S38: ='Available Water'!G61 -> 44909
A39: 10120105 | C39: ='Physical Supply by HUC 8'!X36 -> 0 | D39: ='Physical Supply by HUC 8'!Z36 -> 0 | E39: ='Physical Supply by HUC 8'!AB36 -> 0 | F39: ='Physical Supply by HUC 8'!AD36 -> 0 | G39: ='Physical Supply by HUC 8'!AR36 -> 0 | H39: =SUM('Water Use Current M&I'!M202,'Water Use Current M&I'!AH115,'Water Use Current M&I'!AS214) -> 45.130151 | I39: ='Water Use Current Ag'!K78 -> 2959.1039 | J39: ='Water Use Current Thermo'!BJ40 -> 0 | K39: ='Current Groundwater Pumping'!L6 -> 0.49991822 | L39: =SUM('Water Use Future M&I'!L222,'Water Use Future M&I'!R193) -> 64.149269 | M39: ='Water Use Future Agriculture'!K77 -> 3101.7503 | N39: =Recharge!B36 -> 18825 | O39: =Storage!H37 -> 1440 | P39: =Species!#REF! -> #REF! | Q39: ='Available Water'!E62 -> 0 | R39: ='Available Water'!F62 -> 0 | S39: ='Available Water'!G62 -> 0
A40: 10120106 | B40: 6386500 | C40: ='Physical Supply by HUC 8'!X37 -> 0 | D40: ='Physical Supply by HUC 8'!Z37 -> 0 | E40: ='Physical Supply by HUC 8'!AB37 -> 0 | F40: ='Physical Supply by HUC 8'!AD37 -> 0 | G40: ='Physical Supply by HUC 8'!AR37 -> 40584.97 | H40: =SUM('Water Use Current M&I'!M203,'Water Use Current M&I'!AH116,'Water Use Current M&I'!AS215) -> 10.08495 | I40: ='Water Use Current Ag'!K79 -> 3981.283 | J40: ='Water Use Current Thermo'!BJ41 -> 0 | K40: 0 | L40: =SUM('Water Use Future M&I'!L223,'Water Use Future M&I'!R194) -> 16.922816 | M40: ='Water Use Future Agriculture'!K78 -> 4173.2046 | N40: =Recharge!B37 -> 10063 | O40: =Storage!H38 -> 2581 | P40: =Species!#REF! -> #REF! | Q40: ='Available Water'!E63 -> 4911 | R40: ='Available Water'!F63 -> 31434 | S40: ='Available Water'!G63 -> 103362
A41: 10120107 | B41: 6394000 | C41: ='Physical Supply by HUC 8'!X38 -> 0 | D41: ='Physical Supply by HUC 8'!Z38 -> 101.42258 | E41: ='Physical Supply by HUC 8'!AB38 -> 420.17926 | F41: ='Physical Supply by HUC 8'!AD38 -> 1304.0046 | G41: ='Physical Supply by HUC 8'!AR38 -> 22313.692 | H41: =SUM('Water Use Current M&I'!M204,'Water Use Current M&I'!AH117,'Water Use Current M&I'!AS216) -> 2285.6904 | I41: ='Water Use Current Ag'!K80 -> 11799 | J41: ='Water Use Current Thermo'!BJ42 -> 466.79645 | K41: 0 | L41: =SUM('Water Use Future M&I'!L224,'Water Use Future M&I'!R195) -> 2234.0892 | M41: ='Water Use Future Agriculture'!K79 -> 12367.782 | N41: =Recharge!B38 -> 38281 | O41: =Storage!H39 -> 8213 | P41: =Species!#REF! -> #REF! | Q41: ='Available Water'!E64 -> 13778 | R41: ='Available Water'!F64 -> 20468 | S41: ='Available Water'!G64 -> 29635
A42: 10120108 | C42: ='Physical Supply by HUC 8'!X39 -> 0 | D42: ='Physical Supply by HUC 8'!Z39 -> 0 | E42: ='Physical Supply by HUC 8'!AB39 -> 0 | F42: ='Physical Supply by HUC 8'!AD39 -> 0 | G42: ='Physical Supply by HUC 8'!AR39 -> 0 | H42: =SUM('Water Use Current M&I'!M205,'Water Use Current M&I'!AH118,'Water Use Current M&I'!AS217) -> 11.849816 | I42: ='Water Use Current Ag'!K81 -> 2013.2116 | J42: ='Water Use Current Thermo'!BJ43 -> 0 | K42: ='Current Groundwater Pumping'!L7 -> 5.5515504 | L42: =SUM('Water Use Future M&I'!L225,'Water Use Future M&I'!R196) -> 20.071241 | M42: ='Water Use Future Agriculture'!K80 -> 2110.2604 | N42: =Recharge!B39 -> 4751 | O42: =Storage!H40 -> 855 | P42: =Species!#REF! -> #REF! | Q42: ='Available Water'!E65 -> 0 | R42: ='Available Water'!F65 -> 0 | S42: ='Available Water'!G65 -> 0
...

Sheet Document Sources and Data
A1: Document Sources and Data

Sheet GIS Sources and Data
A1: GIS Sources and Data

Sheet Physical Supply by HUC 8 Detail
A1: Physical Supply USGS

Sheet Physical Supply by HUC 8
A1: HUC 8 | B1: Site No | C1: STATION_NM | D1: STATE_CD | E1: STATE | F1: SITESTATUS | G1: DA_SQ_MILE | H1: LON_SITE | I1: LAT_SITE | J1: LON_NHD | K1: LAT_NHD | L1: NHD2GAGE_D | M1: REVIEWED | N1: BFIYRS | O1: BFI_AVE | P1: BFI_STDEV | Q1: GOTBFI | R1: DAY1 | S1: DAYN | T1: NDAYS | U1: NDAYSGT0 | V1: MIN_ | W1: P1 | X1: P1 AFY | Y1: P5 | Z1: P5 AFY | AA1: P10 | AB1: P10 AFY | AC1: P20 | AD1: P20 AFY | AE1: P25 | AF1: P30 | AG1: P40 | AH1: P50 | AI1: P60 | AJ1: P70 | AK1: P75 | AL1: P80 | AM1: P90 | AN1: P95 | AO1: P99 | AP1: MAX_ | AQ1: AVE | AR1: AVG AFY
A2: 10020007 | B2: =Input!B5 -> 6037100 | C2: Gibbon River at Madison Jct, YNP | D2: 56 | E2: WY | F2: A | G2: -999999 | H2: -110.86105 | I2: 44.640488 | J2: -110.86106 | K2: 44.640816 | L2: 36.544 | M2: Y | N2: 2 | O2: 0.906 | P2: 0.022 | Q2: 1 | R2: 20010323 | S2: 20040930 | T2: 923 | U2: 923 | V2: 75 | W2: =Input!C5 -> 79 | X2: =W2*724.447 -> 57231.313 | Y2: =Input!D5 -> 81 | Z2: =Y2*724.447 -> 58680.207 | AA2: =Input!E5 -> 84 | AB2: =AA2*724.447 -> 60853.548 | AC2: =Input!F5 -> 87 | AD2: =AC2*724.447 -> 63026.889 | AE2: 88 | AF2: 90 | AG2: 93 | AH2: 96 | AI2: 102 | AJ2: 116 | AK2: 128 | AL2: 141.2 | AM2: 190 | AN2: 233.8 | AO2: 441 | AP2: 584 | AQ2: =Input!G5 -> 121.407 | AR2: =Input!G5 -> 121.407
A3: 10020008 | B3: =Input!B6 -> 0 | C3: No Streamgages | W3: =Input!C6 -> 0 | Y3: =Input!D6 -> 0 | AA3: =Input!E6 -> 0 | AC3: =Input!F6 -> 0 | AQ3: =Input!G6 -> 0
A4: 10070001 | B4: =Input!B7 -> 6188000 | C4: Lamar River nr Tower Falls Ranger Station YNP | D4: 56 | E4: WY | F4: A | G4: 660 | H4: -110.39381 | I4: 44.927716 | J4: -110.39426 | K4: 44.928211 | L4: 65.435 | M4: Y | N4: 62 | O4: 0.642 | P4: 0.102 | Q4: 1 | R4: 19230501 | S4: 20030930 | T4: 22769 | U4: 22769 | V4: 45 | W4: =Input!C7 -> 70 | X4: =W4*724.447 -> 50711.29 | Y4: =Input!D7 -> 85 | Z4: =Y4*724.447 -> 61577.995 | AA4: =Input!E7 -> 90 | AB4: =AA4*724.447 -> 65200.23 | AC4: =Input!F7 -> 110 | AD4: =AC4*724.447 -> 79689.17 | AE4: 115 | AF4: 120 | AG4: 150 | AH4: 186 | AI4: 252 | AJ4: 420 | AK4: 638 | AL4: 1100 | AM4: 2980 | AN4: 4470 | AO4: 7630 | AP4: 15600 | AQ4: =Input!G7 -> 879.089 | AR4: =AQ4*724.447 -> 636853.39
A5: 10070002 | B5: =Input!B8 -> 0 | C5: No Streamgages | W5: =Input!C8 -> 0 | Y5: =Input!D8 -> 0 | AA5: =Input!E8 -> 0 | AC5: =Input!F8 -> 0 | AQ5: =Input!G8 -> 0
A6: 10070006 | B6: =Input!B9 -> 6207000 | C6: CLARKS FORK YELLOWSTONE RIVER NEAR CLARK WYO | D6: 56 | E6: WY | F6: I | G6: 912 | H6: -109.17181 | I6: 44.852171 | J6: -109.17152 | K6: 44.851994 | L6: 30.687 | M6: N | N6: 6 | O6: 0.702 | P6: 0.04 | Q6: 1 | R6: 19181001 | S6: 19241231 | T6: 2284 | U6: 2284 | V6: 140 | W6: =Input!C9 -> 140 | X6: =W6*724.447 -> 101422.58 | Y6: =Input!D9 -> 150 | Z6: =Y6*724.447 -> 108667.05 | AA6: =Input!E9 -> 160 | AB6: =AA6*724.447 -> 115911.52 | AC6: =Input!F9 -> 170 | AD6: =AC6*724.447 -> 123155.99 | AE6: 175 | AF6: 188 | AG6: 228 | AH6: 275 | AI6: 350 | AJ6: 500.5 | AK6: 662 | AL6: 1130 | AM6: 2855 | AN6: 4290 | AO6: 6520 | AP6: 9920 | AQ6: =Input!G9 -> 895.282 | AR6: =AQ6*724.447 -> 648584.36
A7: 10080001 | B7: =Input!B10 -> 6236100 | C7: WIND RIVER AB BOYSEN RESERVOIR, NR SHOSHONI, WY | D7: 56 | E7: WY | F7: A | G7: 4390 | H7: -108.22399 | I7: 43.129125 | J7: -108.22443 | K7: 43.128647 | L7: 64.211 | M7: Y | N7: 14 | O7: 0.69 | P7: 0.079 | Q7: 1 | R7: 19900501 | S7: 20040930 | T7: 5267 | U7: 5267 | V7: 113 | W7: =Input!C10 -> 152.68 | X7: =W7*724.447 -> 110608.57 | Y7: =Input!D10 -> 242 | Z7: =Y7*724.447 -> 175316.17 | AA7: =Input!E10 -> 310 | AB7: =AA7*724.447 -> 224578.57 | AC7: =Input!F10 -> 400 | AD7: =AC7*724.447 -> 289778.8 | AE7: 438 | AF7: 470 | AG7: 530 | AH7: 592 | AI7: 667 | AJ7: 776 | AK7: 860 | AL7: 970 | AM7: 1980 | AN7: 4326 | AO7: 9912.8 | AP7: 17900 | AQ7: =Input!G10 -> 1096.788 | AR7: =AQ7*724.447 -> 794564.78
A8: 10080002 | B8: =Input!B11 -> 6235500 | C8: LITTLE WIND RIVER NEAR RIVERTON, WY | D8: 56 | E8: WY | F8: A | G8: 1904 | H8: -108.37538 | I8: 42.997459 | J8: -108.37538 | K8: 42.997517 | L8: 6.406 | M8: Y | N8: 63 | O8: 0.682 | P8: 0.07 | Q8: 1 | R8: 19410601 | S8: 20040930 | T8: 23133 | U8: 23133 | V8: 17 | W8: =Input!C11 -> 58 | X8: =W8*724.447 -> 42017.926 | Y8: =Input!D11 -> 114 | Z8: =Y8*724.447 -> 82586.958 | AA8: =Input!E11 -> 140 | AB8: =AA8*724.447 -> 101422.58 | AC8: =Input!F11 -> 172 | AD8: =AC8*724.447 -> 124604.88 | AE8: 190 | AF8: 200 | AG8: 230 | AH8: 260 | AI8: 304 | AJ8: 383 | AK8: 451 | AL8: 567 | AM8: 1400 | AN8: 2380 | AO8: 4583.2 | AP8: 12800 | AQ8: =Input!G11 -> 565.278 | AR8: =AQ8*724.447 -> 409513.95
A9: 10080003 | B9: =Input!B12 -> 6233900 | C9: POPO AGIE RIVER NR ARAPAHOE WY | D9: 56 | E9: WY | F9: I | G9: 796 | H9: -108.51011 | I9: 42.946349 | J9: -108.51028 | K9: 42.946178 | L9: 23.763 | M9: Y | N9: 16 | O9: 0.698 | P9: 0.065 | Q9: 1 | R9: 19791001 | S9: 19950930 | T9: 5844 | U9: 5844 | V9: 17 | W9: =Input!C12 -> 43 | X9: =W9*724.447 -> 31151.221 | Y9: =Input!D12 -> 76 | Z9: =Y9*724.447 -> 55057.972 | AA9: =Input!E12 -> 90 | AB9: =AA9*724.447 -> 65200.23 | AC9: =Input!F12 -> 106 | AD9: =AC9*724.447 -> 76791.382 | AE9: 110 | AF9: 120 | AG9: 135 | AH9: 154 | AI9: 180 | AJ9: 233 | AK9: 282 | AL9: 357 | AM9: 766 | AN9: 1320 | AO9: 2890 | AP9: 4630 | AQ9: =Input!G12 -> 333.212 | AR9: =AQ9*724.447 -> 241394.43
A10: 10080004 | B10: =Input!B13 -> 6239000 | C10: MUSCRAT CREEK NEAR SHOSHONI, WY | D10: 56 | E10: WY | F10: I | G10: 733 | H10: -108.15815 | I10: 43.148014 | J10: -108.15821 | K10: 43.14846 | L10: 50.108 | M10: Y | N10: 22 | O10: 0.015 | P10: 0.063 | Q10: 1 | R10: 19500701 | S10: 19730930 | T10: 8128 | U10: 530 | V10: 0 | W10: =Input!C13 -> 0 | X10: =W10*724.447 -> 0 | Y10: =Input!D13 -> 0 | Z10: =Y10*724.447 -> 0 | AA10: =Input!E13 -> 0 | AB10: =AA10*724.447 -> 0 | AC10: =Input!F13 -> 0 | AD10: =AC10*724.447 -> 0 | AE10: 0 | AF10: 0 | AG10: 0 | AH10: 0 | AI10: 0 | AJ10: 0 | AK10: 0 | AL10: 0 | AM10: 0 | AN10: 0.5 | AO10: 50 | AP10: 4300 | AQ10: =Input!G13 -> 3.546 | AR10: =AQ10*724.447 -> 2568.8891
A11: 10080005 | B11: =Input!B14 -> 6259000 | C11: WIND R BL BOYSEN RES WYO | D11: 56 | E11: WY | F11: A | G11: 7701 | H11: -108.17899 | I11: 43.424958 | J11: -108.17875 | K11: 43.424789 | L11: 26.762 | M11: Y | N11: 53 | O11: 0.895 | P11: 0.07 | Q11: 1 | R11: 19510601 | S11: 20040930 | T11: 19481 | U11: 19481 | V11: 4.7 | W11: =Input!C14 -> 295 | X11: =W11*724.447 -> 213711.86 | Y11: =Input!D14 -> 358.1 | Z11: =Y11*724.447 -> 259424.47 | AA11: =Input!E14 -> 596 | AB11: =AA11*724.447 -> 431770.41 | AC11: =Input!F14 -> 840 | AD11: =AC11*724.447 -> 608535.48 | AE11: 928 | AF11: 980 | AG11: 1060 | AH11: 1130 | AI11: 1250 | AJ11: 1500 | AK11: 1630 | AL11: 1810 | AM11: 2170 | AN11: 2729 | AO11: 6761.8 | AP11: 13200 | AQ11: =Input!G14 -> 1398.102 | AR11: =AQ11*724.447 -> 1012850.8
A12: 10080006 | B12: =Input!B15 -> 6257000 | C12: BADWATER CREEK AT BONNEVILLE, WYO. | D12: 56 | E12: WY | F12: I | G12: 808 | H12: -108.08009 | I12: 43.269125 | J12: -108.08034 | K12: 43.268726 | L12: 48.658 | M12: Y | N12: 26 | O12: 0.259 | P12: 0.167 | Q12: 1 | R12: 19470501 | S12: 19730930 | T12: 9650 | U12: 4153 | V12: 0 | W12: =Input!C15 -> 0 | X12: =W12*724.447 -> 0 | Y12: =Input!D15 -> 0 | Z12: =Y12*724.447 -> 0 | AA12: =Input!E15 -> 0 | AB12: =AA12*724.447 -> 0 | AC12: =Input!F15 -> 0 | AD12: =AC12*724.447 -> 0 | AE12: 0 | AF12: 0 | AG12: 0 | AH12: 0 | AI12: 1 | AJ12: 6.6 | AK12: 10 | AL12: 18 | AM12: 59 | AN12: 120 | AO12: 342 | AP12: 2990 | AQ12: =Input!G15 -> 23.171 | AR12: =AQ12*724.447 -> 16786.161
A13: 10080007 | B13: =Input!B16 -> 6274300 | C13: BIGHORN RIVER AT BASIN, WY | D13: 56 | E13: WY | F13: A | G13: 13223 | H13: -108.03621 | I13: 44.383291 | J13: -108.03609 | K13: 44.383282 | L13: 9.956 | M13: Y | N13: 21 | O13: 0.829 | P13: 0.042 | Q13: 1 | R13: 19831001 | S13: 20040930 | T13: 7671 | U13: 7671 | V13: 276 | W13: =Input!C16 -> 383 | X13: =W13*724.447 -> 277463.2 | Y13: =Input!D16 -> 518 | Z13: =Y13*724.447 -> 375263.55 | AA13: =Input!E16 -> 589 | AB13: =AA13*724.447 -> 426699.28 | AC13: =Input!F16 -> 720 | AD13: =AC13*724.447 -> 521601.84 | AE13: 810 | AF13: 910 | AG13: 1080 | AH13: 1250 | AI13: 1450 | AJ13: 1610 | AK13: 1730 | AL13: 1940 | AM13: 2800 | AN13: 4164 | AO13: 9360 | AP13: 16600 | AQ13: =Input!G16 -> 1626.453 | AR13: =AQ13*724.447 -> 1178279
A14: 10080008 | B14: =Input!B17 -> 6274000 | C14: NOWOOD RIVER AT BONANZA WYO | D14: 56 | E14: WY | F14: I | G14: 1730 | H14: -107.75064 | I14: 44.216626 | J14: -107.7518 | K14: 44.210674 | L14: 669.788 | M14: N | N14: 14 | O14: 0.654 | P14: 0.052 | Q14: 1 | R14: 19100801 | S14: 19280930 | T14: 5329 | U14: 5329 | V14: 1.5 | W14: =Input!C17 -> 37.3 | X14: =W14*724.447 -> 27021.873 | Y14: =Input!D17 -> 92.5 | Z14: =Y14*724.447 -> 67011.348 | AA14: =Input!E17 -> 140 | AB14: =AA14*724.447 -> 101422.58 | AC14: =Input!F17 -> 170 | AD14: =AC14*724.447 -> 123155.99 | AE14: 182 | AF14: 197 | AG14: 210 | AH14: 232 | AI14: 289 | AJ14: 375 | AK14: 452 | AL14: 640 | AM14: 1330 | AN14: 1860 | AO14: 3050 | AP14: 4880 | AQ14: =Input!G17 -> 494.523 | AR14: =AQ14*724.447 -> 358255.7
A15: 10080009 | B15: =Input!B18 -> 6277500 | C15: GREYBULL RIVER NEAR BASIN, WYO. | D15: 56 | E15: WY | F15: I | G15: 1115 | H15: -108.18677 | I15: 44.406623 | J15: -108.18695 | K15: 44.406685 | L15: 15.78 | M15: Y | N15: 43 | O15: 0.48 | P15: 0.133 | Q15: 1 | R15: 19301001 | S15: 19730930 | T15: 15706 | U15: 15639 | V15: 0 | W15: =Input!C18 -> 0.7 | X15: =W15*724.447 -> 507.1129 | Y15: =Input!D18 -> 5.1 | Z15: =Y15*724.447 -> 3694.6797 | AA15: =Input!E18 -> 10 | AB15: =AA15*724.447 -> 7244.47 | AC15: =Input!F18 -> 27 | AD15: =AC15*724.447 -> 19560.069 | AE15: 38 | AF15: 50 | AG15: 73 | AH15: 90 | AI15: 108 | AJ15: 129 | AK15: 145 | AL15: 165 | AM15: 319 | AN15: 733.3 | AO15: 2020 | AP15: 11000 | AQ15: =Input!G18 -> 180.406 | AR15: =AQ15*724.447 -> 130694.59
A16: 10080010 | B16: =Input!B19 -> 6279500 | C16: BIGHORN RIVER AT KANE, WY | D16: 56 | E16: WY | F16: A | G16: 15762 | H16: -108.1815 | I16: 44.758566 | J16: -108.18221 | K16: 44.758701 | L16: 57.939 | M16: Y | N16: 75 | O16: 0.768 | P16: 0.086 | Q16: 1 | R16: 19281001 | S16: 20040930 | T16: 27650 | U16: 27650 | V16: 179 | W16: =Input!C19 -> 390.51 | X16: =W16*724.447 -> 282903.8 | Y16: =Input!D19 -> 620 | Z16: =Y16*724.447 -> 449157.14 | AA16: =Input!E19 -> 743.1 | AB16: =AA16*724.447 -> 538336.57 | AC16: =Input!F19 -> 960 | AD16: =AC16*724.447 -> 695469.12 | AE16: 1070 | AF16: 1170 | AG16: 1380 | AH16: 1600 | AI16: 1850 | AJ16: 2190 | AK16: 2400 | AL16: 2660 | AM16: 3930 | AN16: 6300 | AO16: 11500 | AP16: 24800 | AQ16: =Input!G19 -> 2184.59 | AR16: =AQ16*724.447 -> 1582619.7
